



BEGIN:VCALENDAR
VERSION:2.0
PRODID:-//JSMW - ECPv6.15.20//NONSGML v1.0//EN
CALSCALE:GREGORIAN
METHOD:PUBLISH
X-WR-CALNAME:JSMW
X-ORIGINAL-URL:https://www.jsmw.org
X-WR-CALDESC:Events for JSMW
REFRESH-INTERVAL;VALUE=DURATION:PT1H
X-Robots-Tag:noindex
X-PUBLISHED-TTL:PT1H
BEGIN:VTIMEZONE
TZID:America/New_York
BEGIN:DAYLIGHT
TZOFFSETFROM:-0500
TZOFFSETTO:-0400
TZNAME:EDT
DTSTART:20190310T070000
END:DAYLIGHT
BEGIN:STANDARD
TZOFFSETFROM:-0400
TZOFFSETTO:-0500
TZNAME:EST
DTSTART:20191103T060000
END:STANDARD
BEGIN:DAYLIGHT
TZOFFSETFROM:-0500
TZOFFSETTO:-0400
TZNAME:EDT
DTSTART:20200308T070000
END:DAYLIGHT
BEGIN:STANDARD
TZOFFSETFROM:-0400
TZOFFSETTO:-0500
TZNAME:EST
DTSTART:20201101T060000
END:STANDARD
BEGIN:DAYLIGHT
TZOFFSETFROM:-0500
TZOFFSETTO:-0400
TZNAME:EDT
DTSTART:20210314T070000
END:DAYLIGHT
BEGIN:STANDARD
TZOFFSETFROM:-0400
TZOFFSETTO:-0500
TZNAME:EST
DTSTART:20211107T060000
END:STANDARD
BEGIN:DAYLIGHT
TZOFFSETFROM:-0500
TZOFFSETTO:-0400
TZNAME:EDT
DTSTART:20220313T070000
END:DAYLIGHT
BEGIN:STANDARD
TZOFFSETFROM:-0400
TZOFFSETTO:-0500
TZNAME:EST
DTSTART:20221106T060000
END:STANDARD
END:VTIMEZONE
BEGIN:VEVENT
DTSTART;VALUE=DATE:20210612
DTEND;VALUE=DATE:20210613
DTSTAMP:20260420T111224
CREATED:20210610T021749Z
LAST-MODIFIED:20210610T023341Z
UID:10000379-1623456000-1623542399@www.jsmw.org
SUMMARY:JSMW Career Fair
DESCRIPTION:JSMW Career Fair\n \n\n																										 \nInformation Sessions Schedule \n\n\n\n\nMedical \n\n\n9 – 10:30 AM \n\n\n\n\nArts \n\n\n10:30 – 11:30 AM \n\n\n\n\nTech \n\n\n12:30 – 2 PM \n\n\n\n\nLaw/Government \n\n\n2 – 3 PM \n\n\n\n\nBusiness \n\n\n3 – 4 PM \n\n\n\n\nRegistration Link
URL:https://www.jsmw.org/event/jsmw-career-fair/
LOCATION:Virtual Meeting
END:VEVENT
BEGIN:VEVENT
DTSTART;TZID=America/New_York:20210425T100000
DTEND;TZID=America/New_York:20210425T140000
DTSTAMP:20260420T111224
CREATED:20210418T211314Z
LAST-MODIFIED:20230909T054821Z
UID:10000376-1619344800-1619359200@www.jsmw.org
SUMMARY:Mahavir Janma Kalyanak Celebrations
DESCRIPTION:Mahavir Janma Kalyanak Celebration 2021\n*** This is a one of a kind MJK news program!  You don’t want to miss it!!*** \nJSMW Pathshala students have prepared unique items\, Sangh members are sharing their personal stories\, and we’ll be having live broadcasts from our field reporters!!!   \n												\n		Zoom: Meeting ID: 913 6499 0936 | Passcode: jsmw Note: For optimal viewing experience\, we recommend you watch the program via a tablet or laptop.  Select “Speaker View” in your Zoom meeting.  Also\, it is highly recommended to update your Zoom software to the latest version.Live Streaming on YouTube: 
URL:https://www.jsmw.org/event/mjk2021/
LOCATION:Virtual Meeting
CATEGORIES:Traditions
ORGANIZER;CN="JSMW Executive Committee":MAILTO:ec@jainsocietydc.org
END:VEVENT
BEGIN:VEVENT
DTSTART;TZID=America/New_York:20210314T103000
DTEND;TZID=America/New_York:20210314T123000
DTSTAMP:20260420T111224
CREATED:20210225T015649Z
LAST-MODIFIED:20210314T074349Z
UID:10000375-1615717800-1615725000@www.jsmw.org
SUMMARY:Dayro -  A Musical Event with Bhanubhai Vora Group
DESCRIPTION:
URL:https://www.jsmw.org/event/dayro-march2021/
LOCATION:Virtual Meeting
CATEGORIES:New Jain Center
ORGANIZER;CN="JSMW Executive Committee":MAILTO:ec@jainsocietydc.org
END:VEVENT
BEGIN:VEVENT
DTSTART;TZID=America/New_York:20210117T103000
DTEND;TZID=America/New_York:20210117T120000
DTSTAMP:20260420T111224
CREATED:20210104T214303Z
LAST-MODIFIED:20210117T212744Z
UID:10000368-1610879400-1610884800@www.jsmw.org
SUMMARY:Be Informed- Covid 19 Vaccination
DESCRIPTION:Please join us as we discuss the novel Coronavirus pandemic and the newly approved vaccines available. The panelists will share their expertise and will be available to answer questions.\nDr. Gita Shah\, Infectious Disease Specialist  \nDr. Manu Kaushal\, Medical Director\, Medstar Medical Center  \nDr. Kinjal Sheth\, Chief of Northwest Hospital\, ICU Critical Care. \nDate: 1/17/2021 \nTime: 10.30am-12.00\n\nZoom Meeting\nhttps://zoom.us/j/91795357338?pwd=QnBWaWV0UnlCOVliSi9TZmVGbjVGQT09 \nMeeting ID: 917 9535 7338\nPasscode: 502326 \nDial by your location: +1 301 715 8592 US (Washington D.C)
URL:https://www.jsmw.org/event/be-informed-covid-19-vaccination/
LOCATION:Virtual Meeting
CATEGORIES:TodaysWomen
ORGANIZER;CN="Women's Group":MAILTO:todayswomen@jainsocietydc.org
END:VEVENT
BEGIN:VEVENT
DTSTART;TZID=America/New_York:20201213T103000
DTEND;TZID=America/New_York:20201213T120000
DTSTAMP:20260420T111224
CREATED:20201231T043919Z
LAST-MODIFIED:20230909T054815Z
UID:10000366-1607855400-1607860800@www.jsmw.org
SUMMARY:JSMW Annual General Body Meeting 2020
DESCRIPTION:JSMW Annual General Body Meeting will be held on December 13th at 10:30 AM via Zoom Call.\n\n\nTime: Dec 13\, 2020 10:30 AM Eastern Time\nZoom Meeting: https://zoom.us/j/99142037819?pwd=WE5BSzRoM3NPclB5OUhoSWlhREI5dz09\nMeeting ID: 991 4203 7819\nPasscode: 1234\nDial by Phone: +1 301 715 8592 US (Washington D.C)\n\n\n\nAgenda:\n\nNavkar Mantra\nApproval of October 15\, 2020 GBM minutes: JSMW – GBM Minutes of October 25\, 2020 – Draft.pdf\nTemple committee and construction updates\nTreasurer’s update\n2019 Audit Approval & 2020 Auditor Appointment Approval\nTrustees and fundraising update\nPresident’s updates\nMeeting Adjournment
URL:https://www.jsmw.org/event/jsmw-annual-gbm-2020/
LOCATION:Virtual Meeting
CATEGORIES:General Body Meeting
ORGANIZER;CN="JSMW Executive Committee":MAILTO:ec@jainsocietydc.org
END:VEVENT
BEGIN:VEVENT
DTSTART;TZID=America/New_York:20201115T103000
DTEND;TZID=America/New_York:20201115T120000
DTSTAMP:20260420T111224
CREATED:20201112T070912Z
LAST-MODIFIED:20201112T072632Z
UID:10000309-1605436200-1605441600@www.jsmw.org
SUMMARY:Diwali 2020 Navsmaran Jaap
DESCRIPTION:Diwali 2020 Navsmaran Jaap\nZoom Meeting: https://zoom.us/j/94064348208?pwd=TmVnTnNyRUxuUVVjcTBhZHFXWFUyZz09 \nMeeting ID: 940 6434 8208\nPasscode: 1234
URL:https://www.jsmw.org/event/diwali-2020-navsmaran-jaap/
LOCATION:Virtual Meeting
CATEGORIES:Diwali
ATTACH;FMTTYPE=image/jpeg:https://www.jsmw.org/wp-content/uploads/2020/11/navsmaran.jpg
END:VEVENT
BEGIN:VEVENT
DTSTART;TZID=America/New_York:20201115T090000
DTEND;TZID=America/New_York:20201115T120000
DTSTAMP:20260420T111224
CREATED:20201112T071134Z
LAST-MODIFIED:20201112T072654Z
UID:10000310-1605430800-1605441600@www.jsmw.org
SUMMARY:Dev Shashtra Guru Poojan
DESCRIPTION:Dev Shastra Guru Poojan\nJoin Zoom Meeting\nhttps://zoom.us/j/92122626481?pwd=T1BTdzIvZm1QcEcyL1pXNVh4WUFrdz09 \nMeeting ID: 921 2262 6481\nPasscode: 1021
URL:https://www.jsmw.org/event/dev-shashtra-guru-poojan/
LOCATION:Virtual Meeting
CATEGORIES:Poojan
ATTACH;FMTTYPE=image/png:https://www.jsmw.org/wp-content/uploads/2020/11/devshahstra-pooja.png
END:VEVENT
BEGIN:VEVENT
DTSTART;TZID=America/New_York:20201101T100000
DTEND;TZID=America/New_York:20201101T130000
DTSTAMP:20260420T111224
CREATED:20201023T052616Z
LAST-MODIFIED:20201101T050237Z
UID:10000307-1604224800-1604235600@www.jsmw.org
SUMMARY:Shubharambh
DESCRIPTION:Zoom Link \nMeeting ID: 966 1358 3978 \nPasscode: 231346 \n				\n								 \n\n					Shubhararambh – Click Here\n				\nSunday\, November 1\, 2020 at 10 pm
URL:https://www.jsmw.org/event/shubharambh/
LOCATION:Virtual Meeting
CATEGORIES:New Jain Center
ATTACH;FMTTYPE=image/png:https://www.jsmw.org/wp-content/uploads/2020/10/shubharambh.png
ORGANIZER;CN="JSMW Executive Committee":MAILTO:ec@jainsocietydc.org
END:VEVENT
BEGIN:VEVENT
DTSTART;TZID=America/New_York:20201011T130000
DTEND;TZID=America/New_York:20201011T150000
DTSTAMP:20260420T111224
CREATED:20200917T141553Z
LAST-MODIFIED:20200927T043623Z
UID:10000305-1602421200-1602428400@www.jsmw.org
SUMMARY:Virtual Warli Painting with Hiral Joshi
DESCRIPTION:About the Workshop: Learn Warli Painting\, the tribal art form from rural Maharashtra. The workshop will teach students (kids\, adults) how to use simple geometric shapes to create wonderful tableaus of art. Give your creativity a little boost and have loads of fun. \nNo experience necessary. Learn Warli painting …  Just come\, unwind and reconnect with your inner self by unleashing the creativity in you. \nAge 12 yrs and aboveNon-refundable Non-transferable Registration Fees $5.00Limit of 25 Participants onlyRegister by October 3rd\, 2020Pay by Venmo or Zelle to Mina Jain @ 301-996-8020You will receive a supply list & Zoom link once registered
URL:https://www.jsmw.org/event/virtual-warli-painting-with-hiral-joshi/
LOCATION:Virtual Meeting
CATEGORIES:TodaysWomen
ATTACH;FMTTYPE=image/png:https://www.jsmw.org/wp-content/uploads/2020/09/warli-print.png
ORGANIZER;CN="Women's Group":MAILTO:todayswomen@jainsocietydc.org
END:VEVENT
BEGIN:VEVENT
DTSTART;TZID=America/New_York:20200913T103000
DTEND;TZID=America/New_York:20200913T123000
DTSTAMP:20260420T111224
CREATED:20200817T192011Z
LAST-MODIFIED:20200922T033736Z
UID:10000300-1599993000-1600000200@www.jsmw.org
SUMMARY:Will\, Estate Planning\, Advanced Directives
DESCRIPTION:Join Jay Hymer from Schnitzer/Hymer LLC for a session to answer your questions: \n\nWhat is Living will?\nWhat is Estate Planning?\nWhat is Advanced Directives?\nWhy do I need have a Will/ Advanced Directive?\nWhat is the difference between Will & Estate Planning?\n\nVIRTUAL MEETING: ZOOM\nTopic: Estate and Living Trust Zoom Meeting\nTime: Sep 13\, 2020 10:30 AM ET
URL:https://www.jsmw.org/event/will-estate-planning-advanced-directives/
LOCATION:Virtual Meeting
CATEGORIES:TodaysWomen
ATTACH;FMTTYPE=image/jpeg:https://www.jsmw.org/wp-content/uploads/2020/08/Small-Will.jpg
END:VEVENT
BEGIN:VEVENT
DTSTART;TZID=America/New_York:20200912T140000
DTEND;TZID=America/New_York:20200912T160000
DTSTAMP:20260420T111224
CREATED:20200912T160804Z
LAST-MODIFIED:20200912T170325Z
UID:10000303-1599919200-1599926400@www.jsmw.org
SUMMARY:Tapasvi Bahuman\, Board of Trustees Update\, Pathshala Essay Awards & Graduation Celebration
DESCRIPTION:Please join us on Sept 12 at 2:00 PM for Tapasvi Bahuman\, JSMW Pathshala Essay Awards and Class G Graduation celebration.  \n\nClass G Graduation\n7th Summer Essay Competition winners\nChairman and Board of Trustees Update\nTapasvi Bahuman\nPresident’s Update\n\nWhen : Saturday\, September 12\, 2.00 PM to 3.00 PMWhere : Virtual Zoom Meeting \nClick Zoom Link: https://zoom.us/j/92754093550 \nMeeting ID: 927 5409 3550Dial-in: +13017158592\,\,92754093550# \n Look forward to seeing you all!
URL:https://www.jsmw.org/event/tapasvi-bahuman-board-of-trustees-update-pathshala-essay-awards-graduation-celebration/
LOCATION:Virtual Meeting
ATTACH;FMTTYPE=image/png:https://www.jsmw.org/wp-content/uploads/2020/09/JSMW-Event-e1599929627558.png
ORGANIZER;CN="JSMW Executive Committee":MAILTO:ec@jainsocietydc.org
END:VEVENT
BEGIN:VEVENT
DTSTART;TZID=America/New_York:20200905T083000
DTEND;TZID=America/New_York:20200905T093000
DTSTAMP:20260420T111224
CREATED:20200904T202910Z
LAST-MODIFIED:20200904T202954Z
UID:10000301-1599294600-1599298200@www.jsmw.org
SUMMARY:New Shikharbandhi Temple Contract Signing Ceremony & Manglik by Acharya Shree Chandrajitsuri Vijayji Maharaj Saheb
DESCRIPTION:Jai Jinendra! \nWith blessings from the entire Jain sangh\, and all the excitement and momentum built up towards building our New Shikharbandhi Temple\, we will be signing the construction contract this Saturday\, September 5. We want our entire sangh to be part of this milestone by joining the ceremony virtually via zoom. \nCeremony will begin with blessings and Manglik from Acharya Shree Chandrajitsuri Vijayji Maharaj Saheb followed by contract signing. Due to Covid\, we will have very few people attending the ceremony in-person at temple. \n \nVirtual Zoom Meeting – https://zoom.us/j/7595655477?pwd=RXFRSjJzOEtMMWNra3creDRScVNpZz09\nMeeting ID: 759 565 5477\nPasscode: 1008\nOne tap mobile :\n+13017158592\,\,7595655477#\,\,\,\,\,\,0#\,\,1008# US (Germantown)\n+16465588656\,\,7595655477#\,\,\,\,\,\,0#\,\,1008# US (New York) \nAgenda :\n08:30 AM to 08:50 AM – Guru Vandan & Manglik by Acharya Chandrajit Vijayji M.S. \n08:50 AM to 09:15 AM – Contract signing\nJSMW: Dr. Gita Shah – BOT Chair Designee\, Sharad Doshi – President\, Arvind Shah – Temple Committee Chair\nDD&B Contractor : Sushil Mehta\,  \nDaulat Mehta \n09:15 AM to 09:30 AM – Concluding Remarks and Announcement \n Acharya Shree Chandrajitsuri Vijayji M.S. \n Panyas Shree Indrajit Vijayji M.S \nHoping all sangh members can join and participate in this milestone event!
URL:https://www.jsmw.org/event/new-shikharbandhi-temple-contract/
LOCATION:Virtual Meeting
END:VEVENT
BEGIN:VEVENT
DTSTART;TZID=America/New_York:20200809T103000
DTEND;TZID=America/New_York:20200809T120000
DTSTAMP:20260420T111224
CREATED:20200731T091640Z
LAST-MODIFIED:20201103T052552Z
UID:10000298-1596969000-1596974400@www.jsmw.org
SUMMARY:Skin Care During Covid19
DESCRIPTION:DO  YOU KNOW WHAT IS MASKACNE\, HOW TO PREVENT IT?\nGET MAKEUP TIPS SO WHEN WE ARE READY FOR SOCIAL GATHERINGS YOU KNOW THE TRICKS?\nWOULD YOU LIKE TO KNOW STEPS FOR AT HOME FACIAL?\nPER PIGMENTATION & DARK CIRCLES AND HOW TO PREVENT?\n\nWE HAVE AN EXPERT ESTHETICIAN JAYSHREE RATHOD OWNER OF VEDIC SPA\, HELP US WITH BEAUTY TIPS .\nWHEN: AUG. 9TH\, FROM 10.30-NOON\nZOOM LINK:
URL:https://www.jsmw.org/event/skin-care-during-covid-19/
LOCATION:Virtual Meeting
CATEGORIES:TodaysWomen
ATTACH;FMTTYPE=image/jpeg:https://www.jsmw.org/wp-content/uploads/2020/07/skin-care.jpg
ORGANIZER;CN="Women's Group":MAILTO:todayswomen@jainsocietydc.org
END:VEVENT
END:VCALENDAR