



BEGIN:VCALENDAR
VERSION:2.0
PRODID:-//JSMW - ECPv6.15.20//NONSGML v1.0//EN
CALSCALE:GREGORIAN
METHOD:PUBLISH
X-ORIGINAL-URL:https://www.jsmw.org
X-WR-CALDESC:Events for JSMW
REFRESH-INTERVAL;VALUE=DURATION:PT1H
X-Robots-Tag:noindex
X-PUBLISHED-TTL:PT1H
BEGIN:VTIMEZONE
TZID:America/New_York
BEGIN:DAYLIGHT
TZOFFSETFROM:-0500
TZOFFSETTO:-0400
TZNAME:EDT
DTSTART:20180311T070000
END:DAYLIGHT
BEGIN:STANDARD
TZOFFSETFROM:-0400
TZOFFSETTO:-0500
TZNAME:EST
DTSTART:20181104T060000
END:STANDARD
BEGIN:DAYLIGHT
TZOFFSETFROM:-0500
TZOFFSETTO:-0400
TZNAME:EDT
DTSTART:20190310T070000
END:DAYLIGHT
BEGIN:STANDARD
TZOFFSETFROM:-0400
TZOFFSETTO:-0500
TZNAME:EST
DTSTART:20191103T060000
END:STANDARD
BEGIN:DAYLIGHT
TZOFFSETFROM:-0500
TZOFFSETTO:-0400
TZNAME:EDT
DTSTART:20200308T070000
END:DAYLIGHT
BEGIN:STANDARD
TZOFFSETFROM:-0400
TZOFFSETTO:-0500
TZNAME:EST
DTSTART:20201101T060000
END:STANDARD
END:VTIMEZONE
BEGIN:VEVENT
DTSTART;TZID=America/New_York:20191004T193000
DTEND;TZID=America/New_York:20191004T220000
DTSTAMP:20260422T103049
CREATED:20190731T130339Z
LAST-MODIFIED:20190914T010347Z
UID:10000350-1570217400-1570226400@www.jsmw.org
SUMMARY:Shilanyas Mahotsav Garba & Dandiya Night
DESCRIPTION:JSMW cordially invites you and your family to join Shilanyas Mahotsav weekend starting with Friday evening.  \nPlease join us for an evening of traditional Garba & Dandiya music and dance to celebrate this auspicious occasion.  \nProgram time is 7:30 pm – 10 pm \nVenue: Rockville Sportsplex\, 60 Southlawn Ct\, Rockville\, MD 20850 \nFor more information\, please contact: shilanyas.cultural@jainsocietydc.org \nPlease RSVP below. \nThis event has concluded.
URL:https://www.jsmw.org/event/save-the-date-shilanyas-mohatsav-garba-dandiya-night/
LOCATION:Rockville Sportsplex\, 60 Southlawn Ct\, Rockville\, MD\, 20850\, United States
CATEGORIES:Shilanyas Mohatsav
ATTACH;FMTTYPE=image/jpeg:https://www.jsmw.org/wp-content/uploads/2019/08/dandiya.jpg
GEO:39.1043227;-77.1304496
X-APPLE-STRUCTURED-LOCATION;VALUE=URI;X-ADDRESS=Rockville Sportsplex 60 Southlawn Ct Rockville MD 20850 United States;X-APPLE-RADIUS=500;X-TITLE=60 Southlawn Ct:geo:-77.1304496,39.1043227
END:VEVENT
END:VCALENDAR