



BEGIN:VCALENDAR
VERSION:2.0
PRODID:-//JSMW - ECPv6.15.20//NONSGML v1.0//EN
CALSCALE:GREGORIAN
METHOD:PUBLISH
X-WR-CALNAME:JSMW
X-ORIGINAL-URL:https://www.jsmw.org
X-WR-CALDESC:Events for JSMW
REFRESH-INTERVAL;VALUE=DURATION:PT1H
X-Robots-Tag:noindex
X-PUBLISHED-TTL:PT1H
BEGIN:VTIMEZONE
TZID:America/New_York
BEGIN:DAYLIGHT
TZOFFSETFROM:-0500
TZOFFSETTO:-0400
TZNAME:EDT
DTSTART:20180311T070000
END:DAYLIGHT
BEGIN:STANDARD
TZOFFSETFROM:-0400
TZOFFSETTO:-0500
TZNAME:EST
DTSTART:20181104T060000
END:STANDARD
BEGIN:DAYLIGHT
TZOFFSETFROM:-0500
TZOFFSETTO:-0400
TZNAME:EDT
DTSTART:20190310T070000
END:DAYLIGHT
BEGIN:STANDARD
TZOFFSETFROM:-0400
TZOFFSETTO:-0500
TZNAME:EST
DTSTART:20191103T060000
END:STANDARD
BEGIN:DAYLIGHT
TZOFFSETFROM:-0500
TZOFFSETTO:-0400
TZNAME:EDT
DTSTART:20200308T070000
END:DAYLIGHT
BEGIN:STANDARD
TZOFFSETFROM:-0400
TZOFFSETTO:-0500
TZNAME:EST
DTSTART:20201101T060000
END:STANDARD
END:VTIMEZONE
BEGIN:VEVENT
DTSTART;TZID=America/New_York:20191005T193000
DTEND;TZID=America/New_York:20191005T213000
DTSTAMP:20260420T102716
CREATED:20190731T134103Z
LAST-MODIFIED:20190924T055942Z
UID:10000351-1570303800-1570311000@www.jsmw.org
SUMMARY:Shilanyas Mahotsav Cultural Show Night
DESCRIPTION:JSMW cordially invites you to celebrate the Cultural Show with song\, dance and entertainment on Saturday Oct. 5th. We invite you to participate and show your talent at this historical event of JSMW. This is your time to celebrate once in a life-time occassion and share your Jain Spirit. \nDinner: 5.30 pm – 6.30 pm @ BAPS Temple\, Lower Hall \nCultural Program: 7.30 pm – 9.30 pm @ High Point High School \nCultural Program GUIDELINES \n\n\n\nVisit www.www.jsmw.org/shilanyas/cultural to register for Saturday’s Cultural program.\nEach Jain Center may have up to two items.\nA 30-second video clip of the performance and music MP3 file must either be submitted with the registration form\, or emailed to Shilanyas.Cultural@jainsociety.org by Sep 15\, ’19.\n\n\n\n\nJSMW Shilanyas Cultural committee reserves the right to cancel any performance that does not meet the spirit of the Shilanyas Mahotsav celebration or does not portray the professionalism of a formal program.
URL:https://www.jsmw.org/event/save-the-date-shilanyas-mohatsav-cultural-show-night/
LOCATION:High Point High Schol\, 3601 Powder Mill Rd #3502\, Beltsville\, MD\, 20705\, United States
CATEGORIES:Shilanyas Mohatsav
ATTACH;FMTTYPE=image/jpeg:https://www.jsmw.org/wp-content/uploads/2019/08/cultural.jpg
GEO:39.0423902;-76.9424417
X-APPLE-STRUCTURED-LOCATION;VALUE=URI;X-ADDRESS=High Point High Schol 3601 Powder Mill Rd #3502 Beltsville MD 20705 United States;X-APPLE-RADIUS=500;X-TITLE=3601 Powder Mill Rd #3502:geo:-76.9424417,39.0423902
END:VEVENT
END:VCALENDAR