



BEGIN:VCALENDAR
VERSION:2.0
PRODID:-//JSMW - ECPv6.15.20//NONSGML v1.0//EN
CALSCALE:GREGORIAN
METHOD:PUBLISH
X-ORIGINAL-URL:https://www.jsmw.org
X-WR-CALDESC:Events for JSMW
REFRESH-INTERVAL;VALUE=DURATION:PT1H
X-Robots-Tag:noindex
X-PUBLISHED-TTL:PT1H
BEGIN:VTIMEZONE
TZID:America/New_York
BEGIN:DAYLIGHT
TZOFFSETFROM:-0500
TZOFFSETTO:-0400
TZNAME:EDT
DTSTART:20250309T070000
END:DAYLIGHT
BEGIN:STANDARD
TZOFFSETFROM:-0400
TZOFFSETTO:-0500
TZNAME:EST
DTSTART:20251102T060000
END:STANDARD
BEGIN:DAYLIGHT
TZOFFSETFROM:-0500
TZOFFSETTO:-0400
TZNAME:EDT
DTSTART:20260308T070000
END:DAYLIGHT
BEGIN:STANDARD
TZOFFSETFROM:-0400
TZOFFSETTO:-0500
TZNAME:EST
DTSTART:20261101T060000
END:STANDARD
BEGIN:DAYLIGHT
TZOFFSETFROM:-0500
TZOFFSETTO:-0400
TZNAME:EDT
DTSTART:20270314T070000
END:DAYLIGHT
BEGIN:STANDARD
TZOFFSETFROM:-0400
TZOFFSETTO:-0500
TZNAME:EST
DTSTART:20271107T060000
END:STANDARD
END:VTIMEZONE
BEGIN:VEVENT
DTSTART;TZID=America/New_York:20260816T100000
DTEND;TZID=America/New_York:20260816T150000
DTSTAMP:20260423T083439
CREATED:20260422T193734Z
LAST-MODIFIED:20260422T193920Z
UID:10001143-1786874400-1786892400@www.jsmw.org
SUMMARY:JSMW Annual Picnic
DESCRIPTION:
URL:https://www.jsmw.org/event/picnic26/
LOCATION:Lake Fairfax Park\, 1400 Lake Fairfax Dr\, Reston\, VA\, 20190\, United States
GEO:38.96751;-77.3176797
X-APPLE-STRUCTURED-LOCATION;VALUE=URI;X-ADDRESS=Lake Fairfax Park 1400 Lake Fairfax Dr Reston VA 20190 United States;X-APPLE-RADIUS=500;X-TITLE=1400 Lake Fairfax Dr:geo:-77.3176797,38.96751
END:VEVENT
END:VCALENDAR