



BEGIN:VCALENDAR
VERSION:2.0
PRODID:-//JSMW - ECPv6.15.20//NONSGML v1.0//EN
CALSCALE:GREGORIAN
METHOD:PUBLISH
X-WR-CALNAME:JSMW
X-ORIGINAL-URL:https://www.jsmw.org
X-WR-CALDESC:Events for JSMW
REFRESH-INTERVAL;VALUE=DURATION:PT1H
X-Robots-Tag:noindex
X-PUBLISHED-TTL:PT1H
BEGIN:VTIMEZONE
TZID:America/New_York
BEGIN:DAYLIGHT
TZOFFSETFROM:-0500
TZOFFSETTO:-0400
TZNAME:EDT
DTSTART:20230312T070000
END:DAYLIGHT
BEGIN:STANDARD
TZOFFSETFROM:-0400
TZOFFSETTO:-0500
TZNAME:EST
DTSTART:20231105T060000
END:STANDARD
BEGIN:DAYLIGHT
TZOFFSETFROM:-0500
TZOFFSETTO:-0400
TZNAME:EDT
DTSTART:20240310T070000
END:DAYLIGHT
BEGIN:STANDARD
TZOFFSETFROM:-0400
TZOFFSETTO:-0500
TZNAME:EST
DTSTART:20241103T060000
END:STANDARD
BEGIN:DAYLIGHT
TZOFFSETFROM:-0500
TZOFFSETTO:-0400
TZNAME:EDT
DTSTART:20250309T070000
END:DAYLIGHT
BEGIN:STANDARD
TZOFFSETFROM:-0400
TZOFFSETTO:-0500
TZNAME:EST
DTSTART:20251102T060000
END:STANDARD
BEGIN:DAYLIGHT
TZOFFSETFROM:-0500
TZOFFSETTO:-0400
TZNAME:EDT
DTSTART:20260308T070000
END:DAYLIGHT
BEGIN:STANDARD
TZOFFSETFROM:-0400
TZOFFSETTO:-0500
TZNAME:EST
DTSTART:20261101T060000
END:STANDARD
END:VTIMEZONE
BEGIN:VEVENT
DTSTART;VALUE=DATE:20250323
DTEND;VALUE=DATE:20250324
DTSTAMP:20260422T175429
CREATED:20240514T033308Z
LAST-MODIFIED:20240514T033345Z
UID:10001023-1742688000-1742774399@www.jsmw.org
SUMMARY:Parthshala
DESCRIPTION:
URL:https://www.jsmw.org/event/parthshala20250323/
LOCATION:Cloverly Elementary\, 800 Briggs Chaney Rd\, Silver Spring\, MD\, 20905\, United States
GEO:39.1081739;-76.9939173
X-APPLE-STRUCTURED-LOCATION;VALUE=URI;X-ADDRESS=Cloverly Elementary 800 Briggs Chaney Rd Silver Spring MD 20905 United States;X-APPLE-RADIUS=500;X-TITLE=800 Briggs Chaney Rd:geo:-76.9939173,39.1081739
END:VEVENT
BEGIN:VEVENT
DTSTART;VALUE=DATE:20250309
DTEND;VALUE=DATE:20250310
DTSTAMP:20260422T175430
CREATED:20240514T033213Z
LAST-MODIFIED:20251212T211507Z
UID:10001022-1741478400-1741564799@www.jsmw.org
SUMMARY:Pathshala
DESCRIPTION:
URL:https://www.jsmw.org/event/pathshala20250309/
LOCATION:Cloverly Elementary\, 800 Briggs Chaney Rd\, Silver Spring\, MD\, 20905\, United States
GEO:39.1081739;-76.9939173
X-APPLE-STRUCTURED-LOCATION;VALUE=URI;X-ADDRESS=Cloverly Elementary 800 Briggs Chaney Rd Silver Spring MD 20905 United States;X-APPLE-RADIUS=500;X-TITLE=800 Briggs Chaney Rd:geo:-76.9939173,39.1081739
END:VEVENT
BEGIN:VEVENT
DTSTART;TZID=America/New_York:20250308T103000
DTEND;TZID=America/New_York:20250308T120000
DTSTAMP:20260422T175430
CREATED:20250104T033746Z
LAST-MODIFIED:20250104T034312Z
UID:10001052-1741429800-1741435200@www.jsmw.org
SUMMARY:Jinvani
DESCRIPTION:
URL:https://www.jsmw.org/event/jinvani-2025/2025-03-08/
END:VEVENT
BEGIN:VEVENT
DTSTART;VALUE=DATE:20250223
DTEND;VALUE=DATE:20250224
DTSTAMP:20260422T175430
CREATED:20240514T033000Z
LAST-MODIFIED:20251212T211506Z
UID:10001021-1740268800-1740355199@www.jsmw.org
SUMMARY:Pathshala
DESCRIPTION:
URL:https://www.jsmw.org/event/pathshala20250223/
LOCATION:Cloverly Elementary\, 800 Briggs Chaney Rd\, Silver Spring\, MD\, 20905\, United States
GEO:39.1081739;-76.9939173
X-APPLE-STRUCTURED-LOCATION;VALUE=URI;X-ADDRESS=Cloverly Elementary 800 Briggs Chaney Rd Silver Spring MD 20905 United States;X-APPLE-RADIUS=500;X-TITLE=800 Briggs Chaney Rd:geo:-76.9939173,39.1081739
END:VEVENT
BEGIN:VEVENT
DTSTART;VALUE=DATE:20250209
DTEND;VALUE=DATE:20250210
DTSTAMP:20260422T175430
CREATED:20240514T032805Z
LAST-MODIFIED:20251212T211506Z
UID:10001020-1739059200-1739145599@www.jsmw.org
SUMMARY:Pathshala
DESCRIPTION:
URL:https://www.jsmw.org/event/pathshala20250209/
LOCATION:Cloverly Elementary\, 800 Briggs Chaney Rd\, Silver Spring\, MD\, 20905\, United States
GEO:39.1081739;-76.9939173
X-APPLE-STRUCTURED-LOCATION;VALUE=URI;X-ADDRESS=Cloverly Elementary 800 Briggs Chaney Rd Silver Spring MD 20905 United States;X-APPLE-RADIUS=500;X-TITLE=800 Briggs Chaney Rd:geo:-76.9939173,39.1081739
END:VEVENT
BEGIN:VEVENT
DTSTART;TZID=America/New_York:20250208T103000
DTEND;TZID=America/New_York:20250208T120000
DTSTAMP:20260422T175430
CREATED:20250104T033746Z
LAST-MODIFIED:20250104T034312Z
UID:10001051-1739010600-1739016000@www.jsmw.org
SUMMARY:Jinvani
DESCRIPTION:
URL:https://www.jsmw.org/event/jinvani-2025/2025-02-08/
END:VEVENT
BEGIN:VEVENT
DTSTART;VALUE=DATE:20250126
DTEND;VALUE=DATE:20250127
DTSTAMP:20260422T175430
CREATED:20240514T032555Z
LAST-MODIFIED:20251212T211506Z
UID:10001019-1737849600-1737935999@www.jsmw.org
SUMMARY:Pathshala
DESCRIPTION:
URL:https://www.jsmw.org/event/pathshala20250126/
LOCATION:Cloverly Elementary\, 800 Briggs Chaney Rd\, Silver Spring\, MD\, 20905\, United States
GEO:39.1081739;-76.9939173
X-APPLE-STRUCTURED-LOCATION;VALUE=URI;X-ADDRESS=Cloverly Elementary 800 Briggs Chaney Rd Silver Spring MD 20905 United States;X-APPLE-RADIUS=500;X-TITLE=800 Briggs Chaney Rd:geo:-76.9939173,39.1081739
END:VEVENT
BEGIN:VEVENT
DTSTART;VALUE=DATE:20250112
DTEND;VALUE=DATE:20250113
DTSTAMP:20260422T175430
CREATED:20240514T032348Z
LAST-MODIFIED:20251212T211506Z
UID:10001018-1736640000-1736726399@www.jsmw.org
SUMMARY:Pathshala
DESCRIPTION:
URL:https://www.jsmw.org/event/pathshala20250112/
LOCATION:Cloverly Elementary\, 800 Briggs Chaney Rd\, Silver Spring\, MD\, 20905\, United States
GEO:39.1081739;-76.9939173
X-APPLE-STRUCTURED-LOCATION;VALUE=URI;X-ADDRESS=Cloverly Elementary 800 Briggs Chaney Rd Silver Spring MD 20905 United States;X-APPLE-RADIUS=500;X-TITLE=800 Briggs Chaney Rd:geo:-76.9939173,39.1081739
END:VEVENT
BEGIN:VEVENT
DTSTART;TZID=America/New_York:20250111T103000
DTEND;TZID=America/New_York:20250111T120000
DTSTAMP:20260422T175430
CREATED:20250104T033746Z
LAST-MODIFIED:20250104T034312Z
UID:10001050-1736591400-1736596800@www.jsmw.org
SUMMARY:Jinvani
DESCRIPTION:
URL:https://www.jsmw.org/event/jinvani-2025/2025-01-11/
END:VEVENT
BEGIN:VEVENT
DTSTART;VALUE=DATE:20250105
DTEND;VALUE=DATE:20250106
DTSTAMP:20260422T175430
CREATED:20240514T032215Z
LAST-MODIFIED:20240514T032431Z
UID:10001017-1736035200-1736121599@www.jsmw.org
SUMMARY:Pathshala
DESCRIPTION:
URL:https://www.jsmw.org/event/pathshala20250105/
LOCATION:Cloverly Elementary\, 800 Briggs Chaney Rd\, Silver Spring\, MD\, 20905\, United States
GEO:39.1081739;-76.9939173
X-APPLE-STRUCTURED-LOCATION;VALUE=URI;X-ADDRESS=Cloverly Elementary 800 Briggs Chaney Rd Silver Spring MD 20905 United States;X-APPLE-RADIUS=500;X-TITLE=800 Briggs Chaney Rd:geo:-76.9939173,39.1081739
END:VEVENT
BEGIN:VEVENT
DTSTART;TZID=America/New_York:20250101T100000
DTEND;TZID=America/New_York:20250101T140000
DTSTAMP:20260422T175430
CREATED:20240108T045223Z
LAST-MODIFIED:20251212T211506Z
UID:10000624-1735725600-1735740000@www.jsmw.org
SUMMARY:Mahaveer Nirvaan/Diwali Pooja
DESCRIPTION:
URL:https://www.jsmw.org/event/20250101/
END:VEVENT
BEGIN:VEVENT
DTSTART;VALUE=DATE:20241215
DTEND;VALUE=DATE:20241216
DTSTAMP:20260422T175430
CREATED:20240514T032028Z
LAST-MODIFIED:20240514T032100Z
UID:10001016-1734220800-1734307199@www.jsmw.org
SUMMARY:Pathshala
DESCRIPTION:
URL:https://www.jsmw.org/event/pathshala20241215/
LOCATION:Cloverly Elementary\, 800 Briggs Chaney Rd\, Silver Spring\, MD\, 20905\, United States
GEO:39.1081739;-76.9939173
X-APPLE-STRUCTURED-LOCATION;VALUE=URI;X-ADDRESS=Cloverly Elementary 800 Briggs Chaney Rd Silver Spring MD 20905 United States;X-APPLE-RADIUS=500;X-TITLE=800 Briggs Chaney Rd:geo:-76.9939173,39.1081739
END:VEVENT
BEGIN:VEVENT
DTSTART;TZID=America/New_York:20241208T103000
DTEND;TZID=America/New_York:20241208T140000
DTSTAMP:20260422T175430
CREATED:20250804T143922Z
LAST-MODIFIED:20250804T144122Z
UID:10001067-1733653800-1733666400@www.jsmw.org
SUMMARY:Snatra Puja
DESCRIPTION:
URL:https://www.jsmw.org/event/snatra_puja_202412-2/
LOCATION:Jain Center\, 4241 Ammendale Road\, Beltsville\, MD\, 20705\, United States
GEO:39.1049945;-76.9916225
X-APPLE-STRUCTURED-LOCATION;VALUE=URI;X-ADDRESS=Jain Center 4241 Ammendale Road Beltsville MD 20705 United States;X-APPLE-RADIUS=500;X-TITLE=4241 Ammendale Road:geo:-76.9916225,39.1049945
END:VEVENT
BEGIN:VEVENT
DTSTART;TZID=America/New_York:20241208T103000
DTEND;TZID=America/New_York:20241208T140000
DTSTAMP:20260422T175430
CREATED:20240105T034907Z
LAST-MODIFIED:20250805T105409Z
UID:10000608-1733653800-1733666400@www.jsmw.org
SUMMARY:Snatra Puja
DESCRIPTION:
URL:https://www.jsmw.org/event/snatra_puja_202412/
LOCATION:Jain Center\, 4241 Ammendale Road\, Beltsville\, MD\, 20705\, United States
GEO:39.1049945;-76.9916225
X-APPLE-STRUCTURED-LOCATION;VALUE=URI;X-ADDRESS=Jain Center 4241 Ammendale Road Beltsville MD 20705 United States;X-APPLE-RADIUS=500;X-TITLE=4241 Ammendale Road:geo:-76.9916225,39.1049945
END:VEVENT
BEGIN:VEVENT
DTSTART;VALUE=DATE:20241208
DTEND;VALUE=DATE:20241209
DTSTAMP:20260422T175430
CREATED:20240514T031745Z
LAST-MODIFIED:20240514T031745Z
UID:10001015-1733616000-1733702399@www.jsmw.org
SUMMARY:Pathshala
DESCRIPTION:
URL:https://www.jsmw.org/event/pathshala20241208/
LOCATION:Cloverly Elementary\, 800 Briggs Chaney Rd\, Silver Spring\, MD\, 20905\, United States
GEO:39.1081739;-76.9939173
X-APPLE-STRUCTURED-LOCATION;VALUE=URI;X-ADDRESS=Cloverly Elementary 800 Briggs Chaney Rd Silver Spring MD 20905 United States;X-APPLE-RADIUS=500;X-TITLE=800 Briggs Chaney Rd:geo:-76.9939173,39.1081739
END:VEVENT
BEGIN:VEVENT
DTSTART;VALUE=DATE:20241124
DTEND;VALUE=DATE:20241125
DTSTAMP:20260422T175430
CREATED:20240514T031611Z
LAST-MODIFIED:20251212T211506Z
UID:10001014-1732406400-1732492799@www.jsmw.org
SUMMARY:Pathshala
DESCRIPTION:
URL:https://www.jsmw.org/event/pathshala20241124/
LOCATION:Cloverly Elementary\, 800 Briggs Chaney Rd\, Silver Spring\, MD\, 20905\, United States
GEO:39.1081739;-76.9939173
X-APPLE-STRUCTURED-LOCATION;VALUE=URI;X-ADDRESS=Cloverly Elementary 800 Briggs Chaney Rd Silver Spring MD 20905 United States;X-APPLE-RADIUS=500;X-TITLE=800 Briggs Chaney Rd:geo:-76.9939173,39.1081739
END:VEVENT
BEGIN:VEVENT
DTSTART;VALUE=DATE:20241117
DTEND;VALUE=DATE:20241118
DTSTAMP:20260422T175430
CREATED:20240514T031336Z
LAST-MODIFIED:20240514T031413Z
UID:10001013-1731801600-1731887999@www.jsmw.org
SUMMARY:Pathshala
DESCRIPTION:
URL:https://www.jsmw.org/event/pathshala20241117/
LOCATION:Cloverly Elementary\, 800 Briggs Chaney Rd\, Silver Spring\, MD\, 20905\, United States
GEO:39.1081739;-76.9939173
X-APPLE-STRUCTURED-LOCATION;VALUE=URI;X-ADDRESS=Cloverly Elementary 800 Briggs Chaney Rd Silver Spring MD 20905 United States;X-APPLE-RADIUS=500;X-TITLE=800 Briggs Chaney Rd:geo:-76.9939173,39.1081739
END:VEVENT
BEGIN:VEVENT
DTSTART;TZID=America/New_York:20241110T103000
DTEND;TZID=America/New_York:20241110T140000
DTSTAMP:20260422T175430
CREATED:20240105T034823Z
LAST-MODIFIED:20251212T211507Z
UID:10000607-1731234600-1731247200@www.jsmw.org
SUMMARY:Snatra Puja
DESCRIPTION:
URL:https://www.jsmw.org/event/snatra_puja_202411/
LOCATION:Jain Center\, 4241 Ammendale Road\, Beltsville\, MD\, 20705\, United States
GEO:39.1049945;-76.9916225
X-APPLE-STRUCTURED-LOCATION;VALUE=URI;X-ADDRESS=Jain Center 4241 Ammendale Road Beltsville MD 20705 United States;X-APPLE-RADIUS=500;X-TITLE=4241 Ammendale Road:geo:-76.9916225,39.1049945
END:VEVENT
BEGIN:VEVENT
DTSTART;VALUE=DATE:20241103
DTEND;VALUE=DATE:20241104
DTSTAMP:20260422T175430
CREATED:20240514T031138Z
LAST-MODIFIED:20251212T211506Z
UID:10001012-1730592000-1730678399@www.jsmw.org
SUMMARY:Pathshala & Diwali Celebration
DESCRIPTION:
URL:https://www.jsmw.org/event/pathshala20241103/
LOCATION:Cloverly Elementary\, 800 Briggs Chaney Rd\, Silver Spring\, MD\, 20905\, United States
GEO:39.1081739;-76.9939173
X-APPLE-STRUCTURED-LOCATION;VALUE=URI;X-ADDRESS=Cloverly Elementary 800 Briggs Chaney Rd Silver Spring MD 20905 United States;X-APPLE-RADIUS=500;X-TITLE=800 Briggs Chaney Rd:geo:-76.9939173,39.1081739
END:VEVENT
BEGIN:VEVENT
DTSTART;TZID=America/New_York:20241101T080000
DTEND;TZID=America/New_York:20241101T140000
DTSTAMP:20260422T175430
CREATED:20240108T045123Z
LAST-MODIFIED:20251212T211506Z
UID:10000623-1730448000-1730469600@www.jsmw.org
SUMMARY:Mahaveer Nirvaan/Diwali Pooja
DESCRIPTION:
URL:https://www.jsmw.org/event/20241101/
END:VEVENT
BEGIN:VEVENT
DTSTART;TZID=America/New_York:20241020T090000
DTEND;TZID=America/New_York:20241020T190000
DTSTAMP:20260422T175430
CREATED:20241009T053544Z
LAST-MODIFIED:20241009T053551Z
UID:10001042-1729414800-1729450800@www.jsmw.org
SUMMARY:Jajam Utsav & Bhaktamar Poojan
DESCRIPTION:
URL:https://www.jsmw.org/event/20241020/
END:VEVENT
BEGIN:VEVENT
DTSTART;VALUE=DATE:20241020
DTEND;VALUE=DATE:20241021
DTSTAMP:20260422T175430
CREATED:20240514T031008Z
LAST-MODIFIED:20251212T211506Z
UID:10001011-1729382400-1729468799@www.jsmw.org
SUMMARY:Pathshala
DESCRIPTION:
URL:https://www.jsmw.org/event/pathshala20241020/
END:VEVENT
BEGIN:VEVENT
DTSTART;TZID=America/New_York:20241019T140000
DTEND;TZID=America/New_York:20241019T190000
DTSTAMP:20260422T175430
CREATED:20241009T053439Z
LAST-MODIFIED:20241009T053454Z
UID:10001041-1729346400-1729364400@www.jsmw.org
SUMMARY:Jajam Utsav - Bhimo Kundaliyo Natak
DESCRIPTION:
URL:https://www.jsmw.org/event/20241019/
END:VEVENT
BEGIN:VEVENT
DTSTART;TZID=America/New_York:20241018T190000
DTEND;TZID=America/New_York:20241018T210000
DTSTAMP:20260422T175430
CREATED:20241009T053313Z
LAST-MODIFIED:20241009T053313Z
UID:10001040-1729278000-1729285200@www.jsmw.org
SUMMARY:Jajam Utsav - Bhakti Sangeet
DESCRIPTION:
URL:https://www.jsmw.org/event/20241018/
LOCATION:Jain Center\, 4241 Ammendale Road\, Beltsville\, MD\, 20705\, United States
GEO:39.1049945;-76.9916225
X-APPLE-STRUCTURED-LOCATION;VALUE=URI;X-ADDRESS=Jain Center 4241 Ammendale Road Beltsville MD 20705 United States;X-APPLE-RADIUS=500;X-TITLE=4241 Ammendale Road:geo:-76.9916225,39.1049945
END:VEVENT
BEGIN:VEVENT
DTSTART;VALUE=DATE:20241017
DTEND;VALUE=DATE:20241018
DTSTAMP:20260422T175430
CREATED:20240131T063356Z
LAST-MODIFIED:20240410T005040Z
UID:10001001-1729166400-1729173600@www.jsmw.org
SUMMARY:Ayambil Oli
DESCRIPTION:
URL:https://www.jsmw.org/event/ayambil-oli-3/2024-10-17/
END:VEVENT
BEGIN:VEVENT
DTSTART;VALUE=DATE:20241016
DTEND;VALUE=DATE:20241017
DTSTAMP:20260422T175430
CREATED:20240131T063356Z
LAST-MODIFIED:20240410T005040Z
UID:10001000-1729080000-1729087200@www.jsmw.org
SUMMARY:Ayambil Oli
DESCRIPTION:
URL:https://www.jsmw.org/event/ayambil-oli-3/2024-10-16/
END:VEVENT
BEGIN:VEVENT
DTSTART;VALUE=DATE:20241015
DTEND;VALUE=DATE:20241016
DTSTAMP:20260422T175430
CREATED:20240131T063356Z
LAST-MODIFIED:20240410T005040Z
UID:10000999-1728993600-1729000800@www.jsmw.org
SUMMARY:Ayambil Oli
DESCRIPTION:
URL:https://www.jsmw.org/event/ayambil-oli-3/2024-10-15/
END:VEVENT
BEGIN:VEVENT
DTSTART;VALUE=DATE:20241014
DTEND;VALUE=DATE:20241015
DTSTAMP:20260422T175430
CREATED:20240131T063356Z
LAST-MODIFIED:20240410T005040Z
UID:10000998-1728907200-1728914400@www.jsmw.org
SUMMARY:Ayambil Oli
DESCRIPTION:
URL:https://www.jsmw.org/event/ayambil-oli-3/2024-10-14/
END:VEVENT
BEGIN:VEVENT
DTSTART;VALUE=DATE:20241013
DTEND;VALUE=DATE:20241014
DTSTAMP:20260422T175430
CREATED:20240131T063356Z
LAST-MODIFIED:20240410T005040Z
UID:10000997-1728820800-1728828000@www.jsmw.org
SUMMARY:Ayambil Oli
DESCRIPTION:
URL:https://www.jsmw.org/event/ayambil-oli-3/2024-10-13/
END:VEVENT
BEGIN:VEVENT
DTSTART;TZID=America/New_York:20241013T103000
DTEND;TZID=America/New_York:20241013T140000
DTSTAMP:20260422T175430
CREATED:20240105T034751Z
LAST-MODIFIED:20251212T211506Z
UID:10000606-1728815400-1728828000@www.jsmw.org
SUMMARY:Snatra Puja
DESCRIPTION:
URL:https://www.jsmw.org/event/snatra_puja_202410/
LOCATION:Jain Center\, 4241 Ammendale Road\, Beltsville\, MD\, 20705\, United States
GEO:39.1049945;-76.9916225
X-APPLE-STRUCTURED-LOCATION;VALUE=URI;X-ADDRESS=Jain Center 4241 Ammendale Road Beltsville MD 20705 United States;X-APPLE-RADIUS=500;X-TITLE=4241 Ammendale Road:geo:-76.9916225,39.1049945
END:VEVENT
END:VCALENDAR