



BEGIN:VCALENDAR
VERSION:2.0
PRODID:-//JSMW - ECPv6.15.20//NONSGML v1.0//EN
CALSCALE:GREGORIAN
METHOD:PUBLISH
X-ORIGINAL-URL:https://www.jsmw.org
X-WR-CALDESC:Events for JSMW
REFRESH-INTERVAL;VALUE=DURATION:PT1H
X-Robots-Tag:noindex
X-PUBLISHED-TTL:PT1H
BEGIN:VTIMEZONE
TZID:America/New_York
BEGIN:DAYLIGHT
TZOFFSETFROM:-0500
TZOFFSETTO:-0400
TZNAME:EDT
DTSTART:20250309T070000
END:DAYLIGHT
BEGIN:STANDARD
TZOFFSETFROM:-0400
TZOFFSETTO:-0500
TZNAME:EST
DTSTART:20251102T060000
END:STANDARD
BEGIN:DAYLIGHT
TZOFFSETFROM:-0500
TZOFFSETTO:-0400
TZNAME:EDT
DTSTART:20260308T070000
END:DAYLIGHT
BEGIN:STANDARD
TZOFFSETFROM:-0400
TZOFFSETTO:-0500
TZNAME:EST
DTSTART:20261101T060000
END:STANDARD
BEGIN:DAYLIGHT
TZOFFSETFROM:-0500
TZOFFSETTO:-0400
TZNAME:EDT
DTSTART:20270314T070000
END:DAYLIGHT
BEGIN:STANDARD
TZOFFSETFROM:-0400
TZOFFSETTO:-0500
TZNAME:EST
DTSTART:20271107T060000
END:STANDARD
END:VTIMEZONE
BEGIN:VEVENT
DTSTART;TZID=America/New_York:20260614T103000
DTEND;TZID=America/New_York:20260614T140000
DTSTAMP:20260420T015143
CREATED:20250804T150514Z
LAST-MODIFIED:20260212T031642Z
UID:10001124-1781433000-1781445600@www.jsmw.org
SUMMARY:Snatra Puja
DESCRIPTION:WebSite: https://www.jsmw.org/pathshala/  \nTime: \n\n9:15 am – 10:10 am: Gujarati/Hindi Language Class\n10:15 am – 10:30 am :  Morning Assembly\n10:30 am  – 12:00 pm :  Pathshala Class\n\nLocation:Jain Center4241 Ammendale Road\, Beltsville MD 20705 \nPathshala Schedule for 2025-2026: \n\nSept 1\, 21\nOct 5\, 19\nNov 2\, 16\nDec 7\, 14*\nJan 11\, 25\nFeb 8\, 22\nMar 8\, 22\nApr 12\, 26\nMay 3*\, 17\nJun 7\n\n* Asterisk dates are back to backRed Dates are Tithi
URL:https://www.jsmw.org/event/snatra_puja_2026/2026-06-14/
LOCATION:New Jain Temple Site\, 4241 Ammendale Rd\, Beltsville\, MD\, 20705\, United States
GEO:39.0530946;-76.9180071
X-APPLE-STRUCTURED-LOCATION;VALUE=URI;X-ADDRESS=New Jain Temple Site 4241 Ammendale Rd Beltsville MD 20705 United States;X-APPLE-RADIUS=500;X-TITLE=4241 Ammendale Rd:geo:-76.9180071,39.0530946
END:VEVENT
BEGIN:VEVENT
DTSTART;TZID=America/New_York:20260619T080000
DTEND;TZID=America/New_York:20260621T150000
DTSTAMP:20260420T015143
CREATED:20260416T175055Z
LAST-MODIFIED:20260416T211758Z
UID:10001138-1781856000-1782054000@www.jsmw.org
SUMMARY:Dhwaja Aarohan
DESCRIPTION:WebSite: https://www.jsmw.org/pathshala/  \nTime: \n\n9:15 am – 10:10 am: Gujarati/Hindi Language Class\n10:15 am – 10:30 am :  Morning Assembly\n10:30 am  – 12:00 pm :  Pathshala Class\n\nLocation:Jain Center4241 Ammendale Road\, Beltsville MD 20705 \nPathshala Schedule for 2025-2026: \n\nSept 1\, 21\nOct 5\, 19\nNov 2\, 16\nDec 7\, 14*\nJan 11\, 25\nFeb 8\, 22\nMar 8\, 22\nApr 12\, 26\nMay 3*\, 17\nJun 7\n\n* Asterisk dates are back to backRed Dates are Tithi
URL:https://www.jsmw.org/event/dhwaja-aarohan/
LOCATION:Jain Center\, 4241 Ammendale Road\, Beltsville\, MD\, 20705\, United States
GEO:39.1049945;-76.9916225
X-APPLE-STRUCTURED-LOCATION;VALUE=URI;X-ADDRESS=Jain Center 4241 Ammendale Road Beltsville MD 20705 United States;X-APPLE-RADIUS=500;X-TITLE=4241 Ammendale Road:geo:-76.9916225,39.1049945
END:VEVENT
BEGIN:VEVENT
DTSTART;TZID=America/New_York:20260628T100000
DTEND;TZID=America/New_York:20260628T140000
DTSTAMP:20260420T015143
CREATED:20240108T042654Z
LAST-MODIFIED:20260130T234339Z
UID:10001131-1782640800-1782655200@www.jsmw.org
SUMMARY:Dev Shastra Guru Puja
DESCRIPTION:WebSite: https://www.jsmw.org/pathshala/  \nTime: \n\n9:15 am – 10:10 am: Gujarati/Hindi Language Class\n10:15 am – 10:30 am :  Morning Assembly\n10:30 am  – 12:00 pm :  Pathshala Class\n\nLocation:Jain Center4241 Ammendale Road\, Beltsville MD 20705 \nPathshala Schedule for 2025-2026: \n\nSept 1\, 21\nOct 5\, 19\nNov 2\, 16\nDec 7\, 14*\nJan 11\, 25\nFeb 8\, 22\nMar 8\, 22\nApr 12\, 26\nMay 3*\, 17\nJun 7\n\n* Asterisk dates are back to backRed Dates are Tithi
URL:https://www.jsmw.org/event/dsgp_2026/2026-06-28/
LOCATION:MD
END:VEVENT
BEGIN:VEVENT
DTSTART;TZID=America/New_York:20260711T100000
DTEND;TZID=America/New_York:20260711T120000
DTSTAMP:20260420T015143
CREATED:20260123T035146Z
LAST-MODIFIED:20260130T225742Z
UID:10001114-1783764000-1783771200@www.jsmw.org
SUMMARY:Jinvani
DESCRIPTION:WebSite: https://www.jsmw.org/pathshala/  \nTime: \n\n9:15 am – 10:10 am: Gujarati/Hindi Language Class\n10:15 am – 10:30 am :  Morning Assembly\n10:30 am  – 12:00 pm :  Pathshala Class\n\nLocation:Jain Center4241 Ammendale Road\, Beltsville MD 20705 \nPathshala Schedule for 2025-2026: \n\nSept 1\, 21\nOct 5\, 19\nNov 2\, 16\nDec 7\, 14*\nJan 11\, 25\nFeb 8\, 22\nMar 8\, 22\nApr 12\, 26\nMay 3*\, 17\nJun 7\n\n* Asterisk dates are back to backRed Dates are Tithi
URL:https://www.jsmw.org/event/jinvani-2026/2026-07-11/
LOCATION:New Jain Temple Site\, 4241 Ammendale Rd\, Beltsville\, MD\, 20705\, United States
GEO:39.0530946;-76.9180071
X-APPLE-STRUCTURED-LOCATION;VALUE=URI;X-ADDRESS=New Jain Temple Site 4241 Ammendale Rd Beltsville MD 20705 United States;X-APPLE-RADIUS=500;X-TITLE=4241 Ammendale Rd:geo:-76.9180071,39.0530946
END:VEVENT
BEGIN:VEVENT
DTSTART;TZID=America/New_York:20260712T103000
DTEND;TZID=America/New_York:20260712T140000
DTSTAMP:20260420T015144
CREATED:20250804T150514Z
LAST-MODIFIED:20260212T031642Z
UID:10001125-1783852200-1783864800@www.jsmw.org
SUMMARY:Snatra Puja
DESCRIPTION:WebSite: https://www.jsmw.org/pathshala/  \nTime: \n\n9:15 am – 10:10 am: Gujarati/Hindi Language Class\n10:15 am – 10:30 am :  Morning Assembly\n10:30 am  – 12:00 pm :  Pathshala Class\n\nLocation:Jain Center4241 Ammendale Road\, Beltsville MD 20705 \nPathshala Schedule for 2025-2026: \n\nSept 1\, 21\nOct 5\, 19\nNov 2\, 16\nDec 7\, 14*\nJan 11\, 25\nFeb 8\, 22\nMar 8\, 22\nApr 12\, 26\nMay 3*\, 17\nJun 7\n\n* Asterisk dates are back to backRed Dates are Tithi
URL:https://www.jsmw.org/event/snatra_puja_2026/2026-07-12/
LOCATION:New Jain Temple Site\, 4241 Ammendale Rd\, Beltsville\, MD\, 20705\, United States
GEO:39.0530946;-76.9180071
X-APPLE-STRUCTURED-LOCATION;VALUE=URI;X-ADDRESS=New Jain Temple Site 4241 Ammendale Rd Beltsville MD 20705 United States;X-APPLE-RADIUS=500;X-TITLE=4241 Ammendale Rd:geo:-76.9180071,39.0530946
END:VEVENT
BEGIN:VEVENT
DTSTART;TZID=America/New_York:20260726T100000
DTEND;TZID=America/New_York:20260726T140000
DTSTAMP:20260420T015144
CREATED:20240108T042654Z
LAST-MODIFIED:20260130T234339Z
UID:10001132-1785060000-1785074400@www.jsmw.org
SUMMARY:Dev Shastra Guru Puja
DESCRIPTION:WebSite: https://www.jsmw.org/pathshala/  \nTime: \n\n9:15 am – 10:10 am: Gujarati/Hindi Language Class\n10:15 am – 10:30 am :  Morning Assembly\n10:30 am  – 12:00 pm :  Pathshala Class\n\nLocation:Jain Center4241 Ammendale Road\, Beltsville MD 20705 \nPathshala Schedule for 2025-2026: \n\nSept 1\, 21\nOct 5\, 19\nNov 2\, 16\nDec 7\, 14*\nJan 11\, 25\nFeb 8\, 22\nMar 8\, 22\nApr 12\, 26\nMay 3*\, 17\nJun 7\n\n* Asterisk dates are back to backRed Dates are Tithi
URL:https://www.jsmw.org/event/dsgp_2026/2026-07-26/
LOCATION:MD
END:VEVENT
BEGIN:VEVENT
DTSTART;TZID=America/New_York:20260808T100000
DTEND;TZID=America/New_York:20260808T120000
DTSTAMP:20260420T015144
CREATED:20260123T035146Z
LAST-MODIFIED:20260130T225742Z
UID:10001115-1786183200-1786190400@www.jsmw.org
SUMMARY:Jinvani
DESCRIPTION:WebSite: https://www.jsmw.org/pathshala/  \nTime: \n\n9:15 am – 10:10 am: Gujarati/Hindi Language Class\n10:15 am – 10:30 am :  Morning Assembly\n10:30 am  – 12:00 pm :  Pathshala Class\n\nLocation:Jain Center4241 Ammendale Road\, Beltsville MD 20705 \nPathshala Schedule for 2025-2026: \n\nSept 1\, 21\nOct 5\, 19\nNov 2\, 16\nDec 7\, 14*\nJan 11\, 25\nFeb 8\, 22\nMar 8\, 22\nApr 12\, 26\nMay 3*\, 17\nJun 7\n\n* Asterisk dates are back to backRed Dates are Tithi
URL:https://www.jsmw.org/event/jinvani-2026/2026-08-08/
LOCATION:New Jain Temple Site\, 4241 Ammendale Rd\, Beltsville\, MD\, 20705\, United States
GEO:39.0530946;-76.9180071
X-APPLE-STRUCTURED-LOCATION;VALUE=URI;X-ADDRESS=New Jain Temple Site 4241 Ammendale Rd Beltsville MD 20705 United States;X-APPLE-RADIUS=500;X-TITLE=4241 Ammendale Rd:geo:-76.9180071,39.0530946
END:VEVENT
BEGIN:VEVENT
DTSTART;TZID=America/New_York:20260809T103000
DTEND;TZID=America/New_York:20260809T140000
DTSTAMP:20260420T015144
CREATED:20250804T150514Z
LAST-MODIFIED:20260212T031642Z
UID:10001126-1786271400-1786284000@www.jsmw.org
SUMMARY:Snatra Puja
DESCRIPTION:WebSite: https://www.jsmw.org/pathshala/  \nTime: \n\n9:15 am – 10:10 am: Gujarati/Hindi Language Class\n10:15 am – 10:30 am :  Morning Assembly\n10:30 am  – 12:00 pm :  Pathshala Class\n\nLocation:Jain Center4241 Ammendale Road\, Beltsville MD 20705 \nPathshala Schedule for 2025-2026: \n\nSept 1\, 21\nOct 5\, 19\nNov 2\, 16\nDec 7\, 14*\nJan 11\, 25\nFeb 8\, 22\nMar 8\, 22\nApr 12\, 26\nMay 3*\, 17\nJun 7\n\n* Asterisk dates are back to backRed Dates are Tithi
URL:https://www.jsmw.org/event/snatra_puja_2026/2026-08-09/
LOCATION:New Jain Temple Site\, 4241 Ammendale Rd\, Beltsville\, MD\, 20705\, United States
GEO:39.0530946;-76.9180071
X-APPLE-STRUCTURED-LOCATION;VALUE=URI;X-ADDRESS=New Jain Temple Site 4241 Ammendale Rd Beltsville MD 20705 United States;X-APPLE-RADIUS=500;X-TITLE=4241 Ammendale Rd:geo:-76.9180071,39.0530946
END:VEVENT
BEGIN:VEVENT
DTSTART;TZID=America/New_York:20260823T100000
DTEND;TZID=America/New_York:20260823T140000
DTSTAMP:20260420T015144
CREATED:20240108T042654Z
LAST-MODIFIED:20260130T234339Z
UID:10001133-1787479200-1787493600@www.jsmw.org
SUMMARY:Dev Shastra Guru Puja
DESCRIPTION:WebSite: https://www.jsmw.org/pathshala/  \nTime: \n\n9:15 am – 10:10 am: Gujarati/Hindi Language Class\n10:15 am – 10:30 am :  Morning Assembly\n10:30 am  – 12:00 pm :  Pathshala Class\n\nLocation:Jain Center4241 Ammendale Road\, Beltsville MD 20705 \nPathshala Schedule for 2025-2026: \n\nSept 1\, 21\nOct 5\, 19\nNov 2\, 16\nDec 7\, 14*\nJan 11\, 25\nFeb 8\, 22\nMar 8\, 22\nApr 12\, 26\nMay 3*\, 17\nJun 7\n\n* Asterisk dates are back to backRed Dates are Tithi
URL:https://www.jsmw.org/event/dsgp_2026/2026-08-23/
LOCATION:MD
END:VEVENT
BEGIN:VEVENT
DTSTART;TZID=America/New_York:20261010T100000
DTEND;TZID=America/New_York:20261010T120000
DTSTAMP:20260420T015144
CREATED:20260123T035146Z
LAST-MODIFIED:20260130T225742Z
UID:10001116-1791626400-1791633600@www.jsmw.org
SUMMARY:Jinvani
DESCRIPTION:WebSite: https://www.jsmw.org/pathshala/  \nTime: \n\n9:15 am – 10:10 am: Gujarati/Hindi Language Class\n10:15 am – 10:30 am :  Morning Assembly\n10:30 am  – 12:00 pm :  Pathshala Class\n\nLocation:Jain Center4241 Ammendale Road\, Beltsville MD 20705 \nPathshala Schedule for 2025-2026: \n\nSept 1\, 21\nOct 5\, 19\nNov 2\, 16\nDec 7\, 14*\nJan 11\, 25\nFeb 8\, 22\nMar 8\, 22\nApr 12\, 26\nMay 3*\, 17\nJun 7\n\n* Asterisk dates are back to backRed Dates are Tithi
URL:https://www.jsmw.org/event/jinvani-2026/2026-10-10/
LOCATION:New Jain Temple Site\, 4241 Ammendale Rd\, Beltsville\, MD\, 20705\, United States
GEO:39.0530946;-76.9180071
X-APPLE-STRUCTURED-LOCATION;VALUE=URI;X-ADDRESS=New Jain Temple Site 4241 Ammendale Rd Beltsville MD 20705 United States;X-APPLE-RADIUS=500;X-TITLE=4241 Ammendale Rd:geo:-76.9180071,39.0530946
END:VEVENT
BEGIN:VEVENT
DTSTART;TZID=America/New_York:20261025T100000
DTEND;TZID=America/New_York:20261025T140000
DTSTAMP:20260420T015144
CREATED:20240108T042654Z
LAST-MODIFIED:20260130T234339Z
UID:10001134-1792922400-1792936800@www.jsmw.org
SUMMARY:Dev Shastra Guru Puja
DESCRIPTION:WebSite: https://www.jsmw.org/pathshala/  \nTime: \n\n9:15 am – 10:10 am: Gujarati/Hindi Language Class\n10:15 am – 10:30 am :  Morning Assembly\n10:30 am  – 12:00 pm :  Pathshala Class\n\nLocation:Jain Center4241 Ammendale Road\, Beltsville MD 20705 \nPathshala Schedule for 2025-2026: \n\nSept 1\, 21\nOct 5\, 19\nNov 2\, 16\nDec 7\, 14*\nJan 11\, 25\nFeb 8\, 22\nMar 8\, 22\nApr 12\, 26\nMay 3*\, 17\nJun 7\n\n* Asterisk dates are back to backRed Dates are Tithi
URL:https://www.jsmw.org/event/dsgp_2026/2026-10-25/
LOCATION:MD
END:VEVENT
BEGIN:VEVENT
DTSTART;TZID=America/New_York:20261114T100000
DTEND;TZID=America/New_York:20261114T120000
DTSTAMP:20260420T015144
CREATED:20260123T035146Z
LAST-MODIFIED:20260130T225742Z
UID:10001117-1794650400-1794657600@www.jsmw.org
SUMMARY:Jinvani
DESCRIPTION:WebSite: https://www.jsmw.org/pathshala/  \nTime: \n\n9:15 am – 10:10 am: Gujarati/Hindi Language Class\n10:15 am – 10:30 am :  Morning Assembly\n10:30 am  – 12:00 pm :  Pathshala Class\n\nLocation:Jain Center4241 Ammendale Road\, Beltsville MD 20705 \nPathshala Schedule for 2025-2026: \n\nSept 1\, 21\nOct 5\, 19\nNov 2\, 16\nDec 7\, 14*\nJan 11\, 25\nFeb 8\, 22\nMar 8\, 22\nApr 12\, 26\nMay 3*\, 17\nJun 7\n\n* Asterisk dates are back to backRed Dates are Tithi
URL:https://www.jsmw.org/event/jinvani-2026/2026-11-14/
LOCATION:New Jain Temple Site\, 4241 Ammendale Rd\, Beltsville\, MD\, 20705\, United States
GEO:39.0530946;-76.9180071
X-APPLE-STRUCTURED-LOCATION;VALUE=URI;X-ADDRESS=New Jain Temple Site 4241 Ammendale Rd Beltsville MD 20705 United States;X-APPLE-RADIUS=500;X-TITLE=4241 Ammendale Rd:geo:-76.9180071,39.0530946
END:VEVENT
BEGIN:VEVENT
DTSTART;TZID=America/New_York:20261122T100000
DTEND;TZID=America/New_York:20261122T140000
DTSTAMP:20260420T015144
CREATED:20240108T042654Z
LAST-MODIFIED:20260130T234339Z
UID:10001135-1795341600-1795356000@www.jsmw.org
SUMMARY:Dev Shastra Guru Puja
DESCRIPTION:WebSite: https://www.jsmw.org/pathshala/  \nTime: \n\n9:15 am – 10:10 am: Gujarati/Hindi Language Class\n10:15 am – 10:30 am :  Morning Assembly\n10:30 am  – 12:00 pm :  Pathshala Class\n\nLocation:Jain Center4241 Ammendale Road\, Beltsville MD 20705 \nPathshala Schedule for 2025-2026: \n\nSept 1\, 21\nOct 5\, 19\nNov 2\, 16\nDec 7\, 14*\nJan 11\, 25\nFeb 8\, 22\nMar 8\, 22\nApr 12\, 26\nMay 3*\, 17\nJun 7\n\n* Asterisk dates are back to backRed Dates are Tithi
URL:https://www.jsmw.org/event/dsgp_2026/2026-11-22/
LOCATION:MD
END:VEVENT
BEGIN:VEVENT
DTSTART;TZID=America/New_York:20261212T100000
DTEND;TZID=America/New_York:20261212T120000
DTSTAMP:20260420T015144
CREATED:20260123T035146Z
LAST-MODIFIED:20260130T225742Z
UID:10001118-1797069600-1797076800@www.jsmw.org
SUMMARY:Jinvani
DESCRIPTION:WebSite: https://www.jsmw.org/pathshala/  \nTime: \n\n9:15 am – 10:10 am: Gujarati/Hindi Language Class\n10:15 am – 10:30 am :  Morning Assembly\n10:30 am  – 12:00 pm :  Pathshala Class\n\nLocation:Jain Center4241 Ammendale Road\, Beltsville MD 20705 \nPathshala Schedule for 2025-2026: \n\nSept 1\, 21\nOct 5\, 19\nNov 2\, 16\nDec 7\, 14*\nJan 11\, 25\nFeb 8\, 22\nMar 8\, 22\nApr 12\, 26\nMay 3*\, 17\nJun 7\n\n* Asterisk dates are back to backRed Dates are Tithi
URL:https://www.jsmw.org/event/jinvani-2026/2026-12-12/
LOCATION:New Jain Temple Site\, 4241 Ammendale Rd\, Beltsville\, MD\, 20705\, United States
GEO:39.0530946;-76.9180071
X-APPLE-STRUCTURED-LOCATION;VALUE=URI;X-ADDRESS=New Jain Temple Site 4241 Ammendale Rd Beltsville MD 20705 United States;X-APPLE-RADIUS=500;X-TITLE=4241 Ammendale Rd:geo:-76.9180071,39.0530946
END:VEVENT
END:VCALENDAR