



BEGIN:VCALENDAR
VERSION:2.0
PRODID:-//JSMW - ECPv6.15.20//NONSGML v1.0//EN
CALSCALE:GREGORIAN
METHOD:PUBLISH
X-WR-CALNAME:JSMW
X-ORIGINAL-URL:https://www.jsmw.org
X-WR-CALDESC:Events for JSMW
REFRESH-INTERVAL;VALUE=DURATION:PT1H
X-Robots-Tag:noindex
X-PUBLISHED-TTL:PT1H
BEGIN:VTIMEZONE
TZID:America/New_York
BEGIN:DAYLIGHT
TZOFFSETFROM:-0500
TZOFFSETTO:-0400
TZNAME:EDT
DTSTART:20210314T070000
END:DAYLIGHT
BEGIN:STANDARD
TZOFFSETFROM:-0400
TZOFFSETTO:-0500
TZNAME:EST
DTSTART:20211107T060000
END:STANDARD
BEGIN:DAYLIGHT
TZOFFSETFROM:-0500
TZOFFSETTO:-0400
TZNAME:EDT
DTSTART:20220313T070000
END:DAYLIGHT
BEGIN:STANDARD
TZOFFSETFROM:-0400
TZOFFSETTO:-0500
TZNAME:EST
DTSTART:20221106T060000
END:STANDARD
BEGIN:DAYLIGHT
TZOFFSETFROM:-0500
TZOFFSETTO:-0400
TZNAME:EDT
DTSTART:20230312T070000
END:DAYLIGHT
BEGIN:STANDARD
TZOFFSETFROM:-0400
TZOFFSETTO:-0500
TZNAME:EST
DTSTART:20231105T060000
END:STANDARD
BEGIN:DAYLIGHT
TZOFFSETFROM:-0500
TZOFFSETTO:-0400
TZNAME:EDT
DTSTART:20240310T070000
END:DAYLIGHT
BEGIN:STANDARD
TZOFFSETFROM:-0400
TZOFFSETTO:-0500
TZNAME:EST
DTSTART:20241103T060000
END:STANDARD
END:VTIMEZONE
BEGIN:VEVENT
DTSTART;TZID=America/New_York:20230311T103000
DTEND;TZID=America/New_York:20230311T120000
DTSTAMP:20260423T012413
CREATED:20230130T044313Z
LAST-MODIFIED:20251212T211506Z
UID:10000489-1678530600-1678536000@www.jsmw.org
SUMMARY:Jinvani
DESCRIPTION:Monthly Jinvani\nTime: 10:30am – 12:00pm EST\nLocation: Jain Center\, 1021 Briggs Chaney Road\, Silver Spring MD 20905 \nRSVP Link: https://docs.google.com/forms/d/e/1FAIpQLScdsvhqW2rD7iHPxN22TWpkKuDNMkPeHrpdLVuBIh-izretTw/viewform \n2023 Dates: \n\nMarch 11\nApril 8\nMay 6\nJune 10\nJuly 8\nAugust 12\nSeptember 9\nOctober 14\nNovember 11\nDecember 9
URL:https://www.jsmw.org/event/jinvani_202303/
END:VEVENT
BEGIN:VEVENT
DTSTART;TZID=America/New_York:20230226T100000
DTEND;TZID=America/New_York:20230226T140000
DTSTAMP:20260423T012413
CREATED:20230214T050120Z
LAST-MODIFIED:20230909T054817Z
UID:10000392-1677405600-1677420000@www.jsmw.org
SUMMARY:Dev Shastra Guru Puja
DESCRIPTION:Dev Shashtra Guru Puja\nMonthly Puja\nTime: 10:00am – 2:00pm\nLocation: Jain Center \nContact:\nSamir Tatiya | samir.tatiya@gmail.com | 703-388-6249\nAatam Dhanote | adhanote@gmail.com \nThis puja honors the Dev\, Shastra\, and Guru.\n– Dev means God or Arihant or Siddha\n– Shastra means Scripturesa\n– Guru means Teachers or one who possesses “real knowledge.” \nBy honoring Dev\, Shastra\, and Guru\, we draw attention to these three entities as a means for our path to liberation. \n2023 Dates \nApril 2 – Mahaveer Jayanti Puja\nMay 28 – Monthly Puja\nJune 25 – Monthly Puja\nJuly 23 – Monthly Puja\nAugust 27 – Monthly Puja\nSeptember 23 – Dus Lakshan Puja\nSeptember 24 – Dus Lakshan Puja\nSeptember 30 – Kshamavani Puja\nOctober 22 – Monthly Puja\nNovember 13 – Mahaveer Nirvaan/Diwali Puja\nNovember 26 – Monthly Puja
URL:https://www.jsmw.org/event/dev-shastra-guru-puja/
END:VEVENT
BEGIN:VEVENT
DTSTART;TZID=America/New_York:20230211T103000
DTEND;TZID=America/New_York:20230211T120000
DTSTAMP:20260423T012413
CREATED:20230122T044222Z
LAST-MODIFIED:20230909T054817Z
UID:10000488-1676111400-1676116800@www.jsmw.org
SUMMARY:Jinvani
DESCRIPTION:Monthly Jinvani \nOur next monthly Jinvani event will be held on February 11th Saturday at 10:30am at our Jain Center located at 1021 Briggs Chaney Road\, Silver Spring MD 20905. \nAgenda for the Jinvani Event:\nTBD \nPlease Rsvp by clicking below link. \nhttps://docs.google.com/forms/d/e/1FAIpQLScdsvhqW2rD7iHPxN22TWpkKuDNMkPeHrpdLVuBIh-izretTw/viewform \n 
URL:https://www.jsmw.org/event/jinvani-2/
END:VEVENT
BEGIN:VEVENT
DTSTART;TZID=America/New_York:20230205T104500
DTEND;TZID=America/New_York:20230205T114500
DTSTAMP:20260423T012413
CREATED:20230203T042836Z
LAST-MODIFIED:20230203T044428Z
UID:10000390-1675593900-1675597500@www.jsmw.org
SUMMARY:Sunday Speaker Series
DESCRIPTION:Zoom Meeting\nhttps://us06web.zoom.us/j/87332882067?pwd=eEJ0TTlQTlIyelViU3ArRGNaU2FlZz09 \nMeeting ID: 873 3288 2067\nPasscode: 964109a \n\n\n\nOn Sunday\, February 5 from 10:45-11:45 a.m.\, Today’s Woman Today’s Girl is hosting the next Speaker Series event highlighting the All of Us Research Program\, the important health research conducted using All of Us data\, and how to increase South Asian representation in research. \nThe discussion features Irene Prabhu Das\, PhD\, MPH\, Health Scientist Administrator at the All of Us Research Program with a background in cancer prevention research and public health\, and Hiral Master\, PT\, PhD\, MPH\, Senior Scientific Project Manager at Vanderbilt University Medical Center whose research uses All of Us data to study the link between physical activity and chronic disease.
URL:https://www.jsmw.org/event/elementor-33798/
END:VEVENT
BEGIN:VEVENT
DTSTART;TZID=America/New_York:20221211T103000
DTEND;TZID=America/New_York:20221211T140000
DTSTAMP:20260423T012413
CREATED:20220316T045349Z
LAST-MODIFIED:20220316T045349Z
UID:10000442-1670754600-1670767200@www.jsmw.org
SUMMARY:Snatra Pooja
DESCRIPTION:Monthly Snatra Pooja (2nd Sunday of Each Month) \nTime: 10:30am – 2pm \nLocation: 1021 Briggs Chaney Rd\, Silver Spring\, MD 20905
URL:https://www.jsmw.org/event/snatra-pooja-8/
LOCATION:Jain Center\, 4241 Ammendale Road\, Beltsville\, MD\, 20705\, United States
GEO:39.1049945;-76.9916225
X-APPLE-STRUCTURED-LOCATION;VALUE=URI;X-ADDRESS=Jain Center 4241 Ammendale Road Beltsville MD 20705 United States;X-APPLE-RADIUS=500;X-TITLE=4241 Ammendale Road:geo:-76.9916225,39.1049945
END:VEVENT
BEGIN:VEVENT
DTSTART;TZID=America/New_York:20221210T103000
DTEND;TZID=America/New_York:20221210T120000
DTSTAMP:20260423T012413
CREATED:20220314T044828Z
LAST-MODIFIED:20221003T194445Z
UID:10000431-1670668200-1670673600@www.jsmw.org
SUMMARY:Jinvani
DESCRIPTION:Monthly Jinvani Event\nTime: 10:30am – 12:00pm \nLocation: Jain Center\, 1021 Briggs Chaney Rd\, Silver Spring\, MD 20905 \nAgenda:\nWe will do Samayak follow by Rohitbhai Gandhi’s lecture on Aymbil Oli.\n\nPlease RSVP by clicking below link.\n\nhttps://docs.google.com/forms/d/e/1FAIpQLScdsvhqW2rD7iHPxN22TWpkKuDNMkPeHrpdLVuBIh-izretTw/viewform\nContact: Yash Mehta @ 240-678-9342
URL:https://www.jsmw.org/event/jinvani20221008/2022-12-10/
LOCATION:Jain Center\, 4241 Ammendale Road\, Beltsville\, MD\, 20705\, United States
GEO:39.1049945;-76.9916225
X-APPLE-STRUCTURED-LOCATION;VALUE=URI;X-ADDRESS=Jain Center 4241 Ammendale Road Beltsville MD 20705 United States;X-APPLE-RADIUS=500;X-TITLE=4241 Ammendale Road:geo:-76.9916225,39.1049945
END:VEVENT
BEGIN:VEVENT
DTSTART;TZID=America/New_York:20221113T103000
DTEND;TZID=America/New_York:20221113T140000
DTSTAMP:20260423T012413
CREATED:20220316T045238Z
LAST-MODIFIED:20220316T045238Z
UID:10000441-1668335400-1668348000@www.jsmw.org
SUMMARY:Snatra Pooja
DESCRIPTION:Monthly Snatra Pooja (2nd Sunday of Each Month) \nTime: 10:30am – 2pm \nLocation: 1021 Briggs Chaney Rd\, Silver Spring\, MD 20905
URL:https://www.jsmw.org/event/snatra-pooja-7/
LOCATION:Jain Center\, 4241 Ammendale Road\, Beltsville\, MD\, 20705\, United States
GEO:39.1049945;-76.9916225
X-APPLE-STRUCTURED-LOCATION;VALUE=URI;X-ADDRESS=Jain Center 4241 Ammendale Road Beltsville MD 20705 United States;X-APPLE-RADIUS=500;X-TITLE=4241 Ammendale Road:geo:-76.9916225,39.1049945
END:VEVENT
BEGIN:VEVENT
DTSTART;TZID=America/New_York:20221112T103000
DTEND;TZID=America/New_York:20221112T120000
DTSTAMP:20260423T012413
CREATED:20220314T044828Z
LAST-MODIFIED:20221003T194445Z
UID:10000430-1668249000-1668254400@www.jsmw.org
SUMMARY:Jinvani
DESCRIPTION:Monthly Jinvani Event\nTime: 10:30am – 12:00pm \nLocation: Jain Center\, 1021 Briggs Chaney Rd\, Silver Spring\, MD 20905 \nAgenda:\nWe will do Samayak follow by Rohitbhai Gandhi’s lecture on Aymbil Oli.\n\nPlease RSVP by clicking below link.\n\nhttps://docs.google.com/forms/d/e/1FAIpQLScdsvhqW2rD7iHPxN22TWpkKuDNMkPeHrpdLVuBIh-izretTw/viewform\nContact: Yash Mehta @ 240-678-9342
URL:https://www.jsmw.org/event/jinvani20221008/2022-11-12/
LOCATION:Jain Center\, 4241 Ammendale Road\, Beltsville\, MD\, 20705\, United States
GEO:39.1049945;-76.9916225
X-APPLE-STRUCTURED-LOCATION;VALUE=URI;X-ADDRESS=Jain Center 4241 Ammendale Road Beltsville MD 20705 United States;X-APPLE-RADIUS=500;X-TITLE=4241 Ammendale Road:geo:-76.9916225,39.1049945
END:VEVENT
BEGIN:VEVENT
DTSTART;TZID=America/New_York:20221026T200000
DTEND;TZID=America/New_York:20221026T220000
DTSTAMP:20260423T012413
CREATED:20221024T145928Z
LAST-MODIFIED:20221025T030018Z
UID:10000486-1666814400-1666821600@www.jsmw.org
SUMMARY:Navsmaran Jaap
DESCRIPTION:It is belived that in reciting the Nav-Smaran\, negative karmic particles that are believed to act as obstacles on the path to success\, health\, longevity\, and peach are removed. \nNOTE:  A professional film crew will be present at our temple during Navsmaran
URL:https://www.jsmw.org/event/navsmaran-jaap/
LOCATION:Jain Center\, 4241 Ammendale Road\, Beltsville\, MD\, 20705\, United States
GEO:39.1049945;-76.9916225
X-APPLE-STRUCTURED-LOCATION;VALUE=URI;X-ADDRESS=Jain Center 4241 Ammendale Road Beltsville MD 20705 United States;X-APPLE-RADIUS=500;X-TITLE=4241 Ammendale Road:geo:-76.9916225,39.1049945
END:VEVENT
BEGIN:VEVENT
DTSTART;TZID=America/New_York:20221015T100000
DTEND;TZID=America/New_York:20221015T160000
DTSTAMP:20260423T012413
CREATED:20220314T040707Z
LAST-MODIFIED:20240807T070239Z
UID:10000422-1665828000-1665849600@www.jsmw.org
SUMMARY:Annual Walk-A-Thon & Picnic
DESCRIPTION:Additional information to follow \n 
URL:https://www.jsmw.org/event/walkathon2022/
END:VEVENT
BEGIN:VEVENT
DTSTART;TZID=America/New_York:20221009T120000
DTEND;TZID=America/New_York:20221009T140000
DTSTAMP:20260423T012413
CREATED:20221001T033101Z
LAST-MODIFIED:20221004T145949Z
UID:10000484-1665316800-1665324000@www.jsmw.org
SUMMARY:Navpad Ayambil Oli
DESCRIPTION:Sign up for Ayambil\nhttps://www.signupgenius.com/go/508054CA5AE2FA02-ayambil2\nContact:- Vaishali Chheda – 410-564-4758
URL:https://www.jsmw.org/event/navpad_oli2022/2022-10-09/
LOCATION:Jain Center\, 4241 Ammendale Road\, Beltsville\, MD\, 20705\, United States
ATTACH;FMTTYPE=image/png:https://www.jsmw.org/wp-content/uploads/2022/09/Navpad-Ayambil-Oli.png
GEO:39.1049945;-76.9916225
X-APPLE-STRUCTURED-LOCATION;VALUE=URI;X-ADDRESS=Jain Center 4241 Ammendale Road Beltsville MD 20705 United States;X-APPLE-RADIUS=500;X-TITLE=4241 Ammendale Road:geo:-76.9916225,39.1049945
END:VEVENT
BEGIN:VEVENT
DTSTART;TZID=America/New_York:20221009T103000
DTEND;TZID=America/New_York:20221009T140000
DTSTAMP:20260423T012413
CREATED:20220316T045140Z
LAST-MODIFIED:20220316T045140Z
UID:10000440-1665311400-1665324000@www.jsmw.org
SUMMARY:Snatra Pooja
DESCRIPTION:Monthly Snatra Pooja (2nd Sunday of Each Month) \nTime: 10:30am – 2pm \nLocation: 1021 Briggs Chaney Rd\, Silver Spring\, MD 20905
URL:https://www.jsmw.org/event/snatra-pooja-6/
LOCATION:Jain Center\, 4241 Ammendale Road\, Beltsville\, MD\, 20705\, United States
GEO:39.1049945;-76.9916225
X-APPLE-STRUCTURED-LOCATION;VALUE=URI;X-ADDRESS=Jain Center 4241 Ammendale Road Beltsville MD 20705 United States;X-APPLE-RADIUS=500;X-TITLE=4241 Ammendale Road:geo:-76.9916225,39.1049945
END:VEVENT
BEGIN:VEVENT
DTSTART;TZID=America/New_York:20221008T120000
DTEND;TZID=America/New_York:20221008T140000
DTSTAMP:20260423T012413
CREATED:20221001T033101Z
LAST-MODIFIED:20221004T145949Z
UID:10000483-1665230400-1665237600@www.jsmw.org
SUMMARY:Navpad Ayambil Oli
DESCRIPTION:Sign up for Ayambil\nhttps://www.signupgenius.com/go/508054CA5AE2FA02-ayambil2\nContact:- Vaishali Chheda – 410-564-4758
URL:https://www.jsmw.org/event/navpad_oli2022/2022-10-08/
LOCATION:Jain Center\, 4241 Ammendale Road\, Beltsville\, MD\, 20705\, United States
ATTACH;FMTTYPE=image/png:https://www.jsmw.org/wp-content/uploads/2022/09/Navpad-Ayambil-Oli.png
GEO:39.1049945;-76.9916225
X-APPLE-STRUCTURED-LOCATION;VALUE=URI;X-ADDRESS=Jain Center 4241 Ammendale Road Beltsville MD 20705 United States;X-APPLE-RADIUS=500;X-TITLE=4241 Ammendale Road:geo:-76.9916225,39.1049945
END:VEVENT
BEGIN:VEVENT
DTSTART;TZID=America/New_York:20221008T103000
DTEND;TZID=America/New_York:20221008T120000
DTSTAMP:20260423T012413
CREATED:20220314T044828Z
LAST-MODIFIED:20221003T194445Z
UID:10000429-1665225000-1665230400@www.jsmw.org
SUMMARY:Jinvani
DESCRIPTION:Monthly Jinvani Event\nTime: 10:30am – 12:00pm \nLocation: Jain Center\, 1021 Briggs Chaney Rd\, Silver Spring\, MD 20905 \nAgenda:\nWe will do Samayak follow by Rohitbhai Gandhi’s lecture on Aymbil Oli.\n\nPlease RSVP by clicking below link.\n\nhttps://docs.google.com/forms/d/e/1FAIpQLScdsvhqW2rD7iHPxN22TWpkKuDNMkPeHrpdLVuBIh-izretTw/viewform\nContact: Yash Mehta @ 240-678-9342
URL:https://www.jsmw.org/event/jinvani20221008/2022-10-08/
LOCATION:Jain Center\, 4241 Ammendale Road\, Beltsville\, MD\, 20705\, United States
GEO:39.1049945;-76.9916225
X-APPLE-STRUCTURED-LOCATION;VALUE=URI;X-ADDRESS=Jain Center 4241 Ammendale Road Beltsville MD 20705 United States;X-APPLE-RADIUS=500;X-TITLE=4241 Ammendale Road:geo:-76.9916225,39.1049945
END:VEVENT
BEGIN:VEVENT
DTSTART;TZID=America/New_York:20221007T120000
DTEND;TZID=America/New_York:20221007T140000
DTSTAMP:20260423T012413
CREATED:20221001T033101Z
LAST-MODIFIED:20221004T145949Z
UID:10000482-1665144000-1665151200@www.jsmw.org
SUMMARY:Navpad Ayambil Oli
DESCRIPTION:Sign up for Ayambil\nhttps://www.signupgenius.com/go/508054CA5AE2FA02-ayambil2\nContact:- Vaishali Chheda – 410-564-4758
URL:https://www.jsmw.org/event/navpad_oli2022/2022-10-07/
LOCATION:Jain Center\, 4241 Ammendale Road\, Beltsville\, MD\, 20705\, United States
ATTACH;FMTTYPE=image/png:https://www.jsmw.org/wp-content/uploads/2022/09/Navpad-Ayambil-Oli.png
GEO:39.1049945;-76.9916225
X-APPLE-STRUCTURED-LOCATION;VALUE=URI;X-ADDRESS=Jain Center 4241 Ammendale Road Beltsville MD 20705 United States;X-APPLE-RADIUS=500;X-TITLE=4241 Ammendale Road:geo:-76.9916225,39.1049945
END:VEVENT
BEGIN:VEVENT
DTSTART;TZID=America/New_York:20221006T120000
DTEND;TZID=America/New_York:20221006T140000
DTSTAMP:20260423T012413
CREATED:20221001T033101Z
LAST-MODIFIED:20221004T145949Z
UID:10000481-1665057600-1665064800@www.jsmw.org
SUMMARY:Navpad Ayambil Oli
DESCRIPTION:Sign up for Ayambil\nhttps://www.signupgenius.com/go/508054CA5AE2FA02-ayambil2\nContact:- Vaishali Chheda – 410-564-4758
URL:https://www.jsmw.org/event/navpad_oli2022/2022-10-06/
LOCATION:Jain Center\, 4241 Ammendale Road\, Beltsville\, MD\, 20705\, United States
ATTACH;FMTTYPE=image/png:https://www.jsmw.org/wp-content/uploads/2022/09/Navpad-Ayambil-Oli.png
GEO:39.1049945;-76.9916225
X-APPLE-STRUCTURED-LOCATION;VALUE=URI;X-ADDRESS=Jain Center 4241 Ammendale Road Beltsville MD 20705 United States;X-APPLE-RADIUS=500;X-TITLE=4241 Ammendale Road:geo:-76.9916225,39.1049945
END:VEVENT
BEGIN:VEVENT
DTSTART;TZID=America/New_York:20221005T120000
DTEND;TZID=America/New_York:20221005T140000
DTSTAMP:20260423T012413
CREATED:20221001T033101Z
LAST-MODIFIED:20221004T145949Z
UID:10000480-1664971200-1664978400@www.jsmw.org
SUMMARY:Navpad Ayambil Oli
DESCRIPTION:Sign up for Ayambil\nhttps://www.signupgenius.com/go/508054CA5AE2FA02-ayambil2\nContact:- Vaishali Chheda – 410-564-4758
URL:https://www.jsmw.org/event/navpad_oli2022/2022-10-05/
LOCATION:Jain Center\, 4241 Ammendale Road\, Beltsville\, MD\, 20705\, United States
ATTACH;FMTTYPE=image/png:https://www.jsmw.org/wp-content/uploads/2022/09/Navpad-Ayambil-Oli.png
GEO:39.1049945;-76.9916225
X-APPLE-STRUCTURED-LOCATION;VALUE=URI;X-ADDRESS=Jain Center 4241 Ammendale Road Beltsville MD 20705 United States;X-APPLE-RADIUS=500;X-TITLE=4241 Ammendale Road:geo:-76.9916225,39.1049945
END:VEVENT
BEGIN:VEVENT
DTSTART;TZID=America/New_York:20221004T120000
DTEND;TZID=America/New_York:20221004T140000
DTSTAMP:20260423T012413
CREATED:20221001T033101Z
LAST-MODIFIED:20221004T145949Z
UID:10000479-1664884800-1664892000@www.jsmw.org
SUMMARY:Navpad Ayambil Oli
DESCRIPTION:Sign up for Ayambil\nhttps://www.signupgenius.com/go/508054CA5AE2FA02-ayambil2\nContact:- Vaishali Chheda – 410-564-4758
URL:https://www.jsmw.org/event/navpad_oli2022/2022-10-04/
LOCATION:Jain Center\, 4241 Ammendale Road\, Beltsville\, MD\, 20705\, United States
ATTACH;FMTTYPE=image/png:https://www.jsmw.org/wp-content/uploads/2022/09/Navpad-Ayambil-Oli.png
GEO:39.1049945;-76.9916225
X-APPLE-STRUCTURED-LOCATION;VALUE=URI;X-ADDRESS=Jain Center 4241 Ammendale Road Beltsville MD 20705 United States;X-APPLE-RADIUS=500;X-TITLE=4241 Ammendale Road:geo:-76.9916225,39.1049945
END:VEVENT
BEGIN:VEVENT
DTSTART;TZID=America/New_York:20221003T120000
DTEND;TZID=America/New_York:20221003T140000
DTSTAMP:20260423T012413
CREATED:20221001T033101Z
LAST-MODIFIED:20221004T145949Z
UID:10000478-1664798400-1664805600@www.jsmw.org
SUMMARY:Navpad Ayambil Oli
DESCRIPTION:Sign up for Ayambil\nhttps://www.signupgenius.com/go/508054CA5AE2FA02-ayambil2\nContact:- Vaishali Chheda – 410-564-4758
URL:https://www.jsmw.org/event/navpad_oli2022/2022-10-03/
LOCATION:Jain Center\, 4241 Ammendale Road\, Beltsville\, MD\, 20705\, United States
ATTACH;FMTTYPE=image/png:https://www.jsmw.org/wp-content/uploads/2022/09/Navpad-Ayambil-Oli.png
GEO:39.1049945;-76.9916225
X-APPLE-STRUCTURED-LOCATION;VALUE=URI;X-ADDRESS=Jain Center 4241 Ammendale Road Beltsville MD 20705 United States;X-APPLE-RADIUS=500;X-TITLE=4241 Ammendale Road:geo:-76.9916225,39.1049945
END:VEVENT
BEGIN:VEVENT
DTSTART;TZID=America/New_York:20221002T120000
DTEND;TZID=America/New_York:20221002T140000
DTSTAMP:20260423T012413
CREATED:20221001T033101Z
LAST-MODIFIED:20221004T145949Z
UID:10000477-1664712000-1664719200@www.jsmw.org
SUMMARY:Navpad Ayambil Oli
DESCRIPTION:Sign up for Ayambil\nhttps://www.signupgenius.com/go/508054CA5AE2FA02-ayambil2\nContact:- Vaishali Chheda – 410-564-4758
URL:https://www.jsmw.org/event/navpad_oli2022/2022-10-02/
LOCATION:Jain Center\, 4241 Ammendale Road\, Beltsville\, MD\, 20705\, United States
ATTACH;FMTTYPE=image/png:https://www.jsmw.org/wp-content/uploads/2022/09/Navpad-Ayambil-Oli.png
GEO:39.1049945;-76.9916225
X-APPLE-STRUCTURED-LOCATION;VALUE=URI;X-ADDRESS=Jain Center 4241 Ammendale Road Beltsville MD 20705 United States;X-APPLE-RADIUS=500;X-TITLE=4241 Ammendale Road:geo:-76.9916225,39.1049945
END:VEVENT
BEGIN:VEVENT
DTSTART;TZID=America/New_York:20221001T120000
DTEND;TZID=America/New_York:20221001T140000
DTSTAMP:20260423T012413
CREATED:20221001T033101Z
LAST-MODIFIED:20221004T145949Z
UID:10000476-1664625600-1664632800@www.jsmw.org
SUMMARY:Navpad Ayambil Oli
DESCRIPTION:Sign up for Ayambil\nhttps://www.signupgenius.com/go/508054CA5AE2FA02-ayambil2\nContact:- Vaishali Chheda – 410-564-4758
URL:https://www.jsmw.org/event/navpad_oli2022/2022-10-01/
LOCATION:Jain Center\, 4241 Ammendale Road\, Beltsville\, MD\, 20705\, United States
ATTACH;FMTTYPE=image/png:https://www.jsmw.org/wp-content/uploads/2022/09/Navpad-Ayambil-Oli.png
GEO:39.1049945;-76.9916225
X-APPLE-STRUCTURED-LOCATION;VALUE=URI;X-ADDRESS=Jain Center 4241 Ammendale Road Beltsville MD 20705 United States;X-APPLE-RADIUS=500;X-TITLE=4241 Ammendale Road:geo:-76.9916225,39.1049945
END:VEVENT
BEGIN:VEVENT
DTSTART;TZID=America/New_York:20220910T103000
DTEND;TZID=America/New_York:20220910T120000
DTSTAMP:20260423T012413
CREATED:20220314T044720Z
LAST-MODIFIED:20220730T021256Z
UID:10000428-1662805800-1662811200@www.jsmw.org
SUMMARY:Jinvani
DESCRIPTION:Monthly Jinvani Event\nTime: 10:30am – 12:00 pm \nLocation: Jain Center\, 1021 Briggs Chaney Rd\, Silver Spring\, MD 20905 \nContact: Yash Mehta @ 240-678-9342
URL:https://www.jsmw.org/event/jinvani20220910/
LOCATION:Jain Center\, 4241 Ammendale Road\, Beltsville\, MD\, 20705\, United States
GEO:39.1049945;-76.9916225
X-APPLE-STRUCTURED-LOCATION;VALUE=URI;X-ADDRESS=Jain Center 4241 Ammendale Road Beltsville MD 20705 United States;X-APPLE-RADIUS=500;X-TITLE=4241 Ammendale Road:geo:-76.9916225,39.1049945
END:VEVENT
BEGIN:VEVENT
DTSTART;VALUE=DATE:20220824
DTEND;VALUE=DATE:20220902
DTSTAMP:20260423T012413
CREATED:20220822T034408Z
LAST-MODIFIED:20230909T054815Z
UID:10000455-1661299200-1662076799@www.jsmw.org
SUMMARY:Paryushan
DESCRIPTION:Paryushan Program Details: Click Here
URL:https://www.jsmw.org/event/paryushan/
ATTACH;FMTTYPE=image/png:https://www.jsmw.org/wp-content/uploads/2022/08/Paryushan_2022_Banner.png
END:VEVENT
BEGIN:VEVENT
DTSTART;TZID=America/New_York:20220821T093000
DTEND;TZID=America/New_York:20220821T153000
DTSTAMP:20260423T012413
CREATED:20220316T050140Z
LAST-MODIFIED:20230909T054816Z
UID:10000444-1661074200-1661095800@www.jsmw.org
SUMMARY:Dev Shashtra Guru Puja
DESCRIPTION:Dev Shashtra Guru Puja\n9:30 – 3:30\nContact:\nSamir Tatiya\nsamir.tatiya@gmail.com\nPh: 703-388-6249
URL:https://www.jsmw.org/event/dev-shashtra-guru-puja/
END:VEVENT
BEGIN:VEVENT
DTSTART;TZID=America/New_York:20220820T170000
DTEND;TZID=America/New_York:20220821T100000
DTSTAMP:20260423T012413
CREATED:20220730T023648Z
LAST-MODIFIED:20220803T173123Z
UID:10000453-1661014800-1661076000@www.jsmw.org
SUMMARY:JYOC Annual Lock-in and Elections
DESCRIPTION:The Jain Youth of the Capitol (JYOC) annual lock-in will be from August 20th-21st. There will be fun games\, sessions\, and food\, followed by an all nighter! In addition\, we will be hosting elections for the new 2022-2023 JYOC board and we encourage all members to run! \nPlease check out the JYOC email for more details\, or feel free to reach out to Arjav Jain at jainarjavs@gmail.com or Khushi Doshi at khushidoshi@gmail.com.
URL:https://www.jsmw.org/event/jyoc-annual-lock-in-and-elections/
END:VEVENT
BEGIN:VEVENT
DTSTART;TZID=America/New_York:20220814T103000
DTEND;TZID=America/New_York:20220814T140000
DTSTAMP:20260423T012413
CREATED:20220316T044931Z
LAST-MODIFIED:20220316T044931Z
UID:10000439-1660473000-1660485600@www.jsmw.org
SUMMARY:Snatra Pooja
DESCRIPTION:Monthly Snatra Pooja (2nd Sunday of Each Month) \nTime: 10:30am – 2pm \nLocation: 1021 Briggs Chaney Rd\, Silver Spring\, MD 20905
URL:https://www.jsmw.org/event/snatra-pooja-5/
LOCATION:Jain Center\, 4241 Ammendale Road\, Beltsville\, MD\, 20705\, United States
GEO:39.1049945;-76.9916225
X-APPLE-STRUCTURED-LOCATION;VALUE=URI;X-ADDRESS=Jain Center 4241 Ammendale Road Beltsville MD 20705 United States;X-APPLE-RADIUS=500;X-TITLE=4241 Ammendale Road:geo:-76.9916225,39.1049945
END:VEVENT
BEGIN:VEVENT
DTSTART;TZID=America/New_York:20220814T103000
DTEND;TZID=America/New_York:20220814T123000
DTSTAMP:20260423T012413
CREATED:20220811T205839Z
LAST-MODIFIED:20220814T021221Z
UID:10000454-1660473000-1660480200@www.jsmw.org
SUMMARY:2022 General Body Meeting
DESCRIPTION:General Body Meeting  \nSunday\, August 14\, 2022 | 10:30am \n—–\nZoom Meeting Info: \nhttps://us06web.zoom.us/j/84744852892?pwd=c0JEN1YzQmVuR3g5dnpCcU56YnV1dz09 \nMeeting ID: 847 4485 2892\nPasscode: 096554\nDial by phone: +1 301 715 8592\n—– \nGeneral Body meeting will be on August 14th\, 2022 at 10:30pm virtually via Zoom. \nAll members are invited to the meeting. \nGeneral Body Meeting Agenda \n\nNavkar Mantra\nApproval of Annual General Body Meeting\nfrom December 12\, 2021\nMeeting Minutes Link: Click Here\nApproval of Bank Loan to Complete Construction of New Temple – GBM Presentation – August 14\, 2022
URL:https://www.jsmw.org/event/2022gbm/
LOCATION:Virtual Meeting
ATTACH;FMTTYPE=image/png:https://www.jsmw.org/wp-content/uploads/2022/08/meeting_modern.png
ORGANIZER;CN="JSMW Executive Committee":MAILTO:ec@jainsocietydc.org
END:VEVENT
BEGIN:VEVENT
DTSTART;TZID=America/New_York:20220813T120000
DTEND;TZID=America/New_York:20220813T200000
DTSTAMP:20260423T012413
CREATED:20220723T223138Z
LAST-MODIFIED:20230909T054821Z
UID:10000452-1660392000-1660420800@www.jsmw.org
SUMMARY:27 Parshwanath Bhaav Yatra
DESCRIPTION:
URL:https://www.jsmw.org/event/27-parshwanath-bhaav-yatra/
LOCATION:Jain Center\, 4241 Ammendale Road\, Beltsville\, MD\, 20705\, United States
CATEGORIES:New Jain Center,Poojan
ATTACH;FMTTYPE=image/png:https://www.jsmw.org/wp-content/uploads/2022/07/Parshwa-Aradhana-Utsav-Email-Header-2.png
ORGANIZER;CN="JSMW Executive Committee":MAILTO:ec@jainsocietydc.org
GEO:39.1049945;-76.9916225
X-APPLE-STRUCTURED-LOCATION;VALUE=URI;X-ADDRESS=Jain Center 4241 Ammendale Road Beltsville MD 20705 United States;X-APPLE-RADIUS=500;X-TITLE=4241 Ammendale Road:geo:-76.9916225,39.1049945
END:VEVENT
BEGIN:VEVENT
DTSTART;TZID=America/New_York:20220806T103000
DTEND;TZID=America/New_York:20220806T120000
DTSTAMP:20260423T012413
CREATED:20220314T044613Z
LAST-MODIFIED:20220730T020907Z
UID:10000427-1659781800-1659787200@www.jsmw.org
SUMMARY:Jinvani
DESCRIPTION:Monthly Jinvani Event\nTime: 10:30am – 12:00 pm \nLocation: Jain Center\, 1021 Briggs Chaney Rd\, Silver Spring\, MD 20905 \nContact: Yash Mehta @ 240-678-9342
URL:https://www.jsmw.org/event/jinvani20220813/
LOCATION:Jain Center\, 4241 Ammendale Road\, Beltsville\, MD\, 20705\, United States
GEO:39.1049945;-76.9916225
X-APPLE-STRUCTURED-LOCATION;VALUE=URI;X-ADDRESS=Jain Center 4241 Ammendale Road Beltsville MD 20705 United States;X-APPLE-RADIUS=500;X-TITLE=4241 Ammendale Road:geo:-76.9916225,39.1049945
END:VEVENT
BEGIN:VEVENT
DTSTART;TZID=America/New_York:20220724T163000
DTEND;TZID=America/New_York:20220724T180000
DTSTAMP:20260423T012413
CREATED:20220712T024128Z
LAST-MODIFIED:20251212T211506Z
UID:10000451-1658680200-1658685600@www.jsmw.org
SUMMARY:Lecture by Saman Shri Shrutpragyaji
DESCRIPTION:Lecture by Saman Shri Shrutpragyaji\nTopic:- \nVivek Dhamma Maiye – Vivek ej dharm chhe\nLanguage :- Hindi or Gujarati based on RSVP\n\nIf anybody likes to offer gochari to Samanji can bring food to offer and/or serve.\nFor RSVP\, gochari and potluck please contact Arti Choxi.\nContact:- Cell No:- 240-418-0360\nEmail:- a_choxi@yahoo.com \n\n\n\n\n\nAbout The Speaker\n\n\n\n\nSaman Shri Shrutpragyaji is one of the most articulate and charismatic young spiritual leaders of the new generation. He was born in Bhuj- Kutch\, December 1966. Completed his education in Psychology\, Jainism and Yoga Science\, At a tender age of 20\, he entered Saman’s Life. He has traveled many countries\, worldwide\, to name a few\, Australia\, England\, Japan\, Malaysia\, Russia\, South Africa\, Singapore\, U.S.A. Etc. Visited many prominent Universities like Oxford\, Cambridge\, London\, Hawaii and Berkeley and has conducted thousands of Yoga and Meditation seminars. \nSamanji’s teachings integrate ancient scriptures and modern science which validate our day to day experience and knowledge. Samanji is highly knowledgeable on the subject of how to apply the principles in daily life. His eloquent speaking style keeps you fully engaged on the topic and makes understanding easy. The message is pure and simple and I’m confident that all age groups will find this valuable. Saman ji speaks effortlessly and makes Spiritual knowledge and its core principles accessible in today’s world. \nSaman Shri Shrutpragya has established the “Peace of Mind Foundation” in Rajkot\, Gujarat and the “Peace of Mind Yogic Center” in USA. He has written more than 77 books such as Living Meditation\, A light unto yourself\, Home itself the heaven and many more.
URL:https://www.jsmw.org/event/20220711_lecture/
LOCATION:Jain Center\, 4241 Ammendale Road\, Beltsville\, MD\, 20705\, United States
GEO:39.1049945;-76.9916225
X-APPLE-STRUCTURED-LOCATION;VALUE=URI;X-ADDRESS=Jain Center 4241 Ammendale Road Beltsville MD 20705 United States;X-APPLE-RADIUS=500;X-TITLE=4241 Ammendale Road:geo:-76.9916225,39.1049945
END:VEVENT
END:VCALENDAR