



BEGIN:VCALENDAR
VERSION:2.0
PRODID:-//JSMW - ECPv6.15.20//NONSGML v1.0//EN
CALSCALE:GREGORIAN
METHOD:PUBLISH
X-WR-CALNAME:JSMW
X-ORIGINAL-URL:https://www.jsmw.org
X-WR-CALDESC:Events for JSMW
REFRESH-INTERVAL;VALUE=DURATION:PT1H
X-Robots-Tag:noindex
X-PUBLISHED-TTL:PT1H
BEGIN:VTIMEZONE
TZID:America/New_York
BEGIN:DAYLIGHT
TZOFFSETFROM:-0500
TZOFFSETTO:-0400
TZNAME:EDT
DTSTART:20210314T070000
END:DAYLIGHT
BEGIN:STANDARD
TZOFFSETFROM:-0400
TZOFFSETTO:-0500
TZNAME:EST
DTSTART:20211107T060000
END:STANDARD
BEGIN:DAYLIGHT
TZOFFSETFROM:-0500
TZOFFSETTO:-0400
TZNAME:EDT
DTSTART:20220313T070000
END:DAYLIGHT
BEGIN:STANDARD
TZOFFSETFROM:-0400
TZOFFSETTO:-0500
TZNAME:EST
DTSTART:20221106T060000
END:STANDARD
BEGIN:DAYLIGHT
TZOFFSETFROM:-0500
TZOFFSETTO:-0400
TZNAME:EDT
DTSTART:20230312T070000
END:DAYLIGHT
BEGIN:STANDARD
TZOFFSETFROM:-0400
TZOFFSETTO:-0500
TZNAME:EST
DTSTART:20231105T060000
END:STANDARD
END:VTIMEZONE
BEGIN:VEVENT
DTSTART;TZID=America/New_York:20220910T103000
DTEND;TZID=America/New_York:20220910T120000
DTSTAMP:20260424T183349
CREATED:20220314T044720Z
LAST-MODIFIED:20220730T021256Z
UID:10000428-1662805800-1662811200@www.jsmw.org
SUMMARY:Jinvani
DESCRIPTION:Monthly Jinvani Event\nTime: 10:30am – 12:00 pm \nLocation: Jain Center\, 1021 Briggs Chaney Rd\, Silver Spring\, MD 20905 \nContact: Yash Mehta @ 240-678-9342
URL:https://www.jsmw.org/event/jinvani20220910/
LOCATION:Jain Center\, 4241 Ammendale Road\, Beltsville\, MD\, 20705\, United States
GEO:39.1049945;-76.9916225
X-APPLE-STRUCTURED-LOCATION;VALUE=URI;X-ADDRESS=Jain Center 4241 Ammendale Road Beltsville MD 20705 United States;X-APPLE-RADIUS=500;X-TITLE=4241 Ammendale Road:geo:-76.9916225,39.1049945
END:VEVENT
BEGIN:VEVENT
DTSTART;VALUE=DATE:20220824
DTEND;VALUE=DATE:20220902
DTSTAMP:20260424T183349
CREATED:20220822T034408Z
LAST-MODIFIED:20230909T054815Z
UID:10000455-1661299200-1662076799@www.jsmw.org
SUMMARY:Paryushan
DESCRIPTION:Paryushan Program Details: Click Here
URL:https://www.jsmw.org/event/paryushan/
LOCATION:MD
ATTACH;FMTTYPE=image/png:https://www.jsmw.org/wp-content/uploads/2022/08/Paryushan_2022_Banner.png
END:VEVENT
BEGIN:VEVENT
DTSTART;TZID=America/New_York:20220821T093000
DTEND;TZID=America/New_York:20220821T153000
DTSTAMP:20260424T183349
CREATED:20220316T050140Z
LAST-MODIFIED:20230909T054816Z
UID:10000444-1661074200-1661095800@www.jsmw.org
SUMMARY:Dev Shashtra Guru Puja
DESCRIPTION:Dev Shashtra Guru Puja\n9:30 – 3:30\nContact:\nSamir Tatiya\nsamir.tatiya@gmail.com\nPh: 703-388-6249
URL:https://www.jsmw.org/event/dev-shashtra-guru-puja/
LOCATION:MD
END:VEVENT
BEGIN:VEVENT
DTSTART;TZID=America/New_York:20220820T170000
DTEND;TZID=America/New_York:20220821T100000
DTSTAMP:20260424T183349
CREATED:20220730T023648Z
LAST-MODIFIED:20220803T173123Z
UID:10000453-1661014800-1661076000@www.jsmw.org
SUMMARY:JYOC Annual Lock-in and Elections
DESCRIPTION:The Jain Youth of the Capitol (JYOC) annual lock-in will be from August 20th-21st. There will be fun games\, sessions\, and food\, followed by an all nighter! In addition\, we will be hosting elections for the new 2022-2023 JYOC board and we encourage all members to run! \nPlease check out the JYOC email for more details\, or feel free to reach out to Arjav Jain at jainarjavs@gmail.com or Khushi Doshi at khushidoshi@gmail.com.
URL:https://www.jsmw.org/event/jyoc-annual-lock-in-and-elections/
LOCATION:MD
END:VEVENT
BEGIN:VEVENT
DTSTART;TZID=America/New_York:20220814T103000
DTEND;TZID=America/New_York:20220814T140000
DTSTAMP:20260424T183349
CREATED:20220316T044931Z
LAST-MODIFIED:20220316T044931Z
UID:10000439-1660473000-1660485600@www.jsmw.org
SUMMARY:Snatra Pooja
DESCRIPTION:Monthly Snatra Pooja (2nd Sunday of Each Month) \nTime: 10:30am – 2pm \nLocation: 1021 Briggs Chaney Rd\, Silver Spring\, MD 20905
URL:https://www.jsmw.org/event/snatra-pooja-5/
LOCATION:Jain Center\, 4241 Ammendale Road\, Beltsville\, MD\, 20705\, United States
GEO:39.1049945;-76.9916225
X-APPLE-STRUCTURED-LOCATION;VALUE=URI;X-ADDRESS=Jain Center 4241 Ammendale Road Beltsville MD 20705 United States;X-APPLE-RADIUS=500;X-TITLE=4241 Ammendale Road:geo:-76.9916225,39.1049945
END:VEVENT
BEGIN:VEVENT
DTSTART;TZID=America/New_York:20220814T103000
DTEND;TZID=America/New_York:20220814T123000
DTSTAMP:20260424T183349
CREATED:20220811T205839Z
LAST-MODIFIED:20220814T021221Z
UID:10000454-1660473000-1660480200@www.jsmw.org
SUMMARY:2022 General Body Meeting
DESCRIPTION:General Body Meeting  \nSunday\, August 14\, 2022 | 10:30am \n—–\nZoom Meeting Info: \nhttps://us06web.zoom.us/j/84744852892?pwd=c0JEN1YzQmVuR3g5dnpCcU56YnV1dz09 \nMeeting ID: 847 4485 2892\nPasscode: 096554\nDial by phone: +1 301 715 8592\n—– \nGeneral Body meeting will be on August 14th\, 2022 at 10:30pm virtually via Zoom. \nAll members are invited to the meeting. \nGeneral Body Meeting Agenda \n\nNavkar Mantra\nApproval of Annual General Body Meeting\nfrom December 12\, 2021\nMeeting Minutes Link: Click Here\nApproval of Bank Loan to Complete Construction of New Temple – GBM Presentation – August 14\, 2022
URL:https://www.jsmw.org/event/2022gbm/
LOCATION:Virtual Meeting
ATTACH;FMTTYPE=image/png:https://www.jsmw.org/wp-content/uploads/2022/08/meeting_modern.png
ORGANIZER;CN="JSMW Executive Committee":MAILTO:ec@jainsocietydc.org
END:VEVENT
BEGIN:VEVENT
DTSTART;TZID=America/New_York:20220813T120000
DTEND;TZID=America/New_York:20220813T200000
DTSTAMP:20260424T183349
CREATED:20220723T223138Z
LAST-MODIFIED:20230909T054821Z
UID:10000452-1660392000-1660420800@www.jsmw.org
SUMMARY:27 Parshwanath Bhaav Yatra
DESCRIPTION:
URL:https://www.jsmw.org/event/27-parshwanath-bhaav-yatra/
LOCATION:Jain Center\, 4241 Ammendale Road\, Beltsville\, MD\, 20705\, United States
CATEGORIES:New Jain Center,Poojan
ATTACH;FMTTYPE=image/png:https://www.jsmw.org/wp-content/uploads/2022/07/Parshwa-Aradhana-Utsav-Email-Header-2.png
ORGANIZER;CN="JSMW Executive Committee":MAILTO:ec@jainsocietydc.org
GEO:39.1049945;-76.9916225
X-APPLE-STRUCTURED-LOCATION;VALUE=URI;X-ADDRESS=Jain Center 4241 Ammendale Road Beltsville MD 20705 United States;X-APPLE-RADIUS=500;X-TITLE=4241 Ammendale Road:geo:-76.9916225,39.1049945
END:VEVENT
BEGIN:VEVENT
DTSTART;TZID=America/New_York:20220806T103000
DTEND;TZID=America/New_York:20220806T120000
DTSTAMP:20260424T183349
CREATED:20220314T044613Z
LAST-MODIFIED:20220730T020907Z
UID:10000427-1659781800-1659787200@www.jsmw.org
SUMMARY:Jinvani
DESCRIPTION:Monthly Jinvani Event\nTime: 10:30am – 12:00 pm \nLocation: Jain Center\, 1021 Briggs Chaney Rd\, Silver Spring\, MD 20905 \nContact: Yash Mehta @ 240-678-9342
URL:https://www.jsmw.org/event/jinvani20220813/
LOCATION:Jain Center\, 4241 Ammendale Road\, Beltsville\, MD\, 20705\, United States
GEO:39.1049945;-76.9916225
X-APPLE-STRUCTURED-LOCATION;VALUE=URI;X-ADDRESS=Jain Center 4241 Ammendale Road Beltsville MD 20705 United States;X-APPLE-RADIUS=500;X-TITLE=4241 Ammendale Road:geo:-76.9916225,39.1049945
END:VEVENT
BEGIN:VEVENT
DTSTART;TZID=America/New_York:20220724T163000
DTEND;TZID=America/New_York:20220724T180000
DTSTAMP:20260424T183349
CREATED:20220712T024128Z
LAST-MODIFIED:20251212T211506Z
UID:10000451-1658680200-1658685600@www.jsmw.org
SUMMARY:Lecture by Saman Shri Shrutpragyaji
DESCRIPTION:Lecture by Saman Shri Shrutpragyaji\nTopic:- \nVivek Dhamma Maiye – Vivek ej dharm chhe\nLanguage :- Hindi or Gujarati based on RSVP\n\nIf anybody likes to offer gochari to Samanji can bring food to offer and/or serve.\nFor RSVP\, gochari and potluck please contact Arti Choxi.\nContact:- Cell No:- 240-418-0360\nEmail:- a_choxi@yahoo.com \n\n\n\n\n\nAbout The Speaker\n\n\n\n\nSaman Shri Shrutpragyaji is one of the most articulate and charismatic young spiritual leaders of the new generation. He was born in Bhuj- Kutch\, December 1966. Completed his education in Psychology\, Jainism and Yoga Science\, At a tender age of 20\, he entered Saman’s Life. He has traveled many countries\, worldwide\, to name a few\, Australia\, England\, Japan\, Malaysia\, Russia\, South Africa\, Singapore\, U.S.A. Etc. Visited many prominent Universities like Oxford\, Cambridge\, London\, Hawaii and Berkeley and has conducted thousands of Yoga and Meditation seminars. \nSamanji’s teachings integrate ancient scriptures and modern science which validate our day to day experience and knowledge. Samanji is highly knowledgeable on the subject of how to apply the principles in daily life. His eloquent speaking style keeps you fully engaged on the topic and makes understanding easy. The message is pure and simple and I’m confident that all age groups will find this valuable. Saman ji speaks effortlessly and makes Spiritual knowledge and its core principles accessible in today’s world. \nSaman Shri Shrutpragya has established the “Peace of Mind Foundation” in Rajkot\, Gujarat and the “Peace of Mind Yogic Center” in USA. He has written more than 77 books such as Living Meditation\, A light unto yourself\, Home itself the heaven and many more.
URL:https://www.jsmw.org/event/20220711_lecture/
LOCATION:Jain Center\, 4241 Ammendale Road\, Beltsville\, MD\, 20705\, United States
GEO:39.1049945;-76.9916225
X-APPLE-STRUCTURED-LOCATION;VALUE=URI;X-ADDRESS=Jain Center 4241 Ammendale Road Beltsville MD 20705 United States;X-APPLE-RADIUS=500;X-TITLE=4241 Ammendale Road:geo:-76.9916225,39.1049945
END:VEVENT
BEGIN:VEVENT
DTSTART;TZID=America/New_York:20220724T093000
DTEND;TZID=America/New_York:20220724T153000
DTSTAMP:20260424T183349
CREATED:20220314T050345Z
LAST-MODIFIED:20220314T050902Z
UID:10000434-1658655000-1658676600@www.jsmw.org
SUMMARY:Dev Shashtra Guru Puja
DESCRIPTION:Dev Shashtra Guru Puja\n9:30 – 3:30\nContact:\nSamir Tatiya\nsamir.tatiya@gmail.com\nPh: 703-388-6249
URL:https://www.jsmw.org/event/dev-shashtra-guru-puja-20220724/
LOCATION:MD
END:VEVENT
BEGIN:VEVENT
DTSTART;TZID=America/New_York:20220710T103000
DTEND;TZID=America/New_York:20220710T140000
DTSTAMP:20260424T183349
CREATED:20220316T044844Z
LAST-MODIFIED:20220316T044844Z
UID:10000438-1657449000-1657461600@www.jsmw.org
SUMMARY:Snatra Pooja
DESCRIPTION:Monthly Snatra Pooja (2nd Sunday of Each Month) \nTime: 10:30am – 2pm \nLocation: 1021 Briggs Chaney Rd\, Silver Spring\, MD 20905
URL:https://www.jsmw.org/event/snatra-pooja-4/
LOCATION:Jain Center\, 4241 Ammendale Road\, Beltsville\, MD\, 20705\, United States
GEO:39.1049945;-76.9916225
X-APPLE-STRUCTURED-LOCATION;VALUE=URI;X-ADDRESS=Jain Center 4241 Ammendale Road Beltsville MD 20705 United States;X-APPLE-RADIUS=500;X-TITLE=4241 Ammendale Road:geo:-76.9916225,39.1049945
END:VEVENT
BEGIN:VEVENT
DTSTART;TZID=America/New_York:20220709T113000
DTEND;TZID=America/New_York:20220709T143000
DTSTAMP:20260424T183349
CREATED:20220314T044510Z
LAST-MODIFIED:20220316T051559Z
UID:10000426-1657366200-1657377000@www.jsmw.org
SUMMARY:Jinvani
DESCRIPTION:Monthly Jinvani Event\nTime: 10:30am – 1:30pm \nLocation: Jain Center\, 1021 Briggs Chaney Rd\, Silver Spring\, MD 20905 \nContact: Yash Mehta @ 240-678-9342
URL:https://www.jsmw.org/event/jinvani20220709/
LOCATION:Jain Center\, 4241 Ammendale Road\, Beltsville\, MD\, 20705\, United States
GEO:39.1049945;-76.9916225
X-APPLE-STRUCTURED-LOCATION;VALUE=URI;X-ADDRESS=Jain Center 4241 Ammendale Road Beltsville MD 20705 United States;X-APPLE-RADIUS=500;X-TITLE=4241 Ammendale Road:geo:-76.9916225,39.1049945
END:VEVENT
BEGIN:VEVENT
DTSTART;TZID=America/New_York:20220626T093000
DTEND;TZID=America/New_York:20220626T153000
DTSTAMP:20260424T183349
CREATED:20220314T045921Z
LAST-MODIFIED:20220414T054935Z
UID:10000432-1656235800-1656257400@www.jsmw.org
SUMMARY:Dev Shashtra Guru Puja
DESCRIPTION:Dev Shashtra Guru Puja\n9:30 – 3:30\nContact:\nSamir Tatiya\nsamir.tatiya@gmail.com\nPh: 703-388-6249
URL:https://www.jsmw.org/event/dev-shashtra-guru-puja-20220626/
LOCATION:MD
END:VEVENT
BEGIN:VEVENT
DTSTART;TZID=America/New_York:20220625T080000
DTEND;TZID=America/New_York:20220625T140000
DTSTAMP:20260424T183349
CREATED:20220313T054414Z
LAST-MODIFIED:20220313T054414Z
UID:10000414-1656144000-1656165600@www.jsmw.org
SUMMARY:Pujan
DESCRIPTION:Pujan \nAdditional Information to follow
URL:https://www.jsmw.org/event/pujan/
LOCATION:Jain Center\, 4241 Ammendale Road\, Beltsville\, MD\, 20705\, United States
GEO:39.1049945;-76.9916225
X-APPLE-STRUCTURED-LOCATION;VALUE=URI;X-ADDRESS=Jain Center 4241 Ammendale Road Beltsville MD 20705 United States;X-APPLE-RADIUS=500;X-TITLE=4241 Ammendale Road:geo:-76.9916225,39.1049945
END:VEVENT
BEGIN:VEVENT
DTSTART;TZID=America/New_York:20220624T200000
DTEND;TZID=America/New_York:20220624T213000
DTSTAMP:20260424T183349
CREATED:20220420T054008Z
LAST-MODIFIED:20220420T054008Z
UID:10000447-1656100800-1656106200@www.jsmw.org
SUMMARY:Importance of Rashmimandal Poojan Lecture Series
DESCRIPTION:Importance of Rashmimandal Poojan Lecture Series by Samirbhai Shah \nWe are pleased to inform you that Shri Samirbhai Shah\, an eminent Jain scholar from India is visiting the USA. We are privileged to host him at our Jain Center from Wednesday\, Jun 22th to Saturday\, June 25th\, 2022. Shri Samirbhai has been conducting Swadhyay and performing Poojans\, for the last 10-12 years\, in the U.S. \nContact –\nNimesh Chheda\n410-245-0966 \n 
URL:https://www.jsmw.org/event/importance-of-rashmimandal-poojan-lecture-series-3/
LOCATION:Jain Center\, 4241 Ammendale Road\, Beltsville\, MD\, 20705\, United States
GEO:39.1049945;-76.9916225
X-APPLE-STRUCTURED-LOCATION;VALUE=URI;X-ADDRESS=Jain Center 4241 Ammendale Road Beltsville MD 20705 United States;X-APPLE-RADIUS=500;X-TITLE=4241 Ammendale Road:geo:-76.9916225,39.1049945
END:VEVENT
BEGIN:VEVENT
DTSTART;TZID=America/New_York:20220623T200000
DTEND;TZID=America/New_York:20220623T213000
DTSTAMP:20260424T183349
CREATED:20220420T053933Z
LAST-MODIFIED:20220420T053933Z
UID:10000446-1656014400-1656019800@www.jsmw.org
SUMMARY:Importance of Rashmimandal Poojan Lecture Series
DESCRIPTION:Importance of Rashmimandal Poojan Lecture Series by Samirbhai Shah \nWe are pleased to inform you that Shri Samirbhai Shah\, an eminent Jain scholar from India is visiting the USA. We are privileged to host him at our Jain Center from Wednesday\, Jun 22th to Saturday\, June 25th\, 2022. Shri Samirbhai has been conducting Swadhyay and performing Poojans\, for the last 10-12 years\, in the U.S. \nContact –\nNimesh Chheda\n410-245-0966 \n 
URL:https://www.jsmw.org/event/importance-of-rashmimandal-poojan-lecture-series-2/
LOCATION:Jain Center\, 4241 Ammendale Road\, Beltsville\, MD\, 20705\, United States
GEO:39.1049945;-76.9916225
X-APPLE-STRUCTURED-LOCATION;VALUE=URI;X-ADDRESS=Jain Center 4241 Ammendale Road Beltsville MD 20705 United States;X-APPLE-RADIUS=500;X-TITLE=4241 Ammendale Road:geo:-76.9916225,39.1049945
END:VEVENT
BEGIN:VEVENT
DTSTART;TZID=America/New_York:20220622T200000
DTEND;TZID=America/New_York:20220622T213000
DTSTAMP:20260424T183349
CREATED:20220420T053803Z
LAST-MODIFIED:20220420T053803Z
UID:10000445-1655928000-1655933400@www.jsmw.org
SUMMARY:Importance of Rashmimandal Poojan Lecture Series
DESCRIPTION:Importance of Rashmimandal Poojan Lecture Series by Samirbhai Shah \nWe are pleased to inform you that Shri Samirbhai Shah\, an eminent Jain scholar from India is visiting the USA. We are privileged to host him at our Jain Center from Wednesday\, Jun 22th to Saturday\, June 25th\, 2022. Shri Samirbhai has been conducting Swadhyay and performing Poojans\, for the last 10-12 years\, in the U.S. \nContact –\nNimesh Chheda\n410-245-0966 \n 
URL:https://www.jsmw.org/event/importance-of-rashmimandal-poojan-lecture-series/
LOCATION:Jain Center\, 4241 Ammendale Road\, Beltsville\, MD\, 20705\, United States
GEO:39.1049945;-76.9916225
X-APPLE-STRUCTURED-LOCATION;VALUE=URI;X-ADDRESS=Jain Center 4241 Ammendale Road Beltsville MD 20705 United States;X-APPLE-RADIUS=500;X-TITLE=4241 Ammendale Road:geo:-76.9916225,39.1049945
END:VEVENT
BEGIN:VEVENT
DTSTART;TZID=America/New_York:20220618T100000
DTEND;TZID=America/New_York:20220618T120000
DTSTAMP:20260424T183349
CREATED:20220617T064604Z
LAST-MODIFIED:20220617T064604Z
UID:10000448-1655546400-1655553600@www.jsmw.org
SUMMARY:Aaras Sthapana Final Event
DESCRIPTION:This Saturday (June 18th) we will celebrate the final event of the Aaras Sthapana Event. We cordially invite you to attend \nSaturday\, June 18 at 10am at New Temple Site and on zoom:\n1) Unveiling of Adinath Temple Shikhar Stone and Shuddhi\n2) Bhaktamar Stotra Recitation \nFor more information\, please contact Pavan Zaveri at pavanzaveri@yahoo.com or 240-606-0055. \nJoin Zoom Meeting\nhttps://us06web.zoom.us/j/89102151503?pwd=Vmx6bTQ1STFscFoxb2NoQXc3ekNvZz09 \nMeeting ID: 891 0215 1503\nPasscode: 799155
URL:https://www.jsmw.org/event/aaras-sthapana-final-event/
LOCATION:Virtual Meeting
END:VEVENT
BEGIN:VEVENT
DTSTART;TZID=America/New_York:20220612T103000
DTEND;TZID=America/New_York:20220612T140000
DTSTAMP:20260424T183349
CREATED:20220316T044739Z
LAST-MODIFIED:20220525T004042Z
UID:10000437-1655029800-1655042400@www.jsmw.org
SUMMARY:Snatra Pooja
DESCRIPTION:Monthly Snatra Pooja (2nd Sunday of Each Month) \nTime: 10:30am – 2pm \nLocation: 1021 Briggs Chaney Rd\, Silver Spring\, MD 20905
URL:https://www.jsmw.org/event/snatra-pooja-20220612/
LOCATION:Jain Center\, 4241 Ammendale Road\, Beltsville\, MD\, 20705\, United States
GEO:39.1049945;-76.9916225
X-APPLE-STRUCTURED-LOCATION;VALUE=URI;X-ADDRESS=Jain Center 4241 Ammendale Road Beltsville MD 20705 United States;X-APPLE-RADIUS=500;X-TITLE=4241 Ammendale Road:geo:-76.9916225,39.1049945
END:VEVENT
BEGIN:VEVENT
DTSTART;TZID=America/New_York:20220611T113000
DTEND;TZID=America/New_York:20220611T143000
DTSTAMP:20260424T183349
CREATED:20220314T044353Z
LAST-MODIFIED:20220316T051623Z
UID:10000425-1654947000-1654957800@www.jsmw.org
SUMMARY:Jinvani
DESCRIPTION:Monthly Jinvani Event\nTime: 10:30am – 1:30pm \nLocation: Jain Center\, 1021 Briggs Chaney Rd\, Silver Spring\, MD 20905 \nContact: Yash Mehta @ 240-678-9342
URL:https://www.jsmw.org/event/jinvani20220611/
LOCATION:Jain Center\, 4241 Ammendale Road\, Beltsville\, MD\, 20705\, United States
GEO:39.1049945;-76.9916225
X-APPLE-STRUCTURED-LOCATION;VALUE=URI;X-ADDRESS=Jain Center 4241 Ammendale Road Beltsville MD 20705 United States;X-APPLE-RADIUS=500;X-TITLE=4241 Ammendale Road:geo:-76.9916225,39.1049945
END:VEVENT
BEGIN:VEVENT
DTSTART;VALUE=DATE:20220528
DTEND;VALUE=DATE:20220531
DTSTAMP:20260424T183349
CREATED:20220314T143812Z
LAST-MODIFIED:20220505T104332Z
UID:10000435-1653696000-1653955199@www.jsmw.org
SUMMARY:Spring Camp 2022
DESCRIPTION:JSMW Spring Camp 2022\n\nEvent Timing: May 28 – May 30\, 2022\nEvent Address: Pecometh Camp & Retreat at Centreville\, MD\nContact:  camp@jainsocietydc.org\nRegistration Link: https://docs.google.com/forms/d/e/1FAIpQLScjCvGizZn8bnzVF0_rf9FSIgHtPbFFPt9KKH6ou1eJSPtDuA/viewform\nRegistration Limit:  32 Girls & 32 Boys\nObjectives:\n1. To provide familiarity of Jainism through classes and group activities\n2. Expose to values of good health\, yoga and exercise.\n3. Develop friendship that goes beyond camp\n4. Participating in various activities to develop team work\, leadership and cooperation\n5. Explore basic knowledge of various Indian cultures\, arts\, festivals- foods and languagesExample Activities:\n● Yoga / Nature Hike\n● Sessions on Cybersecurity\, Financial Knowledge\, Healthy Habits etc.\n● Religious Classes\n● Group activities such as skit\, talent show\n● Debate and discussions about bullying and current trends\n● Arts & Crafts related to Indian/ Jain culture\n● Free time for sports.Opening Day of Camp: Saturday May 28\, 2022 @ 11am \nRegistration/ Medicine and Luggage drop off will begin from 11.00am-Noon on Saturday \nClosing Day of the Camp: Monday May 30\, 2022 @ 2 pm \nPick up starts from 2.00pm – 3.00pm (Students must be signed out with a parent signature- no exceptions)
URL:https://www.jsmw.org/event/spring-camp-2022/
LOCATION:MD
ATTACH;FMTTYPE=image/jpeg:https://www.jsmw.org/wp-content/uploads/2022/03/jsmw-event1.jpg
END:VEVENT
BEGIN:VEVENT
DTSTART;TZID=America/New_York:20220521T093000
DTEND;TZID=America/New_York:20220521T153000
DTSTAMP:20260424T183349
CREATED:20220314T050120Z
LAST-MODIFIED:20220505T102513Z
UID:10000433-1653125400-1653147000@www.jsmw.org
SUMMARY:Dev Shashtra Guru Puja
DESCRIPTION:9:30 – 3:30\nContact:\nSamir Tatiya\nsamir.tatiya@gmail.com\nPh: 703-388-6249
URL:https://www.jsmw.org/event/dev-shashtra-guru-puja-20220521/
LOCATION:MD
ATTACH;FMTTYPE=image/jpeg:https://www.jsmw.org/wp-content/uploads/2022/03/jsmw-event.jpg
END:VEVENT
BEGIN:VEVENT
DTSTART;TZID=America/New_York:20220521T083000
DTEND;TZID=America/New_York:20220521T140000
DTSTAMP:20260424T183349
CREATED:20220507T230014Z
LAST-MODIFIED:20220516T235200Z
UID:10000450-1653121800-1653141600@www.jsmw.org
SUMMARY:Aaras Sthapana Ceremony
DESCRIPTION:Click Here For More Info
URL:https://www.jsmw.org/event/aaras-sthapana-ceremony/2022-05-21/
LOCATION:New Jain Temple Site\, 4241 Ammendale Rd\, Beltsville\, MD\, 20705\, United States
CATEGORIES:New Jain Center
ATTACH;FMTTYPE=image/png:https://www.jsmw.org/wp-content/uploads/2022/04/temple1.png
ORGANIZER;CN="JSMW Executive Committee":MAILTO:ec@jainsocietydc.org
GEO:39.0530946;-76.9180071
X-APPLE-STRUCTURED-LOCATION;VALUE=URI;X-ADDRESS=New Jain Temple Site 4241 Ammendale Rd Beltsville MD 20705 United States;X-APPLE-RADIUS=500;X-TITLE=4241 Ammendale Rd:geo:-76.9180071,39.0530946
END:VEVENT
BEGIN:VEVENT
DTSTART;TZID=America/New_York:20220515T083000
DTEND;TZID=America/New_York:20220515T140000
DTSTAMP:20260424T183349
CREATED:20220507T230014Z
LAST-MODIFIED:20220516T235200Z
UID:10000449-1652603400-1652623200@www.jsmw.org
SUMMARY:Aaras Sthapana Ceremony
DESCRIPTION:Click Here For More Info
URL:https://www.jsmw.org/event/aaras-sthapana-ceremony/2022-05-15/
LOCATION:New Jain Temple Site\, 4241 Ammendale Rd\, Beltsville\, MD\, 20705\, United States
CATEGORIES:New Jain Center
ATTACH;FMTTYPE=image/png:https://www.jsmw.org/wp-content/uploads/2022/04/temple1.png
ORGANIZER;CN="JSMW Executive Committee":MAILTO:ec@jainsocietydc.org
GEO:39.0530946;-76.9180071
X-APPLE-STRUCTURED-LOCATION;VALUE=URI;X-ADDRESS=New Jain Temple Site 4241 Ammendale Rd Beltsville MD 20705 United States;X-APPLE-RADIUS=500;X-TITLE=4241 Ammendale Rd:geo:-76.9180071,39.0530946
END:VEVENT
BEGIN:VEVENT
DTSTART;TZID=America/New_York:20220514T113000
DTEND;TZID=America/New_York:20220514T143000
DTSTAMP:20260424T183349
CREATED:20220314T043951Z
LAST-MODIFIED:20220502T090057Z
UID:10000424-1652527800-1652538600@www.jsmw.org
SUMMARY:Jinvani
DESCRIPTION:Monthly Jinvani Event\nTime: 10:30am – 1:30pm \nLocation: Jain Center\, 1021 Briggs Chaney Rd\, Silver Spring\, MD 20905 \nContact: Yash Mehta @ 240-678-9342
URL:https://www.jsmw.org/event/jinvani20220514/
LOCATION:Jain Center\, 4241 Ammendale Road\, Beltsville\, MD\, 20705\, United States
ATTACH;FMTTYPE=image/jpeg:https://www.jsmw.org/wp-content/uploads/2022/03/jinvani-img.jpg
GEO:39.1049945;-76.9916225
X-APPLE-STRUCTURED-LOCATION;VALUE=URI;X-ADDRESS=Jain Center 4241 Ammendale Road Beltsville MD 20705 United States;X-APPLE-RADIUS=500;X-TITLE=4241 Ammendale Road:geo:-76.9916225,39.1049945
END:VEVENT
BEGIN:VEVENT
DTSTART;TZID=America/New_York:20220508T103000
DTEND;TZID=America/New_York:20220508T140000
DTSTAMP:20260424T183349
CREATED:20220308T153039Z
LAST-MODIFIED:20220429T103352Z
UID:10000410-1652005800-1652018400@www.jsmw.org
SUMMARY:Snatra Pooja
DESCRIPTION:Monthly Snatra Pooja (2nd Sunday of Each Month) \nTime: 10:30am – 2pm \nLocation: 1021 Briggs Chaney Rd\, Silver Spring\, MD 20905
URL:https://www.jsmw.org/event/snatra-pooja-2/
LOCATION:Jain Center\, 4241 Ammendale Road\, Beltsville\, MD\, 20705\, United States
ATTACH;FMTTYPE=image/jpeg:https://www.jsmw.org/wp-content/uploads/2022/03/Snatra-Pooja-scaled.jpg
GEO:39.1049945;-76.9916225
X-APPLE-STRUCTURED-LOCATION;VALUE=URI;X-ADDRESS=Jain Center 4241 Ammendale Road Beltsville MD 20705 United States;X-APPLE-RADIUS=500;X-TITLE=4241 Ammendale Road:geo:-76.9916225,39.1049945
END:VEVENT
BEGIN:VEVENT
DTSTART;TZID=America/New_York:20220501T130000
DTEND;TZID=America/New_York:20220501T190000
DTSTAMP:20260424T183349
CREATED:20220313T053747Z
LAST-MODIFIED:20220429T103359Z
UID:10000413-1651410000-1651431600@www.jsmw.org
SUMMARY:Mahavir Janma Kalyanak Celebrations – 2022
DESCRIPTION:Date: May 1\, 2022 \nTime: 1:00pm \nLocation: Paint Branch High School\, 14121 Old Columbia Pike\, Burtonsville\, MD 20866 \nRegistration: http://www.jsmw.org/mjk2022/ \nWe are excited to announce our first major in-person event since the pandemic. \nOn Sunday\, May 1\, 2022\, we will be celebrating Bhagwan Mahavir Swami’s Janma Kalyanak\, a very auspicious day for all Jains. Our celebration will feature stage performances\, raffle\, and temple update. \nFor any questions or for more information\, please reach out to the MJK team at mjk@jainsocietydc.org.
URL:https://www.jsmw.org/event/mahavir-janma-kalyanak-celebrations-2022/
LOCATION:Paint Branch High School\, 14121 Old Columbia Pike\, Burtonsville\, 20866\, United States
ATTACH;FMTTYPE=image/jpeg:https://www.jsmw.org/wp-content/uploads/2022/03/mahavir-kalaynak-scaled.jpg
GEO:39.0879836;-76.9477422
X-APPLE-STRUCTURED-LOCATION;VALUE=URI;X-ADDRESS=Paint Branch High School 14121 Old Columbia Pike Burtonsville 20866 United States;X-APPLE-RADIUS=500;X-TITLE=14121 Old Columbia Pike:geo:-76.9477422,39.0879836
END:VEVENT
BEGIN:VEVENT
DTSTART;TZID=America/New_York:20220410T103000
DTEND;TZID=America/New_York:20220410T140000
DTSTAMP:20260424T183349
CREATED:20220316T044219Z
LAST-MODIFIED:20220316T044219Z
UID:10000436-1649586600-1649599200@www.jsmw.org
SUMMARY:Snatra Pooja
DESCRIPTION:Monthly Snatra Pooja (2nd Sunday of Each Month) \nTime: 10:30am – 2pm \nLocation: 1021 Briggs Chaney Rd\, Silver Spring\, MD 20905
URL:https://www.jsmw.org/event/snatra-pooja/
LOCATION:Jain Center\, 4241 Ammendale Road\, Beltsville\, MD\, 20705\, United States
GEO:39.1049945;-76.9916225
X-APPLE-STRUCTURED-LOCATION;VALUE=URI;X-ADDRESS=Jain Center 4241 Ammendale Road Beltsville MD 20705 United States;X-APPLE-RADIUS=500;X-TITLE=4241 Ammendale Road:geo:-76.9916225,39.1049945
END:VEVENT
BEGIN:VEVENT
DTSTART;TZID=America/New_York:20220409T113000
DTEND;TZID=America/New_York:20220409T143000
DTSTAMP:20260424T183349
CREATED:20220314T043818Z
LAST-MODIFIED:20220316T051726Z
UID:10000423-1649503800-1649514600@www.jsmw.org
SUMMARY:Jinvani
DESCRIPTION:Monthly Jinvani Event\nTime: 10:30am – 1:30pm \nLocation: Jain Center\, 1021 Briggs Chaney Rd\, Silver Spring\, MD 20905 \nContact: Yash Mehta @ 240-678-9342
URL:https://www.jsmw.org/event/jinvani20220409/
LOCATION:Jain Center\, 4241 Ammendale Road\, Beltsville\, MD\, 20705\, United States
GEO:39.1049945;-76.9916225
X-APPLE-STRUCTURED-LOCATION;VALUE=URI;X-ADDRESS=Jain Center 4241 Ammendale Road Beltsville MD 20705 United States;X-APPLE-RADIUS=500;X-TITLE=4241 Ammendale Road:geo:-76.9916225,39.1049945
END:VEVENT
BEGIN:VEVENT
DTSTART;TZID=America/New_York:20220403T140000
DTEND;TZID=America/New_York:20220403T170000
DTSTAMP:20260424T183349
CREATED:20220328T213737Z
LAST-MODIFIED:20220328T215433Z
UID:10000443-1648994400-1649005200@www.jsmw.org
SUMMARY:JYOC - American Born Confused Jain
DESCRIPTION:American Born Confused Jain\n\n\n\nThank you all for coming to our February service event\, we hope you had a great time! We successfully packaged 400+ packages in such a short amount of time\, thanks to everyone you came out to help.\nOur next event will be a continuation of our discussion series\, American Born Confused Jain (ABCJ)\, where we discuss how today’s youth are able to apply Jainism to their daily lives. After this discussion\, we will have a surprise for members\, so make sure to come and find out! We will also play lots of games\, so make sure to bring any board games you might have so we have as much fun as possible!The event will be on Sunday\, April 3rd from 2 to 5 pm at the derasar. Please RSVP with the link below if you are able to make it!We hope to see you all there!Thanks\, \nJain Youth Committee
URL:https://www.jsmw.org/event/jyoc20220403/
LOCATION:Jain Center\, 4241 Ammendale Road\, Beltsville\, MD\, 20705\, United States
GEO:39.1049945;-76.9916225
X-APPLE-STRUCTURED-LOCATION;VALUE=URI;X-ADDRESS=Jain Center 4241 Ammendale Road Beltsville MD 20705 United States;X-APPLE-RADIUS=500;X-TITLE=4241 Ammendale Road:geo:-76.9916225,39.1049945
END:VEVENT
END:VCALENDAR