



BEGIN:VCALENDAR
VERSION:2.0
PRODID:-//JSMW - ECPv6.15.20//NONSGML v1.0//EN
CALSCALE:GREGORIAN
METHOD:PUBLISH
X-ORIGINAL-URL:https://www.jsmw.org
X-WR-CALDESC:Events for JSMW
REFRESH-INTERVAL;VALUE=DURATION:PT1H
X-Robots-Tag:noindex
X-PUBLISHED-TTL:PT1H
BEGIN:VTIMEZONE
TZID:America/New_York
BEGIN:DAYLIGHT
TZOFFSETFROM:-0500
TZOFFSETTO:-0400
TZNAME:EDT
DTSTART:20200308T070000
END:DAYLIGHT
BEGIN:STANDARD
TZOFFSETFROM:-0400
TZOFFSETTO:-0500
TZNAME:EST
DTSTART:20201101T060000
END:STANDARD
BEGIN:DAYLIGHT
TZOFFSETFROM:-0500
TZOFFSETTO:-0400
TZNAME:EDT
DTSTART:20210314T070000
END:DAYLIGHT
BEGIN:STANDARD
TZOFFSETFROM:-0400
TZOFFSETTO:-0500
TZNAME:EST
DTSTART:20211107T060000
END:STANDARD
BEGIN:DAYLIGHT
TZOFFSETFROM:-0500
TZOFFSETTO:-0400
TZNAME:EDT
DTSTART:20220313T070000
END:DAYLIGHT
BEGIN:STANDARD
TZOFFSETFROM:-0400
TZOFFSETTO:-0500
TZNAME:EST
DTSTART:20221106T060000
END:STANDARD
BEGIN:DAYLIGHT
TZOFFSETFROM:-0500
TZOFFSETTO:-0400
TZNAME:EDT
DTSTART:20230312T070000
END:DAYLIGHT
BEGIN:STANDARD
TZOFFSETFROM:-0400
TZOFFSETTO:-0500
TZNAME:EST
DTSTART:20231105T060000
END:STANDARD
BEGIN:DAYLIGHT
TZOFFSETFROM:-0500
TZOFFSETTO:-0400
TZNAME:EDT
DTSTART:20240310T070000
END:DAYLIGHT
BEGIN:STANDARD
TZOFFSETFROM:-0400
TZOFFSETTO:-0500
TZNAME:EST
DTSTART:20241103T060000
END:STANDARD
END:VTIMEZONE
BEGIN:VEVENT
DTSTART;TZID=America/New_York:20231118T090000
DTEND;TZID=America/New_York:20231118T120000
DTSTAMP:20260420T105126
CREATED:20221211T055551Z
LAST-MODIFIED:20230909T071301Z
UID:10000487-1700298000-1700308800@www.jsmw.org
SUMMARY:JSMW - DC Kitchen
DESCRIPTION:JSMW will reach out and help the community through The DC Kitchen. \nMore information to be provided as it is made available.
URL:https://www.jsmw.org/event/dckitchen2023_09/
CATEGORIES:Traditions,Wellness
ORGANIZER;CN="JSMW Executive Committee":MAILTO:ec@jainsocietydc.org
END:VEVENT
BEGIN:VEVENT
DTSTART;VALUE=DATE:20211002
DTEND;VALUE=DATE:20211003
DTSTAMP:20260420T105126
CREATED:20210909T191509Z
LAST-MODIFIED:20230909T054815Z
UID:10000398-1633132800-1633219199@www.jsmw.org
SUMMARY:Chalo for Chai & Charcha
DESCRIPTION:
URL:https://www.jsmw.org/event/chalo-for-chai-charcha/
LOCATION:Black Hill Regional Park\, 20930 Lake Ridge Dr\, Boyds\, MD\, 20841\, United States
CATEGORIES:Wellness
ORGANIZER;CN="JSMW Executive Committee":MAILTO:ec@jainsocietydc.org
GEO:39.2038177;-77.285865
X-APPLE-STRUCTURED-LOCATION;VALUE=URI;X-ADDRESS=Black Hill Regional Park 20930 Lake Ridge Dr Boyds MD 20841 United States;X-APPLE-RADIUS=500;X-TITLE=20930 Lake Ridge Dr:geo:-77.285865,39.2038177
END:VEVENT
BEGIN:VEVENT
DTSTART;VALUE=DATE:20210728
DTEND;VALUE=DATE:20210729
DTSTAMP:20260420T105127
CREATED:20210626T171257Z
LAST-MODIFIED:20210626T173423Z
UID:10000383-1627430400-1627516799@www.jsmw.org
SUMMARY:Financial Literacy Seminar - Session 4
DESCRIPTION:
URL:https://www.jsmw.org/event/financial-literacy-seminar-session-4/
LOCATION:Virtual Meeting
CATEGORIES:Wellness
END:VEVENT
BEGIN:VEVENT
DTSTART;VALUE=DATE:20210721
DTEND;VALUE=DATE:20210722
DTSTAMP:20260420T105127
CREATED:20210626T171135Z
LAST-MODIFIED:20210626T173342Z
UID:10000382-1626825600-1626911999@www.jsmw.org
SUMMARY:Financial Literacy Seminar - Session 3
DESCRIPTION:
URL:https://www.jsmw.org/event/financial-literacy-seminar-session-3/
LOCATION:Virtual Meeting
CATEGORIES:Wellness
END:VEVENT
BEGIN:VEVENT
DTSTART;VALUE=DATE:20210714
DTEND;VALUE=DATE:20210715
DTSTAMP:20260420T105127
CREATED:20210626T170914Z
LAST-MODIFIED:20210626T173304Z
UID:10000381-1626220800-1626307199@www.jsmw.org
SUMMARY:Financial Literacy Seminar - Session 2
DESCRIPTION:
URL:https://www.jsmw.org/event/financial-literacy-seminar-session-2/
LOCATION:Virtual Meeting
CATEGORIES:Wellness
END:VEVENT
BEGIN:VEVENT
DTSTART;VALUE=DATE:20210707
DTEND;VALUE=DATE:20210708
DTSTAMP:20260420T105127
CREATED:20210626T170827Z
LAST-MODIFIED:20210626T173632Z
UID:10000380-1625616000-1625702399@www.jsmw.org
SUMMARY:Financial Literacy Seminar - Session 1
DESCRIPTION:
URL:https://www.jsmw.org/event/financial-literacy-seminar-session-1/
LOCATION:Virtual Meeting
CATEGORIES:Wellness
ORGANIZER;CN="Women's Group":MAILTO:todayswomen@jainsocietydc.org
END:VEVENT
BEGIN:VEVENT
DTSTART;TZID=America/New_York:20210619T103000
DTEND;TZID=America/New_York:20210619T120000
DTSTAMP:20260420T105127
CREATED:20210507T032140Z
LAST-MODIFIED:20210609T032850Z
UID:10000378-1624098600-1624104000@www.jsmw.org
SUMMARY:Wellness Event - Sleep Better
DESCRIPTION:Do you Snore? Are you always feeling tired and sleepy ?
URL:https://www.jsmw.org/event/wellness-event-sleep-better/
LOCATION:Virtual Meeting
CATEGORIES:Wellness
ORGANIZER;CN="JSMW Executive Committee":MAILTO:ec@jainsocietydc.org
END:VEVENT
BEGIN:VEVENT
DTSTART;TZID=America/New_York:20210508T103000
DTEND;TZID=America/New_York:20210508T123000
DTSTAMP:20260420T105127
CREATED:20210430T153909Z
LAST-MODIFIED:20210610T033610Z
UID:10000377-1620469800-1620477000@www.jsmw.org
SUMMARY:You are Fully Vaccinated: Now What?
DESCRIPTION:You are Fully Vaccinated: Now What?\nMAY 8\, 2021 • 9:30 AM\n\nWhat can and can’t you do?\nWhat are the safety protocols for fully vaccinated people?\nWhat will the “new normal” look like?\nShould you still wear masks?\n\nGet answers to your most important questions from a panel of trusted experts: \n\nDr. Gita Shah\, Infectious Disease Specialist\nDr. Manu Kaushal\, Medical Director\, Medstar\nDr. Kinjal Sheth\, Chief of Northwest Hospital\, ICU Critical Care Medical Center\n\n		 \nNIH All of Us\nInformation SessionWhat is it? What is Precision Medicine?How does it benefit me?
URL:https://www.jsmw.org/event/you-are-fully-vaccinated-now-what/
CATEGORIES:Wellness
END:VEVENT
END:VCALENDAR