



BEGIN:VCALENDAR
VERSION:2.0
PRODID:-//JSMW - ECPv6.15.20//NONSGML v1.0//EN
CALSCALE:GREGORIAN
METHOD:PUBLISH
X-ORIGINAL-URL:https://www.jsmw.org
X-WR-CALDESC:Events for JSMW
REFRESH-INTERVAL;VALUE=DURATION:PT1H
X-Robots-Tag:noindex
X-PUBLISHED-TTL:PT1H
BEGIN:VTIMEZONE
TZID:America/New_York
BEGIN:DAYLIGHT
TZOFFSETFROM:-0500
TZOFFSETTO:-0400
TZNAME:EDT
DTSTART:20250309T070000
END:DAYLIGHT
BEGIN:STANDARD
TZOFFSETFROM:-0400
TZOFFSETTO:-0500
TZNAME:EST
DTSTART:20251102T060000
END:STANDARD
BEGIN:DAYLIGHT
TZOFFSETFROM:-0500
TZOFFSETTO:-0400
TZNAME:EDT
DTSTART:20260308T070000
END:DAYLIGHT
BEGIN:STANDARD
TZOFFSETFROM:-0400
TZOFFSETTO:-0500
TZNAME:EST
DTSTART:20261101T060000
END:STANDARD
BEGIN:DAYLIGHT
TZOFFSETFROM:-0500
TZOFFSETTO:-0400
TZNAME:EDT
DTSTART:20270314T070000
END:DAYLIGHT
BEGIN:STANDARD
TZOFFSETFROM:-0400
TZOFFSETTO:-0500
TZNAME:EST
DTSTART:20271107T060000
END:STANDARD
END:VTIMEZONE
BEGIN:VEVENT
DTSTART;VALUE=DATE:20260517
DTEND;VALUE=DATE:20260518
DTSTAMP:20260420T141050
CREATED:20250804T153511Z
LAST-MODIFIED:20250804T155522Z
UID:10001090-1779008400-1779026400@www.jsmw.org
SUMMARY:Pathshala
DESCRIPTION:WebSite: https://www.jsmw.org/pathshala/ \nTime: \n\n9:15 am – 10:10 am: Gujarati/Hindi Language Class\n10:15 am – 10:30 am :  Morning Assembly\n10:30 am  – 12:00 pm :  Pathshala Class\n\nLocation:\nJain Center\n4241 Ammendale Road\, Beltsville MD 20705 \nPathshala Schedule for 2025-2026: \n\nSept 1\, 21\nOct 5\, 19\nNov 2\, 16\nDec 7\, 14*\nJan 11\, 25\nFeb 8\, 22\nMar 8\, 22\nApr 12\, 26\nMay 3*\, 17\nJun 7\n\n* Asterisk dates are back to back\nRed Dates are Tithi
URL:https://www.jsmw.org/event/pathshala2025/2026-05-17/
LOCATION:Jain Center\, 4241 Ammendale Road\, Beltsville\, MD\, 20705\, United States
GEO:39.1049945;-76.9916225
X-APPLE-STRUCTURED-LOCATION;VALUE=URI;X-ADDRESS=Jain Center 4241 Ammendale Road Beltsville MD 20705 United States;X-APPLE-RADIUS=500;X-TITLE=4241 Ammendale Road:geo:-76.9916225,39.1049945
END:VEVENT
END:VCALENDAR