



BEGIN:VCALENDAR
VERSION:2.0
PRODID:-//JSMW - ECPv6.15.20//NONSGML v1.0//EN
CALSCALE:GREGORIAN
METHOD:PUBLISH
X-ORIGINAL-URL:https://www.jsmw.org
X-WR-CALDESC:Events for JSMW
REFRESH-INTERVAL;VALUE=DURATION:PT1H
X-Robots-Tag:noindex
X-PUBLISHED-TTL:PT1H
BEGIN:VTIMEZONE
TZID:America/New_York
BEGIN:DAYLIGHT
TZOFFSETFROM:-0500
TZOFFSETTO:-0400
TZNAME:EDT
DTSTART:20250309T070000
END:DAYLIGHT
BEGIN:STANDARD
TZOFFSETFROM:-0400
TZOFFSETTO:-0500
TZNAME:EST
DTSTART:20251102T060000
END:STANDARD
BEGIN:DAYLIGHT
TZOFFSETFROM:-0500
TZOFFSETTO:-0400
TZNAME:EDT
DTSTART:20260308T070000
END:DAYLIGHT
BEGIN:STANDARD
TZOFFSETFROM:-0400
TZOFFSETTO:-0500
TZNAME:EST
DTSTART:20261101T060000
END:STANDARD
BEGIN:DAYLIGHT
TZOFFSETFROM:-0500
TZOFFSETTO:-0400
TZNAME:EDT
DTSTART:20270314T070000
END:DAYLIGHT
BEGIN:STANDARD
TZOFFSETFROM:-0400
TZOFFSETTO:-0500
TZNAME:EST
DTSTART:20271107T060000
END:STANDARD
END:VTIMEZONE
BEGIN:VEVENT
DTSTART;TZID=America/New_York:20260314T100000
DTEND;TZID=America/New_York:20260314T120000
DTSTAMP:20260420T074818
CREATED:20260123T035146Z
LAST-MODIFIED:20260130T225742Z
UID:10001110-1773482400-1773489600@www.jsmw.org
SUMMARY:Jinvani
DESCRIPTION:Monthly Jinvani\n  \n\nTime: 10:30am – 12:00pm EST\nLocation: Jain Center\, 4241 Ammendale Road\, Beltsville MD 20705
URL:https://www.jsmw.org/event/jinvani-2026/2026-03-14/
LOCATION:New Jain Temple Site\, 4241 Ammendale Rd\, Beltsville\, MD\, 20705\, United States
GEO:39.0530946;-76.9180071
X-APPLE-STRUCTURED-LOCATION;VALUE=URI;X-ADDRESS=New Jain Temple Site 4241 Ammendale Rd Beltsville MD 20705 United States;X-APPLE-RADIUS=500;X-TITLE=4241 Ammendale Rd:geo:-76.9180071,39.0530946
END:VEVENT
END:VCALENDAR