



BEGIN:VCALENDAR
VERSION:2.0
PRODID:-//JSMW - ECPv6.15.20//NONSGML v1.0//EN
CALSCALE:GREGORIAN
METHOD:PUBLISH
X-WR-CALNAME:JSMW
X-ORIGINAL-URL:https://www.jsmw.org
X-WR-CALDESC:Events for JSMW
REFRESH-INTERVAL;VALUE=DURATION:PT1H
X-Robots-Tag:noindex
X-PUBLISHED-TTL:PT1H
BEGIN:VTIMEZONE
TZID:America/New_York
BEGIN:DAYLIGHT
TZOFFSETFROM:-0500
TZOFFSETTO:-0400
TZNAME:EDT
DTSTART:20160313T070000
END:DAYLIGHT
BEGIN:STANDARD
TZOFFSETFROM:-0400
TZOFFSETTO:-0500
TZNAME:EST
DTSTART:20161106T060000
END:STANDARD
BEGIN:DAYLIGHT
TZOFFSETFROM:-0500
TZOFFSETTO:-0400
TZNAME:EDT
DTSTART:20170312T070000
END:DAYLIGHT
BEGIN:STANDARD
TZOFFSETFROM:-0400
TZOFFSETTO:-0500
TZNAME:EST
DTSTART:20171105T060000
END:STANDARD
BEGIN:DAYLIGHT
TZOFFSETFROM:-0500
TZOFFSETTO:-0400
TZNAME:EDT
DTSTART:20180311T070000
END:DAYLIGHT
BEGIN:STANDARD
TZOFFSETFROM:-0400
TZOFFSETTO:-0500
TZNAME:EST
DTSTART:20181104T060000
END:STANDARD
END:VTIMEZONE
BEGIN:VEVENT
DTSTART;TZID=America/New_York:20170813T113000
DTEND;TZID=America/New_York:20170813T123000
DTSTAMP:20260422T163317
CREATED:20170801T142923Z
LAST-MODIFIED:20170801T142923Z
UID:2313-1502623800-1502627400@www.jsmw.org
SUMMARY:Youth General Body Meeting
DESCRIPTION:  \nJain Youth of the Capitol ANNOUNCING Youth General Body Meeting \nAgenda: \n\nReview of past activities\nPreview of upcoming activities\n\nELECTIONS\n (Note: The JYOC and the JSMW EC amended their operating guidelines to move the elections to August in line with the school calendar.)\n Youth Executive Committee Nominations Form \nSubmit your nomination now by emailing attached form to: youthadvisor@jainsocietydc.org
URL:https://www.jsmw.org/event/youth-general-body-meeting/
LOCATION:Jain Center\, 4241 Ammendale Road\, Beltsville\, MD\, 20705\, United States
GEO:39.1049945;-76.9916225
X-APPLE-STRUCTURED-LOCATION;VALUE=URI;X-ADDRESS=Jain Center 4241 Ammendale Road Beltsville MD 20705 United States;X-APPLE-RADIUS=500;X-TITLE=4241 Ammendale Road:geo:-76.9916225,39.1049945
END:VEVENT
END:VCALENDAR