



BEGIN:VCALENDAR
VERSION:2.0
PRODID:-//JSMW - ECPv6.15.20//NONSGML v1.0//EN
CALSCALE:GREGORIAN
METHOD:PUBLISH
X-WR-CALNAME:JSMW
X-ORIGINAL-URL:https://www.jsmw.org
X-WR-CALDESC:Events for JSMW
REFRESH-INTERVAL;VALUE=DURATION:PT1H
X-Robots-Tag:noindex
X-PUBLISHED-TTL:PT1H
BEGIN:VTIMEZONE
TZID:America/New_York
BEGIN:DAYLIGHT
TZOFFSETFROM:-0500
TZOFFSETTO:-0400
TZNAME:EDT
DTSTART:20210314T070000
END:DAYLIGHT
BEGIN:STANDARD
TZOFFSETFROM:-0400
TZOFFSETTO:-0500
TZNAME:EST
DTSTART:20211107T060000
END:STANDARD
BEGIN:DAYLIGHT
TZOFFSETFROM:-0500
TZOFFSETTO:-0400
TZNAME:EDT
DTSTART:20220313T070000
END:DAYLIGHT
BEGIN:STANDARD
TZOFFSETFROM:-0400
TZOFFSETTO:-0500
TZNAME:EST
DTSTART:20221106T060000
END:STANDARD
BEGIN:DAYLIGHT
TZOFFSETFROM:-0500
TZOFFSETTO:-0400
TZNAME:EDT
DTSTART:20230312T070000
END:DAYLIGHT
BEGIN:STANDARD
TZOFFSETFROM:-0400
TZOFFSETTO:-0500
TZNAME:EST
DTSTART:20231105T060000
END:STANDARD
END:VTIMEZONE
BEGIN:VEVENT
DTSTART;TZID=America/New_York:20220219T100000
DTEND;TZID=America/New_York:20220219T113000
DTSTAMP:20260420T132618
CREATED:20220211T012630Z
LAST-MODIFIED:20220227T174256Z
UID:29486-1645264800-1645270200@www.jsmw.org
SUMMARY:Wellness Series: American Heart Month
DESCRIPTION:All of Us Program – Wellness Series\n \n  \nVideo Recording: https://www.youtube.com/watch?v=fg-Xlu-7rGE \n  \n\n\nFebruary is American Heart Month.  JSMW is hosting a webinar on February 19th at 10 AM with the All of Us Research Program on heart health and the importance of the South Asian demographic’s participation in research. \nDr. Neel Shah\, Chief Guest Speaker\, and Cardiologist\n\nNeel Shah\, M.D.\, FACC\, RPVI  will take us through A Journey through the Heart. He will share his expert knowledge on how a healthy heart works\, how we develop heart diseases\, and what strategies can prevent\, arrest and reverse the most common forms of heart disease. He will also take our members’ questions. \nDr. Rubin Baskir\, All of Us Program Officer at NIHRubin Baskir\, Ph.D. will share how the data collected through the All of Us Program benefits heart health research. He will also cover the importance of participation of the South Asian population and how the All of Us Program has fared thus far. Join on \n\n\nThis event is led by Pulkit Gangwal\, Rahul Jain & Pavan Zaveri.\nContact: publicrelations@jainsocietydc.org
URL:https://www.jsmw.org/event/wellness-series-american-heart-month/
END:VEVENT
END:VCALENDAR