



BEGIN:VCALENDAR
VERSION:2.0
PRODID:-//JSMW - ECPv6.15.20//NONSGML v1.0//EN
CALSCALE:GREGORIAN
METHOD:PUBLISH
X-WR-CALNAME:JSMW
X-ORIGINAL-URL:https://www.jsmw.org
X-WR-CALDESC:Events for JSMW
REFRESH-INTERVAL;VALUE=DURATION:PT1H
X-Robots-Tag:noindex
X-PUBLISHED-TTL:PT1H
BEGIN:VTIMEZONE
TZID:America/New_York
BEGIN:DAYLIGHT
TZOFFSETFROM:-0500
TZOFFSETTO:-0400
TZNAME:EDT
DTSTART:20230312T070000
END:DAYLIGHT
BEGIN:STANDARD
TZOFFSETFROM:-0400
TZOFFSETTO:-0500
TZNAME:EST
DTSTART:20231105T060000
END:STANDARD
BEGIN:DAYLIGHT
TZOFFSETFROM:-0500
TZOFFSETTO:-0400
TZNAME:EDT
DTSTART:20240310T070000
END:DAYLIGHT
BEGIN:STANDARD
TZOFFSETFROM:-0400
TZOFFSETTO:-0500
TZNAME:EST
DTSTART:20241103T060000
END:STANDARD
BEGIN:DAYLIGHT
TZOFFSETFROM:-0500
TZOFFSETTO:-0400
TZNAME:EDT
DTSTART:20250309T070000
END:DAYLIGHT
BEGIN:STANDARD
TZOFFSETFROM:-0400
TZOFFSETTO:-0500
TZNAME:EST
DTSTART:20251102T060000
END:STANDARD
END:VTIMEZONE
BEGIN:VEVENT
DTSTART;TZID=America/New_York:20240303T133000
DTEND;TZID=America/New_York:20240303T160000
DTSTAMP:20260421T043141
CREATED:20240221T021826Z
LAST-MODIFIED:20251212T211506Z
UID:38226-1709472600-1709481600@www.jsmw.org
SUMMARY:Volunteer Appreciation
DESCRIPTION:RSVP Link: https://www.jsmw.org/volunteer-appreciation/ \nDate: March 3\, 2024\nTime: 1:30 pm – 4 pm\nLocation: Pathshala\,\nCloverly Elementary School\,\n800 Briggs Chaney Rd\,\nSilver Spring\, MD 20905 \nNOTE: This event is open to all JSMW Volunteers.
URL:https://www.jsmw.org/event/volunteer2024/
LOCATION:Cloverly Elementary\, 800 Briggs Chaney Rd\, Silver Spring\, MD\, 20905\, United States
GEO:39.1081739;-76.9939173
X-APPLE-STRUCTURED-LOCATION;VALUE=URI;X-ADDRESS=Cloverly Elementary 800 Briggs Chaney Rd Silver Spring MD 20905 United States;X-APPLE-RADIUS=500;X-TITLE=800 Briggs Chaney Rd:geo:-76.9939173,39.1081739
END:VEVENT
END:VCALENDAR