



BEGIN:VCALENDAR
VERSION:2.0
PRODID:-//JSMW - ECPv6.15.20//NONSGML v1.0//EN
CALSCALE:GREGORIAN
METHOD:PUBLISH
X-WR-CALNAME:JSMW
X-ORIGINAL-URL:https://www.jsmw.org
X-WR-CALDESC:Events for JSMW
REFRESH-INTERVAL;VALUE=DURATION:PT1H
X-Robots-Tag:noindex
X-PUBLISHED-TTL:PT1H
BEGIN:VTIMEZONE
TZID:America/New_York
BEGIN:DAYLIGHT
TZOFFSETFROM:-0500
TZOFFSETTO:-0400
TZNAME:EDT
DTSTART:20190310T070000
END:DAYLIGHT
BEGIN:STANDARD
TZOFFSETFROM:-0400
TZOFFSETTO:-0500
TZNAME:EST
DTSTART:20191103T060000
END:STANDARD
BEGIN:DAYLIGHT
TZOFFSETFROM:-0500
TZOFFSETTO:-0400
TZNAME:EDT
DTSTART:20200308T070000
END:DAYLIGHT
BEGIN:STANDARD
TZOFFSETFROM:-0400
TZOFFSETTO:-0500
TZNAME:EST
DTSTART:20201101T060000
END:STANDARD
BEGIN:DAYLIGHT
TZOFFSETFROM:-0500
TZOFFSETTO:-0400
TZNAME:EDT
DTSTART:20210314T070000
END:DAYLIGHT
BEGIN:STANDARD
TZOFFSETFROM:-0400
TZOFFSETTO:-0500
TZNAME:EST
DTSTART:20211107T060000
END:STANDARD
END:VTIMEZONE
BEGIN:VEVENT
DTSTART;TZID=America/New_York:20201011T130000
DTEND;TZID=America/New_York:20201011T150000
DTSTAMP:20260420T074913
CREATED:20200917T141553Z
LAST-MODIFIED:20200927T043623Z
UID:16883-1602421200-1602428400@www.jsmw.org
SUMMARY:Virtual Warli Painting with Hiral Joshi
DESCRIPTION:WARLI PAINTING WORKSHOP\n				\n				\n						\n				\n				\n				\n									About the Workshop: Learn Warli Painting\, the tribal art form from rural Maharashtra. The workshop will teach students (kids\, adults) how to use simple geometric shapes to create wonderful tableaus of art. Give your creativity a little boost and have loads of fun. \nNo experience necessary. Learn Warli painting …  Just come\, unwind and reconnect with your inner self by unleashing the creativity in you. \nAge 12 yrs and aboveNon-refundable Non-transferable Registration Fees $5.00Limit of 25 Participants onlyRegister by October 3rd\, 2020Pay by Venmo or Zelle to Mina Jain @ 301-996-8020You will receive a supply list & Zoom link once registered \n\n 								\n				\n				\n				\n							\n			\n			\n			\n\n							\n			\n			\n								\n												\n								Name							\n														\n											\n								\n												\n								Phone#							\n								\n\n						\n								\n												\n								Email							\n														\n											\n								\n												\n								Message (optional)							\n										\n								\n					\n						\n																						Register
URL:https://www.jsmw.org/event/virtual-warli-painting-with-hiral-joshi/
LOCATION:Virtual Meeting
CATEGORIES:TodaysWomen
ATTACH;FMTTYPE=image/png:https://www.jsmw.org/wp-content/uploads/2020/09/warli-print.png
ORGANIZER;CN="Women's Group":MAILTO:todayswomen@jainsocietydc.org
END:VEVENT
END:VCALENDAR