



BEGIN:VCALENDAR
VERSION:2.0
PRODID:-//JSMW - ECPv6.15.20//NONSGML v1.0//EN
CALSCALE:GREGORIAN
METHOD:PUBLISH
X-WR-CALNAME:JSMW
X-ORIGINAL-URL:https://www.jsmw.org
X-WR-CALDESC:Events for JSMW
REFRESH-INTERVAL;VALUE=DURATION:PT1H
X-Robots-Tag:noindex
X-PUBLISHED-TTL:PT1H
BEGIN:VTIMEZONE
TZID:America/New_York
BEGIN:DAYLIGHT
TZOFFSETFROM:-0500
TZOFFSETTO:-0400
TZNAME:EDT
DTSTART:20230312T070000
END:DAYLIGHT
BEGIN:STANDARD
TZOFFSETFROM:-0400
TZOFFSETTO:-0500
TZNAME:EST
DTSTART:20231105T060000
END:STANDARD
BEGIN:DAYLIGHT
TZOFFSETFROM:-0500
TZOFFSETTO:-0400
TZNAME:EDT
DTSTART:20240310T070000
END:DAYLIGHT
BEGIN:STANDARD
TZOFFSETFROM:-0400
TZOFFSETTO:-0500
TZNAME:EST
DTSTART:20241103T060000
END:STANDARD
BEGIN:DAYLIGHT
TZOFFSETFROM:-0500
TZOFFSETTO:-0400
TZNAME:EDT
DTSTART:20250309T070000
END:DAYLIGHT
BEGIN:STANDARD
TZOFFSETFROM:-0400
TZOFFSETTO:-0500
TZNAME:EST
DTSTART:20251102T060000
END:STANDARD
END:VTIMEZONE
BEGIN:VEVENT
DTSTART;TZID=America/New_York:20240207T203000
DTEND;TZID=America/New_York:20240207T214500
DTSTAMP:20260420T194733
CREATED:20240104T191050Z
LAST-MODIFIED:20251212T211506Z
UID:37982-1707337800-1707342300@www.jsmw.org
SUMMARY:TWTG - Learn Stocks 101 - Session 2 of 2
DESCRIPTION:Learn Stocks 101\nSpeakers: Archana Shrivastava & Shefali Dalal \nSession 1: January 17 @ 8:30pm – 9:45pm\nSession 2: February 7 @ 8:30pm – 9:45pm \nJoin Zoom Meeting\nhttps://us06web.zoom.us/j/81953339779?pwd=kfqEi31eaoFylfI3LGCrF8PyaYl694.1 \nMeeting ID: 819 5333 9779\nPasscode: 470498 \nTopics: \n1.  What is a stockinvestment?\n2.  Why should I invest?\n3.  How do I invest?\n4.  What is a bear and bull market?\n5.  Additional topics will be presented.
URL:https://www.jsmw.org/event/twtg20240131/
END:VEVENT
END:VCALENDAR