



BEGIN:VCALENDAR
VERSION:2.0
PRODID:-//JSMW - ECPv6.15.20//NONSGML v1.0//EN
CALSCALE:GREGORIAN
METHOD:PUBLISH
X-WR-CALNAME:JSMW
X-ORIGINAL-URL:https://www.jsmw.org
X-WR-CALDESC:Events for JSMW
REFRESH-INTERVAL;VALUE=DURATION:PT1H
X-Robots-Tag:noindex
X-PUBLISHED-TTL:PT1H
BEGIN:VTIMEZONE
TZID:America/New_York
BEGIN:DAYLIGHT
TZOFFSETFROM:-0500
TZOFFSETTO:-0400
TZNAME:EDT
DTSTART:20230312T070000
END:DAYLIGHT
BEGIN:STANDARD
TZOFFSETFROM:-0400
TZOFFSETTO:-0500
TZNAME:EST
DTSTART:20231105T060000
END:STANDARD
BEGIN:DAYLIGHT
TZOFFSETFROM:-0500
TZOFFSETTO:-0400
TZNAME:EDT
DTSTART:20240310T070000
END:DAYLIGHT
BEGIN:STANDARD
TZOFFSETFROM:-0400
TZOFFSETTO:-0500
TZNAME:EST
DTSTART:20241103T060000
END:STANDARD
BEGIN:DAYLIGHT
TZOFFSETFROM:-0500
TZOFFSETTO:-0400
TZNAME:EDT
DTSTART:20250309T070000
END:DAYLIGHT
BEGIN:STANDARD
TZOFFSETFROM:-0400
TZOFFSETTO:-0500
TZNAME:EST
DTSTART:20251102T060000
END:STANDARD
END:VTIMEZONE
BEGIN:VEVENT
DTSTART;TZID=America/New_York:20240228T203000
DTEND;TZID=America/New_York:20240228T214500
DTSTAMP:20260421T024543
CREATED:20240215T140220Z
LAST-MODIFIED:20240215T140220Z
UID:38195-1709152200-1709156700@www.jsmw.org
SUMMARY:TW/TG Financial Series - Tax Session
DESCRIPTION:Today’s Woman Today’s Girl is excited to continue our financial education series with our next session on understanding the complexity of *TAX* \n\nDate: February 28\, 2024\nTime: 8:30pm – 9:45pm EST\nZoom: http://bit.ly/twtg202401\nID:  819 5333 9779\nPasscode: 470498\n\nOur guest speaker\, Hetal Joshi\, is an experienced Tax preparer and a Notary Public.  Mr. Joshi will also be answering questions related to taxes.
URL:https://www.jsmw.org/event/tw-tg-financial-series-tax-session/
END:VEVENT
END:VCALENDAR