



BEGIN:VCALENDAR
VERSION:2.0
PRODID:-//JSMW - ECPv6.15.20//NONSGML v1.0//EN
CALSCALE:GREGORIAN
METHOD:PUBLISH
X-WR-CALNAME:JSMW
X-ORIGINAL-URL:https://www.jsmw.org
X-WR-CALDESC:Events for JSMW
REFRESH-INTERVAL;VALUE=DURATION:PT1H
X-Robots-Tag:noindex
X-PUBLISHED-TTL:PT1H
BEGIN:VTIMEZONE
TZID:America/New_York
BEGIN:DAYLIGHT
TZOFFSETFROM:-0500
TZOFFSETTO:-0400
TZNAME:EDT
DTSTART:20160313T070000
END:DAYLIGHT
BEGIN:STANDARD
TZOFFSETFROM:-0400
TZOFFSETTO:-0500
TZNAME:EST
DTSTART:20161106T060000
END:STANDARD
BEGIN:DAYLIGHT
TZOFFSETFROM:-0500
TZOFFSETTO:-0400
TZNAME:EDT
DTSTART:20170312T070000
END:DAYLIGHT
BEGIN:STANDARD
TZOFFSETFROM:-0400
TZOFFSETTO:-0500
TZNAME:EST
DTSTART:20171105T060000
END:STANDARD
BEGIN:DAYLIGHT
TZOFFSETFROM:-0500
TZOFFSETTO:-0400
TZNAME:EDT
DTSTART:20180311T070000
END:DAYLIGHT
BEGIN:STANDARD
TZOFFSETFROM:-0400
TZOFFSETTO:-0500
TZNAME:EST
DTSTART:20181104T060000
END:STANDARD
END:VTIMEZONE
BEGIN:VEVENT
DTSTART;TZID=America/New_York:20171105T130000
DTEND;TZID=America/New_York:20171105T140000
DTSTAMP:20260422T135726
CREATED:20171030T204757Z
LAST-MODIFIED:20171030T204757Z
UID:2630-1509886800-1509890400@www.jsmw.org
SUMMARY:Today's Woman Group
DESCRIPTION:Today’s Woman Group is celebrating November as a Charity month. On November 5th\, the group will meet and mingle while making 50 treasure box for children living in Children’s Inn for their treatment at the Cloverly School.
URL:https://www.jsmw.org/event/todays-woman-group/
LOCATION:Cloverly Elementary\, 800 Briggs Chaney Rd\, Silver Spring\, MD\, 20905\, United States
ORGANIZER;CN="Women's Group":MAILTO:todayswomen@jainsocietydc.org
GEO:39.1081739;-76.9939173
X-APPLE-STRUCTURED-LOCATION;VALUE=URI;X-ADDRESS=Cloverly Elementary 800 Briggs Chaney Rd Silver Spring MD 20905 United States;X-APPLE-RADIUS=500;X-TITLE=800 Briggs Chaney Rd:geo:-76.9939173,39.1081739
END:VEVENT
END:VCALENDAR