



BEGIN:VCALENDAR
VERSION:2.0
PRODID:-//JSMW - ECPv6.15.20//NONSGML v1.0//EN
CALSCALE:GREGORIAN
METHOD:PUBLISH
X-WR-CALNAME:JSMW
X-ORIGINAL-URL:https://www.jsmw.org
X-WR-CALDESC:Events for JSMW
REFRESH-INTERVAL;VALUE=DURATION:PT1H
X-Robots-Tag:noindex
X-PUBLISHED-TTL:PT1H
BEGIN:VTIMEZONE
TZID:America/New_York
BEGIN:DAYLIGHT
TZOFFSETFROM:-0500
TZOFFSETTO:-0400
TZNAME:EDT
DTSTART:20210314T070000
END:DAYLIGHT
BEGIN:STANDARD
TZOFFSETFROM:-0400
TZOFFSETTO:-0500
TZNAME:EST
DTSTART:20211107T060000
END:STANDARD
BEGIN:DAYLIGHT
TZOFFSETFROM:-0500
TZOFFSETTO:-0400
TZNAME:EDT
DTSTART:20220313T070000
END:DAYLIGHT
BEGIN:STANDARD
TZOFFSETFROM:-0400
TZOFFSETTO:-0500
TZNAME:EST
DTSTART:20221106T060000
END:STANDARD
BEGIN:DAYLIGHT
TZOFFSETFROM:-0500
TZOFFSETTO:-0400
TZNAME:EDT
DTSTART:20230312T070000
END:DAYLIGHT
BEGIN:STANDARD
TZOFFSETFROM:-0400
TZOFFSETTO:-0500
TZNAME:EST
DTSTART:20231105T060000
END:STANDARD
END:VTIMEZONE
BEGIN:VEVENT
DTSTART;VALUE=DATE:20220108
DTEND;VALUE=DATE:20220223
DTSTAMP:20260420T114104
CREATED:20220108T200142Z
LAST-MODIFIED:20230909T054816Z
UID:29227-1641600000-1645574399@www.jsmw.org
SUMMARY:Personal Financial Awareness Workshop
DESCRIPTION:Dates: \n\nJanuary 18\, 2022 @ 8:00 PM – 9:30 PM EST\nJanuary 25\, 2022 @ 8:00 PM – 9:30 PM EST\nFebruary 1\, 2022 @ 8:00 PM – 9:30 PM EST\nFebruary 8\, 2022 @ 8:00 PM – 9:30 PM EST\nFebruary 15\, 2022 @ 8:00 PM – 9:30 PM EST\nFebruary 22\, 2022 @ 8:00 PM – 9:30 PM EST\n\nMeeting Link: \n\nZoom Link (CLICK HERE)\nZoom ID: 875 7782 7287 / Password: 595152\n\nJoin us for our 6 part series on Personal Financial Awareness.  Our guest presenters. Veena Gandhi & Vivek Chander will cover the following topics \n\nLong Term Care\nLife Insurance\nEstate Planning\nAnnuities\nSocial Security\nMedicare\n\nParticipants will have the opportunity to pose questions to our guest presenters.
URL:https://www.jsmw.org/event/todays-girl-todays-women-personal-financial-awareness-workshop/
LOCATION:Virtual Meeting
CATEGORIES:TodaysWomen
ORGANIZER;CN="Women's Group":MAILTO:todayswomen@jainsocietydc.org
END:VEVENT
END:VCALENDAR