



BEGIN:VCALENDAR
VERSION:2.0
PRODID:-//JSMW - ECPv6.15.20//NONSGML v1.0//EN
CALSCALE:GREGORIAN
METHOD:PUBLISH
X-WR-CALNAME:JSMW
X-ORIGINAL-URL:https://www.jsmw.org
X-WR-CALDESC:Events for JSMW
REFRESH-INTERVAL;VALUE=DURATION:PT1H
X-Robots-Tag:noindex
X-PUBLISHED-TTL:PT1H
BEGIN:VTIMEZONE
TZID:America/New_York
BEGIN:DAYLIGHT
TZOFFSETFROM:-0500
TZOFFSETTO:-0400
TZNAME:EDT
DTSTART:20220313T070000
END:DAYLIGHT
BEGIN:STANDARD
TZOFFSETFROM:-0400
TZOFFSETTO:-0500
TZNAME:EST
DTSTART:20221106T060000
END:STANDARD
BEGIN:DAYLIGHT
TZOFFSETFROM:-0500
TZOFFSETTO:-0400
TZNAME:EDT
DTSTART:20230312T070000
END:DAYLIGHT
BEGIN:STANDARD
TZOFFSETFROM:-0400
TZOFFSETTO:-0500
TZNAME:EST
DTSTART:20231105T060000
END:STANDARD
BEGIN:DAYLIGHT
TZOFFSETFROM:-0500
TZOFFSETTO:-0400
TZNAME:EDT
DTSTART:20240310T070000
END:DAYLIGHT
BEGIN:STANDARD
TZOFFSETFROM:-0400
TZOFFSETTO:-0500
TZNAME:EST
DTSTART:20241103T060000
END:STANDARD
END:VTIMEZONE
BEGIN:VEVENT
DTSTART;TZID=America/New_York:20230423T093000
DTEND;TZID=America/New_York:20230423T163000
DTSTAMP:20260422T084745
CREATED:20230416T033517Z
LAST-MODIFIED:20251212T211506Z
UID:35041-1682242200-1682267400@www.jsmw.org
SUMMARY:New Temple Site Tours
DESCRIPTION:You and your spouse are invited to join New Temple Site Tour on Sunday April 30\, 2023. \nSIGNUP LINK WILL BE MADE AVAILABLE SHORTLY \nNote: There is a separate slot for everyone coming\, so each participant needs to signup. \nNo Children under the age of 10.  Please review the policy on the signup form. \nSeeking volunteers for this event\, please reach out to Arvind Shah (301-461-6761)\, Harshid Shah (703-371-1006) or Swetal Shah (443-983-2006)
URL:https://www.jsmw.org/event/temple_tour20230430/
END:VEVENT
END:VCALENDAR