



BEGIN:VCALENDAR
VERSION:2.0
PRODID:-//JSMW - ECPv6.15.20//NONSGML v1.0//EN
CALSCALE:GREGORIAN
METHOD:PUBLISH
X-WR-CALNAME:JSMW
X-ORIGINAL-URL:https://www.jsmw.org
X-WR-CALDESC:Events for JSMW
REFRESH-INTERVAL;VALUE=DURATION:PT1H
X-Robots-Tag:noindex
X-PUBLISHED-TTL:PT1H
BEGIN:VTIMEZONE
TZID:America/New_York
BEGIN:DAYLIGHT
TZOFFSETFROM:-0500
TZOFFSETTO:-0400
TZNAME:EDT
DTSTART:20190310T070000
END:DAYLIGHT
BEGIN:STANDARD
TZOFFSETFROM:-0400
TZOFFSETTO:-0500
TZNAME:EST
DTSTART:20191103T060000
END:STANDARD
BEGIN:DAYLIGHT
TZOFFSETFROM:-0500
TZOFFSETTO:-0400
TZNAME:EDT
DTSTART:20200308T070000
END:DAYLIGHT
BEGIN:STANDARD
TZOFFSETFROM:-0400
TZOFFSETTO:-0500
TZNAME:EST
DTSTART:20201101T060000
END:STANDARD
BEGIN:DAYLIGHT
TZOFFSETFROM:-0500
TZOFFSETTO:-0400
TZNAME:EDT
DTSTART:20210314T070000
END:DAYLIGHT
BEGIN:STANDARD
TZOFFSETFROM:-0400
TZOFFSETTO:-0500
TZNAME:EST
DTSTART:20211107T060000
END:STANDARD
END:VTIMEZONE
BEGIN:VEVENT
DTSTART;TZID=America/New_York:20200912T140000
DTEND;TZID=America/New_York:20200912T160000
DTSTAMP:20260420T113430
CREATED:20200912T160804Z
LAST-MODIFIED:20200912T170325Z
UID:16801-1599919200-1599926400@www.jsmw.org
SUMMARY:Tapasvi Bahuman\, Board of Trustees Update\, Pathshala Essay Awards & Graduation Celebration
DESCRIPTION:Please join us on Sept 12 at 2:00 PM for Tapasvi Bahuman\, JSMW Pathshala Essay Awards and Class G Graduation celebration.  Class G Graduation7th Summer Essay Competition winnersChairman and Board of Trustees UpdateTapasvi BahumanPresident’s UpdateWhen : Saturday\, September 12\, 2.00 PM to 3.00 PMWhere : Virtual Zoom Meeting Click Zoom Link: https://zoom.us/j/92754093550 Meeting ID: 927 5409 3550Dial-in: +13017158592\,\,92754093550#  Look forward to seeing you all!
URL:https://www.jsmw.org/event/tapasvi-bahuman-board-of-trustees-update-pathshala-essay-awards-graduation-celebration/
LOCATION:Virtual Meeting
ATTACH;FMTTYPE=image/png:https://www.jsmw.org/wp-content/uploads/2020/09/JSMW-Event-e1599929627558.png
ORGANIZER;CN="JSMW Executive Committee":MAILTO:ec@jainsocietydc.org
END:VEVENT
END:VCALENDAR