



BEGIN:VCALENDAR
VERSION:2.0
PRODID:-//JSMW - ECPv6.15.20//NONSGML v1.0//EN
CALSCALE:GREGORIAN
METHOD:PUBLISH
X-WR-CALNAME:JSMW
X-ORIGINAL-URL:https://www.jsmw.org
X-WR-CALDESC:Events for JSMW
REFRESH-INTERVAL;VALUE=DURATION:PT1H
X-Robots-Tag:noindex
X-PUBLISHED-TTL:PT1H
BEGIN:VTIMEZONE
TZID:America/New_York
BEGIN:DAYLIGHT
TZOFFSETFROM:-0500
TZOFFSETTO:-0400
TZNAME:EDT
DTSTART:20240310T070000
END:DAYLIGHT
BEGIN:STANDARD
TZOFFSETFROM:-0400
TZOFFSETTO:-0500
TZNAME:EST
DTSTART:20241103T060000
END:STANDARD
BEGIN:DAYLIGHT
TZOFFSETFROM:-0500
TZOFFSETTO:-0400
TZNAME:EDT
DTSTART:20250309T070000
END:DAYLIGHT
BEGIN:STANDARD
TZOFFSETFROM:-0400
TZOFFSETTO:-0500
TZNAME:EST
DTSTART:20251102T060000
END:STANDARD
BEGIN:DAYLIGHT
TZOFFSETFROM:-0500
TZOFFSETTO:-0400
TZNAME:EDT
DTSTART:20260308T070000
END:DAYLIGHT
BEGIN:STANDARD
TZOFFSETFROM:-0400
TZOFFSETTO:-0500
TZNAME:EST
DTSTART:20261101T060000
END:STANDARD
END:VTIMEZONE
BEGIN:VEVENT
DTSTART;TZID=America/New_York:20250809T203000
DTEND;TZID=America/New_York:20250809T220000
DTSTAMP:20260420T163020
CREATED:20250805T190648Z
LAST-MODIFIED:20250805T215712Z
UID:10001095-1754771400-1754776800@www.jsmw.org
SUMMARY:Speaker Session - Dr. Samirbhai Shah
DESCRIPTION:Language – Gujarati We are pleased to announce that Shri Samirbhai Shah\, an eminent Jain scholar from India is visiting the USA.u00a0 Shri Samirbhai has been conducting Swadhyay and performing Poojans\, for the last 16-18 years\, in the U.S. Don’t miss this incredible opportunity to hear Dr. Samirbhai Shah!
URL:https://www.jsmw.org/event/speaker202508/2025-08-09/
LOCATION:Jain Center\, 4241 Ammendale Road\, Beltsville\, MD\, 20705\, United States
GEO:39.1049945;-76.9916225
X-APPLE-STRUCTURED-LOCATION;VALUE=URI;X-ADDRESS=Jain Center 4241 Ammendale Road Beltsville MD 20705 United States;X-APPLE-RADIUS=500;X-TITLE=4241 Ammendale Road:geo:-76.9916225,39.1049945
END:VEVENT
END:VCALENDAR