



BEGIN:VCALENDAR
VERSION:2.0
PRODID:-//JSMW - ECPv6.15.20//NONSGML v1.0//EN
CALSCALE:GREGORIAN
METHOD:PUBLISH
X-WR-CALNAME:JSMW
X-ORIGINAL-URL:https://www.jsmw.org
X-WR-CALDESC:Events for JSMW
REFRESH-INTERVAL;VALUE=DURATION:PT1H
X-Robots-Tag:noindex
X-PUBLISHED-TTL:PT1H
BEGIN:VTIMEZONE
TZID:America/New_York
BEGIN:DAYLIGHT
TZOFFSETFROM:-0500
TZOFFSETTO:-0400
TZNAME:EDT
DTSTART:20220313T070000
END:DAYLIGHT
BEGIN:STANDARD
TZOFFSETFROM:-0400
TZOFFSETTO:-0500
TZNAME:EST
DTSTART:20221106T060000
END:STANDARD
BEGIN:DAYLIGHT
TZOFFSETFROM:-0500
TZOFFSETTO:-0400
TZNAME:EDT
DTSTART:20230312T070000
END:DAYLIGHT
BEGIN:STANDARD
TZOFFSETFROM:-0400
TZOFFSETTO:-0500
TZNAME:EST
DTSTART:20231105T060000
END:STANDARD
BEGIN:DAYLIGHT
TZOFFSETFROM:-0500
TZOFFSETTO:-0400
TZNAME:EDT
DTSTART:20240310T070000
END:DAYLIGHT
BEGIN:STANDARD
TZOFFSETFROM:-0400
TZOFFSETTO:-0500
TZNAME:EST
DTSTART:20241103T060000
END:STANDARD
END:VTIMEZONE
BEGIN:VEVENT
DTSTART;TZID=America/New_York:20231112T103000
DTEND;TZID=America/New_York:20231112T140000
DTSTAMP:20260420T061255
CREATED:20230223T165953Z
LAST-MODIFIED:20230223T165953Z
UID:33909-1699785000-1699797600@www.jsmw.org
SUMMARY:Snatra Puja
DESCRIPTION:JSMW hosts a monthly Snatra Puja on every 2nd Sunday of the Month (list of dates are below). \nStart Time: 10:30am followed by Swami Vatsalya (Potlock format) \nLocation: Jain Center\, 1021 Briggs Chaney Road\, Silver Spring MD 20905 \nContact: Vaishali Chheda @ vaishali.chheda@gmail.com \n\nSnatra pooja illustrates the celebration of two of the auspicious (out of five) events (Kalyanaks) occurring in the last life of Tirthankar Bhagwan.\nThis Puja and celebration are for all Tirthankaras and not specific to any particular one.\nTwo Kalyanaks narrated in this Puja are Chyavan (conception) and Janma (birth) of Tirthankar. After this life the soul of Tirthankar reaches its climax and achieves liberation from life and death cycle (attains Moksha).\nThis Puja recital explains the effect of Bhagawan’s birth on the whole universe\, narrates how glorious the occasion was and how much joys were shared by all the living souls including all heavenly souls.\nPuja in the end includes Ashta Prakari Puja and wishes Shanti (peace) for all living beings and rejoices the event by performing Aarti\, Mangal Divo\, Shanti Kalash and Chaitya Vandan.\nSponsors will perform the Shanti Kalash (if no sponsor\, Gheeboli will be performed)\nAarti Mangal Divo will be given as per Gheeboli\n\nFuture Dates of Snatra Puja (2023) \n\nDec 10th\n\nDates for 2024 will be published shortly
URL:https://www.jsmw.org/event/snatra_puja_231112/
LOCATION:Jain Center\, 4241 Ammendale Road\, Beltsville\, MD\, 20705\, United States
GEO:39.1049945;-76.9916225
X-APPLE-STRUCTURED-LOCATION;VALUE=URI;X-ADDRESS=Jain Center 4241 Ammendale Road Beltsville MD 20705 United States;X-APPLE-RADIUS=500;X-TITLE=4241 Ammendale Road:geo:-76.9916225,39.1049945
END:VEVENT
END:VCALENDAR