



BEGIN:VCALENDAR
VERSION:2.0
PRODID:-//JSMW - ECPv6.15.20//NONSGML v1.0//EN
CALSCALE:GREGORIAN
METHOD:PUBLISH
X-WR-CALNAME:JSMW
X-ORIGINAL-URL:https://www.jsmw.org
X-WR-CALDESC:Events for JSMW
REFRESH-INTERVAL;VALUE=DURATION:PT1H
X-Robots-Tag:noindex
X-PUBLISHED-TTL:PT1H
BEGIN:VTIMEZONE
TZID:America/New_York
BEGIN:DAYLIGHT
TZOFFSETFROM:-0500
TZOFFSETTO:-0400
TZNAME:EDT
DTSTART:20230312T070000
END:DAYLIGHT
BEGIN:STANDARD
TZOFFSETFROM:-0400
TZOFFSETTO:-0500
TZNAME:EST
DTSTART:20231105T060000
END:STANDARD
BEGIN:DAYLIGHT
TZOFFSETFROM:-0500
TZOFFSETTO:-0400
TZNAME:EDT
DTSTART:20240310T070000
END:DAYLIGHT
BEGIN:STANDARD
TZOFFSETFROM:-0400
TZOFFSETTO:-0500
TZNAME:EST
DTSTART:20241103T060000
END:STANDARD
BEGIN:DAYLIGHT
TZOFFSETFROM:-0500
TZOFFSETTO:-0400
TZNAME:EDT
DTSTART:20250309T070000
END:DAYLIGHT
BEGIN:STANDARD
TZOFFSETFROM:-0400
TZOFFSETTO:-0500
TZNAME:EST
DTSTART:20251102T060000
END:STANDARD
END:VTIMEZONE
BEGIN:VEVENT
DTSTART;TZID=America/New_York:20240915T120000
DTEND;TZID=America/New_York:20240915T153000
DTSTAMP:20260421T080647
CREATED:20240910T011145Z
LAST-MODIFIED:20240910T022555Z
UID:40053-1726401600-1726414200@www.jsmw.org
SUMMARY:Snatra Pooja
DESCRIPTION:Pratishtha Mahurat\nSnatra Pooja								\n				\n					\n		\n					\n		\n				\n						\n					\n			\n						\n				\n									Join us for long awaited Pratishtha Mahurat announcement.  We will show Maharjsahibs’ formal announcement followed by Snatra Pooja. We will also be serving refreshments NOTE:  If you are attending just Snatra Pooja only\, please enter “zero” for attendees. 								\n				\n					\n		\n					\n		\n				\n							\n							\n					\n			\n						\n				\n									जब कोई शुभ मंगल कार्य करना होता है तो उस कार्य को करने का समय भी महत्वपूर्ण होता है। समय की अनुकूल धारा मे और उचित घड़ी में किया गया कार्य मंगलकारी एवं कल्याणकारी होता है। उस समयबिन्दु को मुहूर्त कहते हैं।गुरु की चेतना प्रभु परमात्मा की परम चेतना से ओतप्रोत और एकरूप होती है। गुरु की साधक चेतना में से असीम अनन्त कृपा हम सबके लिए बहती रहती है। इसी बहती हुई कृपाधारा में नहाते हुए जब हम गुरु भगवंत से जिनमन्दिर की प्रतिष्ठा का मुहूर्त ग्रहण करेंगे तब उस मुहूर्त में गुरु की अन्तर्चेतना से बहती हुई दिव्या कृपा हमारे साथ आकर हमें निहाल कर देगी और हमारे प्रतिष्ठा -कार्यक्रम की तैयारी में एक नये उल्लास और उमंग का संचार कर देगी। सारी प्रतिकूलताओं को दूर कर देगी।मुहूर्तग्रहण के माध्यम से गुरु की इस कृपा को अपनाने का दिन व समय है…… 								\n				\n					\n		\n					\n		\n				\n						\n					\n			\n						\n				\n							 First Name* Last Name*  Email* Phone Number*We will be serving light refreshments after Snatra Pooja.  # of Adults # of Children (Under 15)
URL:https://www.jsmw.org/event/snatra_pooja_202409/
LOCATION:Jain Center\, 4241 Ammendale Road\, Beltsville\, MD\, 20705\, United States
GEO:39.1049945;-76.9916225
X-APPLE-STRUCTURED-LOCATION;VALUE=URI;X-ADDRESS=Jain Center 4241 Ammendale Road Beltsville MD 20705 United States;X-APPLE-RADIUS=500;X-TITLE=4241 Ammendale Road:geo:-76.9916225,39.1049945
END:VEVENT
END:VCALENDAR