



BEGIN:VCALENDAR
VERSION:2.0
PRODID:-//JSMW - ECPv6.15.20//NONSGML v1.0//EN
CALSCALE:GREGORIAN
METHOD:PUBLISH
X-WR-CALNAME:JSMW
X-ORIGINAL-URL:https://www.jsmw.org
X-WR-CALDESC:Events for JSMW
REFRESH-INTERVAL;VALUE=DURATION:PT1H
X-Robots-Tag:noindex
X-PUBLISHED-TTL:PT1H
BEGIN:VTIMEZONE
TZID:America/New_York
BEGIN:DAYLIGHT
TZOFFSETFROM:-0500
TZOFFSETTO:-0400
TZNAME:EDT
DTSTART:20190310T070000
END:DAYLIGHT
BEGIN:STANDARD
TZOFFSETFROM:-0400
TZOFFSETTO:-0500
TZNAME:EST
DTSTART:20191103T060000
END:STANDARD
BEGIN:DAYLIGHT
TZOFFSETFROM:-0500
TZOFFSETTO:-0400
TZNAME:EDT
DTSTART:20200308T070000
END:DAYLIGHT
BEGIN:STANDARD
TZOFFSETFROM:-0400
TZOFFSETTO:-0500
TZNAME:EST
DTSTART:20201101T060000
END:STANDARD
BEGIN:DAYLIGHT
TZOFFSETFROM:-0500
TZOFFSETTO:-0400
TZNAME:EDT
DTSTART:20210314T070000
END:DAYLIGHT
BEGIN:STANDARD
TZOFFSETFROM:-0400
TZOFFSETTO:-0500
TZNAME:EST
DTSTART:20211107T060000
END:STANDARD
END:VTIMEZONE
BEGIN:VEVENT
DTSTART;TZID=America/New_York:20201101T100000
DTEND;TZID=America/New_York:20201101T130000
DTSTAMP:20260420T061309
CREATED:20201023T052616Z
LAST-MODIFIED:20201101T050237Z
UID:23792-1604224800-1604235600@www.jsmw.org
SUMMARY:Shubharambh
DESCRIPTION:Zoom Link						\n					\n				\n									\n						Meeting ID: 966 1358 3978 \nPasscode: 231346					 \n				\n			\n			\n		\n						\n				\n				\n				\n							\n\n						\n				\n								\n			\n			\n						\n\n									\n						\n							Shubhararambh - Click Here						\n					\n				\n									\n						Sunday\, November 1\, 2020 at 10 pm
URL:https://www.jsmw.org/event/shubharambh/
LOCATION:Virtual Meeting
CATEGORIES:New Jain Center
ATTACH;FMTTYPE=image/png:https://www.jsmw.org/wp-content/uploads/2020/10/shubharambh.png
ORGANIZER;CN="JSMW Executive Committee":MAILTO:ec@jainsocietydc.org
END:VEVENT
END:VCALENDAR