



BEGIN:VCALENDAR
VERSION:2.0
PRODID:-//JSMW - ECPv6.15.20//NONSGML v1.0//EN
CALSCALE:GREGORIAN
METHOD:PUBLISH
X-WR-CALNAME:JSMW
X-ORIGINAL-URL:https://www.jsmw.org
X-WR-CALDESC:Events for JSMW
REFRESH-INTERVAL;VALUE=DURATION:PT1H
X-Robots-Tag:noindex
X-PUBLISHED-TTL:PT1H
BEGIN:VTIMEZONE
TZID:America/New_York
BEGIN:DAYLIGHT
TZOFFSETFROM:-0500
TZOFFSETTO:-0400
TZNAME:EDT
DTSTART:20170312T070000
END:DAYLIGHT
BEGIN:STANDARD
TZOFFSETFROM:-0400
TZOFFSETTO:-0500
TZNAME:EST
DTSTART:20171105T060000
END:STANDARD
BEGIN:DAYLIGHT
TZOFFSETFROM:-0500
TZOFFSETTO:-0400
TZNAME:EDT
DTSTART:20180311T070000
END:DAYLIGHT
BEGIN:STANDARD
TZOFFSETFROM:-0400
TZOFFSETTO:-0500
TZNAME:EST
DTSTART:20181104T060000
END:STANDARD
BEGIN:DAYLIGHT
TZOFFSETFROM:-0500
TZOFFSETTO:-0400
TZNAME:EDT
DTSTART:20190310T070000
END:DAYLIGHT
BEGIN:STANDARD
TZOFFSETFROM:-0400
TZOFFSETTO:-0500
TZNAME:EST
DTSTART:20191103T060000
END:STANDARD
END:VTIMEZONE
BEGIN:VEVENT
DTSTART;TZID=America/New_York:20180323T080000
DTEND;TZID=America/New_York:20180331T170000
DTSTAMP:20260422T163258
CREATED:20180323T152400Z
LAST-MODIFIED:20180323T152400Z
UID:3123-1521792000-1522515600@www.jsmw.org
SUMMARY:Shaswati Navpad Oli/Ayambil
DESCRIPTION:  \nIt is one of the most important Parva / religious festival of the Jain community. Navpad Oli comes twice in a year. The first one falls in the bright fortnight of Ashwina month (September/October) and the second during the bright fortnight of Chaitra month (March/April). The devotees observe Ayambil tapa during nine days of Navpad Oli along with a special kind of worship\, holy recitation and meditation in honor of the Navpad. The word ‘Navpad’ means nine supreme posts of the universe – Arihant\, Siddha\, Acharya\, Upadhyay\, Sadhu\, Darshan (right belief)\, Jnan (right knowledge)\, Charitra (right action) and Tapa (right austerity)   \nJain literature (Kalpasutra) indicates that Navpad Oli is Shaswati\, meaning permenant. Navpad Olifestival exists in all time cycles (past\, present\, and future). This provides significant important to the Navpad Oli. The story of Shripal and Mayanasundari are connected with this observance.   \nWe should try to do Ayambil during these auspicious days.   \nFor more information on SIDDHA CHAKRA & the ritual of the Navpad Oli\, please  read here  \nAyambil Info \n \nThis year\, we will have Ayambil on all 9 days at our temple between 12 and 1 pm except for sunday\, March 25th from 1pm to 2 pm.If you are planning to do ayambil\, please come and do it at temple with sangh. Several members are volunteering to facilitate cooking ayambil food for tapasvis.  \n  \nDuring the auspicious oli days\, we will also have Angi\, Bhavna\, Bhaktamar Pooja and Laghu Siddhachakra Pooja at the temple.\n \nFri\, Mar 23\, 7pm Angi and Bhavna\nSat\, Mar 24\, 10am Bhaktamar Pooja\nThrs\, Mar 29 Mahavir janm Kalyanak\nFri\, Mar 30\, 7pm Angi and Bhavna\nSat\, Mar 31\, 10am Laghu Siddhachakra Pooja. \nSun\, April 1 Ayambil oli tapasvis parnu\n \nSponsorship for Ayambil is $101 per day\nEach of the 9 pooja of Laghu Siddhachakra can be sponsored for $21\n  Please bring your own boiled water. \nPlease send your names for ayambil participation / volunteering to cook Ayambil food / Sponsorship to Pallavi Shah at  (301) 260-1264\, Vaishali Chedda at  (410) 564-4758\,  vaishali.chheda@gmail.com or Jhalak Mehta at  240-461-1802\, Mehta.jhalak@gmail.com \n 
URL:https://www.jsmw.org/event/shaswati-navpad-oli-ayambil/
LOCATION:Jain Center\, 4241 Ammendale Road\, Beltsville\, MD\, 20705\, United States
GEO:39.1049945;-76.9916225
X-APPLE-STRUCTURED-LOCATION;VALUE=URI;X-ADDRESS=Jain Center 4241 Ammendale Road Beltsville MD 20705 United States;X-APPLE-RADIUS=500;X-TITLE=4241 Ammendale Road:geo:-76.9916225,39.1049945
END:VEVENT
END:VCALENDAR