



BEGIN:VCALENDAR
VERSION:2.0
PRODID:-//JSMW - ECPv6.15.20//NONSGML v1.0//EN
CALSCALE:GREGORIAN
METHOD:PUBLISH
X-WR-CALNAME:JSMW
X-ORIGINAL-URL:https://www.jsmw.org
X-WR-CALDESC:Events for JSMW
REFRESH-INTERVAL;VALUE=DURATION:PT1H
X-Robots-Tag:noindex
X-PUBLISHED-TTL:PT1H
BEGIN:VTIMEZONE
TZID:America/New_York
BEGIN:DAYLIGHT
TZOFFSETFROM:-0500
TZOFFSETTO:-0400
TZNAME:EDT
DTSTART:20220313T070000
END:DAYLIGHT
BEGIN:STANDARD
TZOFFSETFROM:-0400
TZOFFSETTO:-0500
TZNAME:EST
DTSTART:20221106T060000
END:STANDARD
BEGIN:DAYLIGHT
TZOFFSETFROM:-0500
TZOFFSETTO:-0400
TZNAME:EDT
DTSTART:20230312T070000
END:DAYLIGHT
BEGIN:STANDARD
TZOFFSETFROM:-0400
TZOFFSETTO:-0500
TZNAME:EST
DTSTART:20231105T060000
END:STANDARD
BEGIN:DAYLIGHT
TZOFFSETFROM:-0500
TZOFFSETTO:-0400
TZNAME:EDT
DTSTART:20240310T070000
END:DAYLIGHT
BEGIN:STANDARD
TZOFFSETFROM:-0400
TZOFFSETTO:-0500
TZNAME:EST
DTSTART:20241103T060000
END:STANDARD
END:VTIMEZONE
BEGIN:VEVENT
DTSTART;TZID=America/New_York:20230830T203000
DTEND;TZID=America/New_York:20230830T220000
DTSTAMP:20260421T022046
CREATED:20230818T024506Z
LAST-MODIFIED:20230823T203426Z
UID:10000570-1693427400-1693432800@www.jsmw.org
SUMMARY:Dr. Samirbhai Shah's Lecture Series
DESCRIPTION:Aug 28th\, 29th & 30th from \nTime: 8:30 pm to 10:30 pm \nSpeaker: Dr. Samirbhai Shah – Resume (Click Here) \nTopic: Dharma Na Chaar Prakaar – Dan\, Sheel\, Tap & Bhavna \nLocation:  Jain Center\, Briggs Chaney\nLanguage – Gujarati \nWe are pleased to announce that Shri Samirbhai Shah\, an eminent Jain scholar from India is visiting the USA. Shri Samirbhai has been conducting Swadhyay and performing Poojans\, for the last 15-16 years\, in the U.S. \nPlease take advantage of this opportunity.
URL:https://www.jsmw.org/event/samirbhailecture20230828/2023-08-30/
END:VEVENT
END:VCALENDAR