



BEGIN:VCALENDAR
VERSION:2.0
PRODID:-//JSMW - ECPv6.15.20//NONSGML v1.0//EN
CALSCALE:GREGORIAN
METHOD:PUBLISH
X-WR-CALNAME:JSMW
X-ORIGINAL-URL:https://www.jsmw.org
X-WR-CALDESC:Events for JSMW
REFRESH-INTERVAL;VALUE=DURATION:PT1H
X-Robots-Tag:noindex
X-PUBLISHED-TTL:PT1H
BEGIN:VTIMEZONE
TZID:America/New_York
BEGIN:DAYLIGHT
TZOFFSETFROM:-0500
TZOFFSETTO:-0400
TZNAME:EDT
DTSTART:20190310T070000
END:DAYLIGHT
BEGIN:STANDARD
TZOFFSETFROM:-0400
TZOFFSETTO:-0500
TZNAME:EST
DTSTART:20191103T060000
END:STANDARD
BEGIN:DAYLIGHT
TZOFFSETFROM:-0500
TZOFFSETTO:-0400
TZNAME:EDT
DTSTART:20200308T070000
END:DAYLIGHT
BEGIN:STANDARD
TZOFFSETFROM:-0400
TZOFFSETTO:-0500
TZNAME:EST
DTSTART:20201101T060000
END:STANDARD
BEGIN:DAYLIGHT
TZOFFSETFROM:-0500
TZOFFSETTO:-0400
TZNAME:EDT
DTSTART:20210314T070000
END:DAYLIGHT
BEGIN:STANDARD
TZOFFSETFROM:-0400
TZOFFSETTO:-0500
TZNAME:EST
DTSTART:20211107T060000
END:STANDARD
END:VTIMEZONE
BEGIN:VEVENT
DTSTART;TZID=America/New_York:20201205T103000
DTEND;TZID=America/New_York:20201205T120000
DTSTAMP:20260422T163318
CREATED:20201112T210211Z
LAST-MODIFIED:20201205T201931Z
UID:27066-1607164200-1607169600@www.jsmw.org
SUMMARY:Quilling- Learn how to make Holiday Cards and ornaments
DESCRIPTION:Youtube link for  Quilling’s Zoom session\nhttps://www.youtube.com/watch?v=3XMFF0Gxuow&feature=youtu.be\n\n\nWe are getting ready for Holidays with making of Christmas ornaments.\nKids 8+ are welcome to join this session.\n\n\n\nQuilling is the art of making cards\, jewelry and other unique items out of colored strips of paper.\nLearn to quill with a professional quiller and make a special ornament!\n\n\n\nRequired materials available on Amazon: https://amzn.to/3pkaL0R\n\n\n\n\n\n\n\n\nJoin Zoom Meeting:\nhttps://zoom.us/j/92703861090?pwd=K09OTHhyTEtFRndjVVd4TGJDM3NxZz09\n\nMeeting ID: 927 0386 1090\nPasscode: 740119
URL:https://www.jsmw.org/event/quilling-learn-how-to-make-holiday-cards-and-ornaments/
ORGANIZER;CN="Women's Group":MAILTO:todayswomen@jainsocietydc.org
END:VEVENT
END:VCALENDAR