



BEGIN:VCALENDAR
VERSION:2.0
PRODID:-//JSMW - ECPv6.15.20//NONSGML v1.0//EN
CALSCALE:GREGORIAN
METHOD:PUBLISH
X-WR-CALNAME:JSMW
X-ORIGINAL-URL:https://www.jsmw.org
X-WR-CALDESC:Events for JSMW
REFRESH-INTERVAL;VALUE=DURATION:PT1H
X-Robots-Tag:noindex
X-PUBLISHED-TTL:PT1H
BEGIN:VTIMEZONE
TZID:America/New_York
BEGIN:DAYLIGHT
TZOFFSETFROM:-0500
TZOFFSETTO:-0400
TZNAME:EDT
DTSTART:20210314T070000
END:DAYLIGHT
BEGIN:STANDARD
TZOFFSETFROM:-0400
TZOFFSETTO:-0500
TZNAME:EST
DTSTART:20211107T060000
END:STANDARD
BEGIN:DAYLIGHT
TZOFFSETFROM:-0500
TZOFFSETTO:-0400
TZNAME:EDT
DTSTART:20220313T070000
END:DAYLIGHT
BEGIN:STANDARD
TZOFFSETFROM:-0400
TZOFFSETTO:-0500
TZNAME:EST
DTSTART:20221106T060000
END:STANDARD
BEGIN:DAYLIGHT
TZOFFSETFROM:-0500
TZOFFSETTO:-0400
TZNAME:EDT
DTSTART:20230312T070000
END:DAYLIGHT
BEGIN:STANDARD
TZOFFSETFROM:-0400
TZOFFSETTO:-0500
TZNAME:EST
DTSTART:20231105T060000
END:STANDARD
END:VTIMEZONE
BEGIN:VEVENT
DTSTART;VALUE=DATE:20220108
DTEND;VALUE=DATE:20220116
DTSTAMP:20260420T133445
CREATED:20220108T160652Z
LAST-MODIFIED:20220108T194309Z
UID:29213-1641600000-1642291199@www.jsmw.org
SUMMARY:Presidential Volunteer Service Award
DESCRIPTION:Deadline For 2021 Hours\nJanuary 15\, 2022\n\n \nVolunteers are worth their weight in gold. They share their time and talents without any compensation\, so it’s crucial to acknowledge their contributions and let them know they are valued. They are critical to the success of our Sangh\, so we want to make sure that we take the time to thank them for their contributions and continued commitment to our Sangh! \nAll JSMW members including current elected or appointed officials can apply. \nJain Society of Metropolitan Washington (JSMW) is a certifying organization and has been granted the authority to administer President’s Voluntary Service Awards to our volunteers. \nThe President’s Volunteer Service Award (PVSA) recognizes\, celebrates and holds up as role models Americans making a positive impact as engaged and deeply committed volunteers. \nThe Award enables community organizations – like JSMW – to amplify their gratitude by joining with the President of the United States to thank their most dedicated volunteers. \nVarious award categories include the official PVSA pin\, medallion\, or coin; a personalized certificate of achievement; a congratulatory letter from the President of the United States; or a combination of all the above. \nPlease use this link –\nhttps://docs.google.com/forms/d/18umm7AndDVWY8zVpFMi5bJ0JzMKKBTidD2_3dCpsovg/viewform?edit_requested=true\nto submit your hours.\n\nWe will ensure that your hours are entered in the PVSA system.\nYou can visit https://www.presidentialserviceawards.gov/  for more details about this system or to get information on various milestones. \nFor questions\, reach out to volunteers@jainsocietydc. org
URL:https://www.jsmw.org/event/presidential-volunteer-service-award/
END:VEVENT
END:VCALENDAR