



BEGIN:VCALENDAR
VERSION:2.0
PRODID:-//JSMW - ECPv6.15.20//NONSGML v1.0//EN
CALSCALE:GREGORIAN
METHOD:PUBLISH
X-WR-CALNAME:JSMW
X-ORIGINAL-URL:https://www.jsmw.org
X-WR-CALDESC:Events for JSMW
REFRESH-INTERVAL;VALUE=DURATION:PT1H
X-Robots-Tag:noindex
X-PUBLISHED-TTL:PT1H
BEGIN:VTIMEZONE
TZID:America/New_York
BEGIN:DAYLIGHT
TZOFFSETFROM:-0500
TZOFFSETTO:-0400
TZNAME:EDT
DTSTART:20200308T070000
END:DAYLIGHT
BEGIN:STANDARD
TZOFFSETFROM:-0400
TZOFFSETTO:-0500
TZNAME:EST
DTSTART:20201101T060000
END:STANDARD
BEGIN:DAYLIGHT
TZOFFSETFROM:-0500
TZOFFSETTO:-0400
TZNAME:EDT
DTSTART:20210314T070000
END:DAYLIGHT
BEGIN:STANDARD
TZOFFSETFROM:-0400
TZOFFSETTO:-0500
TZNAME:EST
DTSTART:20211107T060000
END:STANDARD
BEGIN:DAYLIGHT
TZOFFSETFROM:-0500
TZOFFSETTO:-0400
TZNAME:EDT
DTSTART:20220313T070000
END:DAYLIGHT
BEGIN:STANDARD
TZOFFSETFROM:-0400
TZOFFSETTO:-0500
TZNAME:EST
DTSTART:20221106T060000
END:STANDARD
END:VTIMEZONE
BEGIN:VEVENT
DTSTART;VALUE=DATE:20210904
DTEND;VALUE=DATE:20210913
DTSTAMP:20260420T113205
CREATED:20210903T013750Z
LAST-MODIFIED:20210903T014845Z
UID:28401-1630713600-1631491199@www.jsmw.org
SUMMARY:New Temple Site Visit - Sign up
DESCRIPTION:We welcome you to visit the New Temple Site and see how much of our Dream has become Reality. \nThe visits will be organized in small groups given the active construction site and precautions that we need to take. We will take you on a personalized tour of the site with a knowledgeable member of the construction and fundraising committee guiding through the details. Please sign up for a slot as soon as you can as we expect them to fill up quickly. \nDates: 9/4\, 9/5\, 9/11\, 9/12\nTime: 30 minutes slots between 2 to 4 PM \nNew Temple Visit – Sign up link: https://www.signupgenius.com/go/8050a48a5ac2daaf58-newtemple
URL:https://www.jsmw.org/event/new-temple-site-visit-sign-up/
LOCATION:New Jain Temple Site\, 4241 Ammendale Rd\, Beltsville\, MD\, 20705\, United States
CATEGORIES:New Jain Center
ATTACH;FMTTYPE=image/jpeg:https://www.jsmw.org/wp-content/uploads/2018/12/slider1.jpg
GEO:39.0530946;-76.9180071
X-APPLE-STRUCTURED-LOCATION;VALUE=URI;X-ADDRESS=New Jain Temple Site 4241 Ammendale Rd Beltsville MD 20705 United States;X-APPLE-RADIUS=500;X-TITLE=4241 Ammendale Rd:geo:-76.9180071,39.0530946
END:VEVENT
END:VCALENDAR