



BEGIN:VCALENDAR
VERSION:2.0
PRODID:-//JSMW - ECPv6.15.20//NONSGML v1.0//EN
CALSCALE:GREGORIAN
METHOD:PUBLISH
X-WR-CALNAME:JSMW
X-ORIGINAL-URL:https://www.jsmw.org
X-WR-CALDESC:Events for JSMW
REFRESH-INTERVAL;VALUE=DURATION:PT1H
X-Robots-Tag:noindex
X-PUBLISHED-TTL:PT1H
BEGIN:VTIMEZONE
TZID:America/New_York
BEGIN:DAYLIGHT
TZOFFSETFROM:-0500
TZOFFSETTO:-0400
TZNAME:EDT
DTSTART:20220313T070000
END:DAYLIGHT
BEGIN:STANDARD
TZOFFSETFROM:-0400
TZOFFSETTO:-0500
TZNAME:EST
DTSTART:20221106T060000
END:STANDARD
BEGIN:DAYLIGHT
TZOFFSETFROM:-0500
TZOFFSETTO:-0400
TZNAME:EDT
DTSTART:20230312T070000
END:DAYLIGHT
BEGIN:STANDARD
TZOFFSETFROM:-0400
TZOFFSETTO:-0500
TZNAME:EST
DTSTART:20231105T060000
END:STANDARD
BEGIN:DAYLIGHT
TZOFFSETFROM:-0500
TZOFFSETTO:-0400
TZNAME:EDT
DTSTART:20240310T070000
END:DAYLIGHT
BEGIN:STANDARD
TZOFFSETFROM:-0400
TZOFFSETTO:-0500
TZNAME:EST
DTSTART:20241103T060000
END:STANDARD
END:VTIMEZONE
BEGIN:VEVENT
DTSTART;TZID=America/New_York:20230325T130000
DTEND;TZID=America/New_York:20230325T190000
DTSTAMP:20260422T124554
CREATED:20230301T164326Z
LAST-MODIFIED:20230301T174007Z
UID:34094-1679749200-1679770800@www.jsmw.org
SUMMARY:Mahavir Janma Kalyanak Celebrations
DESCRIPTION:On March 25\, 2023\, we will be celebrating Bhagwan Mahavir Swami’s Janma Kalyanak\, a very auspicious day for all Jains. Our celebration will feature stage performances followed by Swamivatsalya dinner. \nWe kindly request you to register for dinner so we can minimize food waste and order enough food for everyone. For any questions or for more information\, please reach out to the MJK team at mjk@jainsocietydc.org  \nRegistration Link: http://www.jsmw.org/mjk-2023
URL:https://www.jsmw.org/event/mjk-2023-event/
LOCATION:Eleanor Roosevelt High School\, 7601 Hanover Parkway\, Greenbelt\, MD\, 20770\, United States
GEO:38.9946853;-76.8693936
X-APPLE-STRUCTURED-LOCATION;VALUE=URI;X-ADDRESS=Eleanor Roosevelt High School 7601 Hanover Parkway Greenbelt MD 20770 United States;X-APPLE-RADIUS=500;X-TITLE=7601 Hanover Parkway:geo:-76.8693936,38.9946853
END:VEVENT
END:VCALENDAR