



BEGIN:VCALENDAR
VERSION:2.0
PRODID:-//JSMW - ECPv6.15.20//NONSGML v1.0//EN
CALSCALE:GREGORIAN
METHOD:PUBLISH
X-WR-CALNAME:JSMW
X-ORIGINAL-URL:https://www.jsmw.org
X-WR-CALDESC:Events for JSMW
REFRESH-INTERVAL;VALUE=DURATION:PT1H
X-Robots-Tag:noindex
X-PUBLISHED-TTL:PT1H
BEGIN:VTIMEZONE
TZID:America/New_York
BEGIN:DAYLIGHT
TZOFFSETFROM:-0500
TZOFFSETTO:-0400
TZNAME:EDT
DTSTART:20230312T070000
END:DAYLIGHT
BEGIN:STANDARD
TZOFFSETFROM:-0400
TZOFFSETTO:-0500
TZNAME:EST
DTSTART:20231105T060000
END:STANDARD
BEGIN:DAYLIGHT
TZOFFSETFROM:-0500
TZOFFSETTO:-0400
TZNAME:EDT
DTSTART:20240310T070000
END:DAYLIGHT
BEGIN:STANDARD
TZOFFSETFROM:-0400
TZOFFSETTO:-0500
TZNAME:EST
DTSTART:20241103T060000
END:STANDARD
BEGIN:DAYLIGHT
TZOFFSETFROM:-0500
TZOFFSETTO:-0400
TZNAME:EDT
DTSTART:20250309T070000
END:DAYLIGHT
BEGIN:STANDARD
TZOFFSETFROM:-0400
TZOFFSETTO:-0500
TZNAME:EST
DTSTART:20251102T060000
END:STANDARD
END:VTIMEZONE
BEGIN:VEVENT
DTSTART;TZID=America/New_York:20240224T150000
DTEND;TZID=America/New_York:20240224T170000
DTSTAMP:20260420T231136
CREATED:20240213T162054Z
LAST-MODIFIED:20240213T162054Z
UID:38193-1708786800-1708794000@www.jsmw.org
SUMMARY:JSMW Sr. Group Meeting
DESCRIPTION:Our First Kick “Meet & Greet” for JSMW Sr. Group will be held on Saturday February 24\, 2024 @ 3pm – 5pm at Jain Center – Briggs Chaney. \nREGISTRATION REQUIRED \nRSVP for the event: https://bit.ly/SrGrpRSVP202402 \nRegister to become a member: https://bit.ly/SrGroupRegistration \nJoin the WhatsApp Group: https://bit.ly/SrGroupWhatsApp \nAgenda \n\nMeet and Greet & Light Refreshments\nPlans for 2024\nQ&A
URL:https://www.jsmw.org/event/jsmw-sr-group-meeting/
END:VEVENT
END:VCALENDAR