



BEGIN:VCALENDAR
VERSION:2.0
PRODID:-//JSMW - ECPv6.15.20//NONSGML v1.0//EN
CALSCALE:GREGORIAN
METHOD:PUBLISH
X-WR-CALNAME:JSMW
X-ORIGINAL-URL:https://www.jsmw.org
X-WR-CALDESC:Events for JSMW
REFRESH-INTERVAL;VALUE=DURATION:PT1H
X-Robots-Tag:noindex
X-PUBLISHED-TTL:PT1H
BEGIN:VTIMEZONE
TZID:America/New_York
BEGIN:DAYLIGHT
TZOFFSETFROM:-0500
TZOFFSETTO:-0400
TZNAME:EDT
DTSTART:20160313T070000
END:DAYLIGHT
BEGIN:STANDARD
TZOFFSETFROM:-0400
TZOFFSETTO:-0500
TZNAME:EST
DTSTART:20161106T060000
END:STANDARD
BEGIN:DAYLIGHT
TZOFFSETFROM:-0500
TZOFFSETTO:-0400
TZNAME:EDT
DTSTART:20170312T070000
END:DAYLIGHT
BEGIN:STANDARD
TZOFFSETFROM:-0400
TZOFFSETTO:-0500
TZNAME:EST
DTSTART:20171105T060000
END:STANDARD
BEGIN:DAYLIGHT
TZOFFSETFROM:-0500
TZOFFSETTO:-0400
TZNAME:EDT
DTSTART:20180311T070000
END:DAYLIGHT
BEGIN:STANDARD
TZOFFSETFROM:-0400
TZOFFSETTO:-0500
TZNAME:EST
DTSTART:20181104T060000
END:STANDARD
END:VTIMEZONE
BEGIN:VEVENT
DTSTART;VALUE=DATE:20170728
DTEND;VALUE=DATE:20170731
DTSTAMP:20260422T163408
CREATED:20170714T015000Z
LAST-MODIFIED:20170714T015000Z
UID:2237-1501200000-1501459199@www.jsmw.org
SUMMARY:JSMW Panch Tirth Yatra
DESCRIPTION:Tirth Yatra – July 28 to 30 – PA\, OH\, IL\, MI  \nWe are happy to report back to you that our planning for Panch Tirth Yatra\, currently scheduled for the July 28-30\, is now complete. \nWe will be visiting the following Jain temples: \n\nHindu Jain Temple\, Monroeville\, PA\nJain Society of Greater Cleveland\, Richfield\, OH\nJain Center of Metropolitan Chicago\, Bartlett\, IL\nChicago downtown sightseeing & Swaminarayan temple.\nJain Society of Greater Detroit\, Farmington Hills\, MI\nJain Center of Toledo\, Toledo\, OH\n(BONUS) Swaminarayan Temple\, Pittsburg\, PA (tentative)\n\nWe will be providing a tentative schedule for the entire bus trip in the email to follow sometime next week. \nPlease complete attached registration form\, including your email addresses by July 10th and send it to the address on the form. You can also scan and send us your completed registration form via email to Allap Shah (allapshah@gmail.com) or Mehul Doshi (mehul_doshi@yahoo.com). \nYatra Registration Form \nAlso\, yatrees are welcome to become labhpatis by paying an additional donation of $251 for any of the Jain Temples listed above. To become labhpati\, please contact Allap Shah (562-587- 5524) or Mehul Doshi (267-374- 1003).
URL:https://www.jsmw.org/event/jsmw-panch-tirth-yatra/
END:VEVENT
END:VCALENDAR