



BEGIN:VCALENDAR
VERSION:2.0
PRODID:-//JSMW - ECPv6.15.20//NONSGML v1.0//EN
CALSCALE:GREGORIAN
METHOD:PUBLISH
X-WR-CALNAME:JSMW
X-ORIGINAL-URL:https://www.jsmw.org
X-WR-CALDESC:Events for JSMW
REFRESH-INTERVAL;VALUE=DURATION:PT1H
X-Robots-Tag:noindex
X-PUBLISHED-TTL:PT1H
BEGIN:VTIMEZONE
TZID:America/New_York
BEGIN:DAYLIGHT
TZOFFSETFROM:-0500
TZOFFSETTO:-0400
TZNAME:EDT
DTSTART:20200308T070000
END:DAYLIGHT
BEGIN:STANDARD
TZOFFSETFROM:-0400
TZOFFSETTO:-0500
TZNAME:EST
DTSTART:20201101T060000
END:STANDARD
BEGIN:DAYLIGHT
TZOFFSETFROM:-0500
TZOFFSETTO:-0400
TZNAME:EDT
DTSTART:20210314T070000
END:DAYLIGHT
BEGIN:STANDARD
TZOFFSETFROM:-0400
TZOFFSETTO:-0500
TZNAME:EST
DTSTART:20211107T060000
END:STANDARD
BEGIN:DAYLIGHT
TZOFFSETFROM:-0500
TZOFFSETTO:-0400
TZNAME:EDT
DTSTART:20220313T070000
END:DAYLIGHT
BEGIN:STANDARD
TZOFFSETFROM:-0400
TZOFFSETTO:-0500
TZNAME:EST
DTSTART:20221106T060000
END:STANDARD
END:VTIMEZONE
BEGIN:VEVENT
DTSTART;TZID=America/New_York:20210107T080000
DTEND;TZID=America/New_York:20210107T170000
DTSTAMP:20260422T163355
CREATED:20210107T170304Z
LAST-MODIFIED:20210107T170304Z
UID:27289-1610006400-1610038800@www.jsmw.org
SUMMARY:JSMW & JYOC- Career Fair
DESCRIPTION:JSMW is planning a Career Fair for High School Students in Late May / Early June.  We are planning for a virtual forum where our High School Students can interact with members of the Sangh to help in their College Application / College Career. Our goal is to provide our students advice and insight we wish we’d known when we were their age. \nWe’ve received input from our High School and Middle School Students in which careers they are interested in learning more about and potentially pursuing. We could use the help of the Sangh to give insight and advice to our future.  If you’ve studied or worked in these fields\, your insight and advice is valuable.  As we plan this event\, we’ll match youth with adults\, and hopefully arrange an insightful and helpful session. \n\n\nIf you are interested in joining the virtual career fair as an experience professional\, please let Raju Mansukhlal Shah (raju.shah@aya.yale.edu) know or fill in your contact info directly in the below google sheet.. \nCareer Fair Input Form- click here
URL:https://www.jsmw.org/event/jsmw-jyoc-career-fair/
END:VEVENT
END:VCALENDAR