



BEGIN:VCALENDAR
VERSION:2.0
PRODID:-//JSMW - ECPv6.15.20//NONSGML v1.0//EN
CALSCALE:GREGORIAN
METHOD:PUBLISH
X-WR-CALNAME:JSMW
X-ORIGINAL-URL:https://www.jsmw.org
X-WR-CALDESC:Events for JSMW
REFRESH-INTERVAL;VALUE=DURATION:PT1H
X-Robots-Tag:noindex
X-PUBLISHED-TTL:PT1H
BEGIN:VTIMEZONE
TZID:America/New_York
BEGIN:DAYLIGHT
TZOFFSETFROM:-0500
TZOFFSETTO:-0400
TZNAME:EDT
DTSTART:20160313T070000
END:DAYLIGHT
BEGIN:STANDARD
TZOFFSETFROM:-0400
TZOFFSETTO:-0500
TZNAME:EST
DTSTART:20161106T060000
END:STANDARD
BEGIN:DAYLIGHT
TZOFFSETFROM:-0500
TZOFFSETTO:-0400
TZNAME:EDT
DTSTART:20170312T070000
END:DAYLIGHT
BEGIN:STANDARD
TZOFFSETFROM:-0400
TZOFFSETTO:-0500
TZNAME:EST
DTSTART:20171105T060000
END:STANDARD
BEGIN:DAYLIGHT
TZOFFSETFROM:-0500
TZOFFSETTO:-0400
TZNAME:EDT
DTSTART:20180311T070000
END:DAYLIGHT
BEGIN:STANDARD
TZOFFSETFROM:-0400
TZOFFSETTO:-0500
TZNAME:EST
DTSTART:20181104T060000
END:STANDARD
END:VTIMEZONE
BEGIN:VEVENT
DTSTART;TZID=America/New_York:20171019T080000
DTEND;TZID=America/New_York:20171020T223000
DTSTAMP:20260422T172943
CREATED:20171012T214211Z
LAST-MODIFIED:20171012T214211Z
UID:2553-1508400000-1508538600@www.jsmw.org
SUMMARY:JSMW Diwali Celebration
DESCRIPTION:  \nDiwali Laddoo Puja \n Thursday\, October 19th\, 8 AM at Jain Center \n Contact: Aatam Dhanote  adhanote@gmail.com \nDiwali Jaap \n Thursday\, October 19th\, 8 – 9 PM at Jain Center \nSnatra Puja \n Friday\, October 20th\, 9:30 – 11.30 AM at Jain Center \n No Lunch \n  \n Nav Smaran Jaap\, Bhavna and Garba \n Friday October 20th\, 8 PM onwards at Jain Center \n  \n Diwali Prabhavna will be provided to take home! \n Contact: events@jainsocietydc.org
URL:https://www.jsmw.org/event/jsmw-diwali-celebration/
LOCATION:Jain Center\, 4241 Ammendale Road\, Beltsville\, MD\, 20705\, United States
GEO:39.1049945;-76.9916225
X-APPLE-STRUCTURED-LOCATION;VALUE=URI;X-ADDRESS=Jain Center 4241 Ammendale Road Beltsville MD 20705 United States;X-APPLE-RADIUS=500;X-TITLE=4241 Ammendale Road:geo:-76.9916225,39.1049945
END:VEVENT
END:VCALENDAR