



BEGIN:VCALENDAR
VERSION:2.0
PRODID:-//JSMW - ECPv6.15.20//NONSGML v1.0//EN
CALSCALE:GREGORIAN
METHOD:PUBLISH
X-WR-CALNAME:JSMW
X-ORIGINAL-URL:https://www.jsmw.org
X-WR-CALDESC:Events for JSMW
REFRESH-INTERVAL;VALUE=DURATION:PT1H
X-Robots-Tag:noindex
X-PUBLISHED-TTL:PT1H
BEGIN:VTIMEZONE
TZID:America/New_York
BEGIN:DAYLIGHT
TZOFFSETFROM:-0500
TZOFFSETTO:-0400
TZNAME:EDT
DTSTART:20230312T070000
END:DAYLIGHT
BEGIN:STANDARD
TZOFFSETFROM:-0400
TZOFFSETTO:-0500
TZNAME:EST
DTSTART:20231105T060000
END:STANDARD
BEGIN:DAYLIGHT
TZOFFSETFROM:-0500
TZOFFSETTO:-0400
TZNAME:EDT
DTSTART:20240310T070000
END:DAYLIGHT
BEGIN:STANDARD
TZOFFSETFROM:-0400
TZOFFSETTO:-0500
TZNAME:EST
DTSTART:20241103T060000
END:STANDARD
BEGIN:DAYLIGHT
TZOFFSETFROM:-0500
TZOFFSETTO:-0400
TZNAME:EDT
DTSTART:20250309T070000
END:DAYLIGHT
BEGIN:STANDARD
TZOFFSETFROM:-0400
TZOFFSETTO:-0500
TZNAME:EST
DTSTART:20251102T060000
END:STANDARD
END:VTIMEZONE
BEGIN:VEVENT
DTSTART;TZID=America/New_York:20240309T103000
DTEND;TZID=America/New_York:20240309T120000
DTSTAMP:20260421T060955
CREATED:20240221T015727Z
LAST-MODIFIED:20240221T015727Z
UID:38222-1709980200-1709985600@www.jsmw.org
SUMMARY:Jinvani
DESCRIPTION:Monthly Jinvani\nDate: March 9\, 2024\nTime: 10:30am – 12:00pm EST\nLocation: Jain Center\, 1021 Briggs Chaney Road\, Silver Spring MD 20905 \nRSVP Link: https://docs.google.com/forms/d/e/1FAIpQLScdsvhqW2rD7iHPxN22TWpkKuDNMkPeHrpdLVuBIh-izretTw/viewform \nAgenda\n\nWe will start Samayik sharp at 10.30am\n5 times Navkar Mantra Jap\nRecorded Pravachan by  Param Pujya Namramuni Maharaj Saheb\n\nSponsors\n\nDineshbhai and Bhavanaben Mehta\nDevangbhai and Raniben Ajmera
URL:https://www.jsmw.org/event/jinvani_202403/
END:VEVENT
END:VCALENDAR