



BEGIN:VCALENDAR
VERSION:2.0
PRODID:-//JSMW - ECPv6.15.20//NONSGML v1.0//EN
CALSCALE:GREGORIAN
METHOD:PUBLISH
X-WR-CALNAME:JSMW
X-ORIGINAL-URL:https://www.jsmw.org
X-WR-CALDESC:Events for JSMW
REFRESH-INTERVAL;VALUE=DURATION:PT1H
X-Robots-Tag:noindex
X-PUBLISHED-TTL:PT1H
BEGIN:VTIMEZONE
TZID:America/New_York
BEGIN:DAYLIGHT
TZOFFSETFROM:-0500
TZOFFSETTO:-0400
TZNAME:EDT
DTSTART:20220313T070000
END:DAYLIGHT
BEGIN:STANDARD
TZOFFSETFROM:-0400
TZOFFSETTO:-0500
TZNAME:EST
DTSTART:20221106T060000
END:STANDARD
BEGIN:DAYLIGHT
TZOFFSETFROM:-0500
TZOFFSETTO:-0400
TZNAME:EDT
DTSTART:20230312T070000
END:DAYLIGHT
BEGIN:STANDARD
TZOFFSETFROM:-0400
TZOFFSETTO:-0500
TZNAME:EST
DTSTART:20231105T060000
END:STANDARD
BEGIN:DAYLIGHT
TZOFFSETFROM:-0500
TZOFFSETTO:-0400
TZNAME:EDT
DTSTART:20240310T070000
END:DAYLIGHT
BEGIN:STANDARD
TZOFFSETFROM:-0400
TZOFFSETTO:-0500
TZNAME:EST
DTSTART:20241103T060000
END:STANDARD
END:VTIMEZONE
BEGIN:VEVENT
DTSTART;TZID=America/New_York:20230909T103000
DTEND;TZID=America/New_York:20230909T120000
DTSTAMP:20260421T002124
CREATED:20230130T044728Z
LAST-MODIFIED:20230224T041259Z
UID:33784-1694255400-1694260800@www.jsmw.org
SUMMARY:Jinvani
DESCRIPTION:Monthly Jinvani\nTime: 10:30am – 12:00pm EST\nLocation: Jain Center\, 1021 Briggs Chaney Road\, Silver Spring MD 20905 \nRSVP Link: https://docs.google.com/forms/d/e/1FAIpQLScdsvhqW2rD7iHPxN22TWpkKuDNMkPeHrpdLVuBIh-izretTw/viewform \n2023 Dates: \n\nMarch 11\nApril 8\nMay 6\nJune 10\nJuly 8\nAugust 12\nSeptember 9\nOctober 14\nNovember 11\nDecember 9
URL:https://www.jsmw.org/event/jinvani_202309/
END:VEVENT
END:VCALENDAR