



BEGIN:VCALENDAR
VERSION:2.0
PRODID:-//JSMW - ECPv6.15.20//NONSGML v1.0//EN
CALSCALE:GREGORIAN
METHOD:PUBLISH
X-WR-CALNAME:JSMW
X-ORIGINAL-URL:https://www.jsmw.org
X-WR-CALDESC:Events for JSMW
REFRESH-INTERVAL;VALUE=DURATION:PT1H
X-Robots-Tag:noindex
X-PUBLISHED-TTL:PT1H
BEGIN:VTIMEZONE
TZID:America/New_York
BEGIN:DAYLIGHT
TZOFFSETFROM:-0500
TZOFFSETTO:-0400
TZNAME:EDT
DTSTART:20210314T070000
END:DAYLIGHT
BEGIN:STANDARD
TZOFFSETFROM:-0400
TZOFFSETTO:-0500
TZNAME:EST
DTSTART:20211107T060000
END:STANDARD
BEGIN:DAYLIGHT
TZOFFSETFROM:-0500
TZOFFSETTO:-0400
TZNAME:EDT
DTSTART:20220313T070000
END:DAYLIGHT
BEGIN:STANDARD
TZOFFSETFROM:-0400
TZOFFSETTO:-0500
TZNAME:EST
DTSTART:20221106T060000
END:STANDARD
BEGIN:DAYLIGHT
TZOFFSETFROM:-0500
TZOFFSETTO:-0400
TZNAME:EDT
DTSTART:20230312T070000
END:DAYLIGHT
BEGIN:STANDARD
TZOFFSETFROM:-0400
TZOFFSETTO:-0500
TZNAME:EST
DTSTART:20231105T060000
END:STANDARD
END:VTIMEZONE
BEGIN:VEVENT
DTSTART;TZID=America/New_York:20220313T113000
DTEND;TZID=America/New_York:20220313T143000
DTSTAMP:20260420T152144
CREATED:20220223T053044Z
LAST-MODIFIED:20220310T045336Z
UID:29544-1647171000-1647181800@www.jsmw.org
SUMMARY:Jinvani
DESCRIPTION:Our monthly Jinvani event will be held on March 13\, 2022 at our Jain Center located at 1021 Briggs Chaney Road\, Silver Spring MD 20905.\nWe will start our Samayik promptly at 11:30 am followed by Bhaktamar & Ratnakar Pachisi.\nWe would like to thank our sponsor for this month\, Devang & Rani Ajmera along with Chetan & Sonal Ajmera.\nPlease RSVP for this event (link provided below)\nPlease bring your Samayik Upkaran along with Bhaktamar Stotra books.\n\n\nRSVP Registration Link: https://docs.google.com/forms/d/1-ymcJVcz7o2J1Ie9pyh2XTLLFwsJcN_A1SqIA6NQBcI/edit?ts=61836264
URL:https://www.jsmw.org/event/jinvani/
LOCATION:Jain Center\, 4241 Ammendale Road\, Beltsville\, MD\, 20705\, United States
GEO:39.1049945;-76.9916225
X-APPLE-STRUCTURED-LOCATION;VALUE=URI;X-ADDRESS=Jain Center 4241 Ammendale Road Beltsville MD 20705 United States;X-APPLE-RADIUS=500;X-TITLE=4241 Ammendale Road:geo:-76.9916225,39.1049945
END:VEVENT
END:VCALENDAR