



BEGIN:VCALENDAR
VERSION:2.0
PRODID:-//JSMW - ECPv6.15.20//NONSGML v1.0//EN
CALSCALE:GREGORIAN
METHOD:PUBLISH
X-WR-CALNAME:JSMW
X-ORIGINAL-URL:https://www.jsmw.org
X-WR-CALDESC:Events for JSMW
REFRESH-INTERVAL;VALUE=DURATION:PT1H
X-Robots-Tag:noindex
X-PUBLISHED-TTL:PT1H
BEGIN:VTIMEZONE
TZID:America/New_York
BEGIN:DAYLIGHT
TZOFFSETFROM:-0500
TZOFFSETTO:-0400
TZNAME:EDT
DTSTART:20170312T070000
END:DAYLIGHT
BEGIN:STANDARD
TZOFFSETFROM:-0400
TZOFFSETTO:-0500
TZNAME:EST
DTSTART:20171105T060000
END:STANDARD
BEGIN:DAYLIGHT
TZOFFSETFROM:-0500
TZOFFSETTO:-0400
TZNAME:EDT
DTSTART:20180311T070000
END:DAYLIGHT
BEGIN:STANDARD
TZOFFSETFROM:-0400
TZOFFSETTO:-0500
TZNAME:EST
DTSTART:20181104T060000
END:STANDARD
BEGIN:DAYLIGHT
TZOFFSETFROM:-0500
TZOFFSETTO:-0400
TZNAME:EDT
DTSTART:20190310T070000
END:DAYLIGHT
BEGIN:STANDARD
TZOFFSETFROM:-0400
TZOFFSETTO:-0500
TZNAME:EST
DTSTART:20191103T060000
END:STANDARD
END:VTIMEZONE
BEGIN:VEVENT
DTSTART;TZID=America/New_York:20180825T103000
DTEND;TZID=America/New_York:20180825T133000
DTSTAMP:20260422T161810
CREATED:20180822T122254Z
LAST-MODIFIED:20220314T050809Z
UID:3475-1535193000-1535203800@www.jsmw.org
SUMMARY:Jinvani
DESCRIPTION:Monthly Jinvani Event \nSaturday\, August 25 – 10:30 AM \nJain Center Lunch \nRSVP By August 22  \nOur monthly Jinvani event will be held on  August 25th \, 2018 at 10:30 am at our Jain Center located at 1021 Briggs Chaney Road\, Silver Spring MD 20905. \n  \nBelow is the agenda for the Jinvani Event: \nStarting with Navakar we will recite Bhaktamer with detail explanation of the 7th and 8th Bhaktamar Gatha followed by 18 Papasthan Stavan. Please bring your Samayik upkaran along with Stotra books.  \n\nThe sponsors for the August 25th 2018 event are: \nNirmala and Navin Vora \nSubhash and Arti Choxi  \n\nPlease RSVP for lunch by August 22 by clicking here.  \n\nFor questions\, please contact: \nYash Mehta\, mehtaya@gmail.com
URL:https://www.jsmw.org/event/jinvani-event-aug-2018/
LOCATION:Jain Center\, 4241 Ammendale Road\, Beltsville\, MD\, 20705\, United States
GEO:39.1049945;-76.9916225
X-APPLE-STRUCTURED-LOCATION;VALUE=URI;X-ADDRESS=Jain Center 4241 Ammendale Road Beltsville MD 20705 United States;X-APPLE-RADIUS=500;X-TITLE=4241 Ammendale Road:geo:-76.9916225,39.1049945
END:VEVENT
END:VCALENDAR