



BEGIN:VCALENDAR
VERSION:2.0
PRODID:-//JSMW - ECPv6.15.20//NONSGML v1.0//EN
CALSCALE:GREGORIAN
METHOD:PUBLISH
X-WR-CALNAME:JSMW
X-ORIGINAL-URL:https://www.jsmw.org
X-WR-CALDESC:Events for JSMW
REFRESH-INTERVAL;VALUE=DURATION:PT1H
X-Robots-Tag:noindex
X-PUBLISHED-TTL:PT1H
BEGIN:VTIMEZONE
TZID:America/New_York
BEGIN:DAYLIGHT
TZOFFSETFROM:-0500
TZOFFSETTO:-0400
TZNAME:EDT
DTSTART:20200308T070000
END:DAYLIGHT
BEGIN:STANDARD
TZOFFSETFROM:-0400
TZOFFSETTO:-0500
TZNAME:EST
DTSTART:20201101T060000
END:STANDARD
BEGIN:DAYLIGHT
TZOFFSETFROM:-0500
TZOFFSETTO:-0400
TZNAME:EDT
DTSTART:20210314T070000
END:DAYLIGHT
BEGIN:STANDARD
TZOFFSETFROM:-0400
TZOFFSETTO:-0500
TZNAME:EST
DTSTART:20211107T060000
END:STANDARD
BEGIN:DAYLIGHT
TZOFFSETFROM:-0500
TZOFFSETTO:-0400
TZNAME:EDT
DTSTART:20220313T070000
END:DAYLIGHT
BEGIN:STANDARD
TZOFFSETFROM:-0400
TZOFFSETTO:-0500
TZNAME:EST
DTSTART:20221106T060000
END:STANDARD
END:VTIMEZONE
BEGIN:VEVENT
DTSTART;TZID=America/New_York:20210220T103000
DTEND;TZID=America/New_York:20210220T120000
DTSTAMP:20260423T055610
CREATED:20210205T153100Z
LAST-MODIFIED:20210205T191053Z
UID:27341-1613817000-1613822400@www.jsmw.org
SUMMARY:Impact of Social Media on Youth
DESCRIPTION:Medstar Health providers will discuss the impact of social media on youth. Learn how to support your child by healthy social media practices and learn strategies to avoid harmful behaviors. \n  \nZoom Info.: \nTopic: Impact of Social Media on Youth\nTime: Feb 20\, 2021 10:30 AM Eastern Time (US and Canada) \nJoin Zoom Meeting\nhttps://zoom.us/j/98295913102?pwd=dDlVNHhYcVg1Z1c5eExJdDRGVnR2QT09 \nMeeting ID: 982 9591 3102\nPasscode: 751694\nOne tap mobile\n+13017158592\,\,98295913102#\,\,\,\,*751694# US (Washington DC)\n+13126266799\,\,98295913102#\,\,\,\,*751694# US (Chicago) \nDial by your location\n+1 301 715 8592 US (Washington DC)\n+1 312 626 6799 US (Chicago)\n+1 646 558 8656 US (New York)\n+1 669 900 9128 US (San Jose)\n+1 253 215 8782 US (Tacoma)\n+1 346 248 7799 US (Houston)\nMeeting ID: 982 9591 3102\nPasscode: 751694\nFind your local number: https://zoom.us/u/abln22ynrP \n 
URL:https://www.jsmw.org/event/impact-of-social-media-among-kids/
END:VEVENT
END:VCALENDAR