



BEGIN:VCALENDAR
VERSION:2.0
PRODID:-//JSMW - ECPv6.15.20//NONSGML v1.0//EN
CALSCALE:GREGORIAN
METHOD:PUBLISH
X-WR-CALNAME:JSMW
X-ORIGINAL-URL:https://www.jsmw.org
X-WR-CALDESC:Events for JSMW
REFRESH-INTERVAL;VALUE=DURATION:PT1H
X-Robots-Tag:noindex
X-PUBLISHED-TTL:PT1H
BEGIN:VTIMEZONE
TZID:America/New_York
BEGIN:DAYLIGHT
TZOFFSETFROM:-0500
TZOFFSETTO:-0400
TZNAME:EDT
DTSTART:20180311T070000
END:DAYLIGHT
BEGIN:STANDARD
TZOFFSETFROM:-0400
TZOFFSETTO:-0500
TZNAME:EST
DTSTART:20181104T060000
END:STANDARD
BEGIN:DAYLIGHT
TZOFFSETFROM:-0500
TZOFFSETTO:-0400
TZNAME:EDT
DTSTART:20190310T070000
END:DAYLIGHT
BEGIN:STANDARD
TZOFFSETFROM:-0400
TZOFFSETTO:-0500
TZNAME:EST
DTSTART:20191103T060000
END:STANDARD
BEGIN:DAYLIGHT
TZOFFSETFROM:-0500
TZOFFSETTO:-0400
TZNAME:EDT
DTSTART:20200308T070000
END:DAYLIGHT
BEGIN:STANDARD
TZOFFSETFROM:-0400
TZOFFSETTO:-0500
TZNAME:EST
DTSTART:20201101T060000
END:STANDARD
END:VTIMEZONE
BEGIN:VEVENT
DTSTART;TZID=America/New_York:20190915T103000
DTEND;TZID=America/New_York:20190915T120000
DTSTAMP:20260422T084918
CREATED:20190909T233109Z
LAST-MODIFIED:20190910T011315Z
UID:10964-1568543400-1568548800@www.jsmw.org
SUMMARY:General Body Meeting
DESCRIPTION:All JSMW members are requested and highly encouraged to attend the upcoming General Body meeting. \n\nDate: Sunday\, September 15\, 2019\nTime: 10:30 am\nVenue: Cloverly Elementary School\, Silver Spring\, MD 20904\n\nPlease join as we discuss several important updates and upcoming events for our society. \nWe highly encourage you to take this opportunity to bring your questions\, comments and concerns to our EC\, BOT\, Temple Committe and any other groups. \nYour participation in the community discussion and decision-making event is vital.
URL:https://www.jsmw.org/event/general-body-meeting-2/
LOCATION:Cloverly Elementary\, 800 Briggs Chaney Rd\, Silver Spring\, MD\, 20905\, United States
ATTACH;FMTTYPE=image/png:https://www.jsmw.org/wp-content/uploads/2019/09/teamwork-1-1.png
GEO:39.1081739;-76.9939173
X-APPLE-STRUCTURED-LOCATION;VALUE=URI;X-ADDRESS=Cloverly Elementary 800 Briggs Chaney Rd Silver Spring MD 20905 United States;X-APPLE-RADIUS=500;X-TITLE=800 Briggs Chaney Rd:geo:-76.9939173,39.1081739
END:VEVENT
END:VCALENDAR