



BEGIN:VCALENDAR
VERSION:2.0
PRODID:-//JSMW - ECPv6.15.20//NONSGML v1.0//EN
CALSCALE:GREGORIAN
METHOD:PUBLISH
X-WR-CALNAME:JSMW
X-ORIGINAL-URL:https://www.jsmw.org
X-WR-CALDESC:Events for JSMW
REFRESH-INTERVAL;VALUE=DURATION:PT1H
X-Robots-Tag:noindex
X-PUBLISHED-TTL:PT1H
BEGIN:VTIMEZONE
TZID:America/New_York
BEGIN:DAYLIGHT
TZOFFSETFROM:-0500
TZOFFSETTO:-0400
TZNAME:EDT
DTSTART:20220313T070000
END:DAYLIGHT
BEGIN:STANDARD
TZOFFSETFROM:-0400
TZOFFSETTO:-0500
TZNAME:EST
DTSTART:20221106T060000
END:STANDARD
BEGIN:DAYLIGHT
TZOFFSETFROM:-0500
TZOFFSETTO:-0400
TZNAME:EDT
DTSTART:20230312T070000
END:DAYLIGHT
BEGIN:STANDARD
TZOFFSETFROM:-0400
TZOFFSETTO:-0500
TZNAME:EST
DTSTART:20231105T060000
END:STANDARD
BEGIN:DAYLIGHT
TZOFFSETFROM:-0500
TZOFFSETTO:-0400
TZNAME:EDT
DTSTART:20240310T070000
END:DAYLIGHT
BEGIN:STANDARD
TZOFFSETFROM:-0400
TZOFFSETTO:-0500
TZNAME:EST
DTSTART:20241103T060000
END:STANDARD
END:VTIMEZONE
BEGIN:VEVENT
DTSTART;TZID=America/New_York:20230930T100000
DTEND;TZID=America/New_York:20230930T140000
DTSTAMP:20260422T032242
CREATED:20230224T050428Z
LAST-MODIFIED:20251212T211506Z
UID:33981-1696068000-1696082400@www.jsmw.org
SUMMARY:Dev Shastra Guru Puja
DESCRIPTION:Dev Shashtra Guru Puja\nKhamavani Puja\n\nTime: 10:00am – 2:00pm\nLocation: Jain Center \nContact:\nSamir Tatiya | samir.tatiya@gmail.com | 703-388-6249\nAatam Dhanote | adhanote@gmail.com \nThis puja honors the Dev\, Shastra\, and Guru.\n– Dev means God or Arihant or Siddha\n– Shastra means Scriptures\n– Guru means Teachers or one who possesses “real knowledge.” \nBy honoring Dev\, Shastra\, and Guru\, we draw attention to these three entities as a means for our path to liberation. \n2023 Dates \nSeptember 30 – Kshamavani Puja\nOctober 22 – Monthly Puja\nNovember 13 – Mahaveer Nirvaan/Diwali Puja\nNovember 26 – Monthly Puja
URL:https://www.jsmw.org/event/dsgp_20230930/
END:VEVENT
END:VCALENDAR