



BEGIN:VCALENDAR
VERSION:2.0
PRODID:-//JSMW - ECPv6.15.20//NONSGML v1.0//EN
CALSCALE:GREGORIAN
METHOD:PUBLISH
X-WR-CALNAME:JSMW
X-ORIGINAL-URL:https://www.jsmw.org
X-WR-CALDESC:Events for JSMW
REFRESH-INTERVAL;VALUE=DURATION:PT1H
X-Robots-Tag:noindex
X-PUBLISHED-TTL:PT1H
BEGIN:VTIMEZONE
TZID:America/New_York
BEGIN:DAYLIGHT
TZOFFSETFROM:-0500
TZOFFSETTO:-0400
TZNAME:EDT
DTSTART:20220313T070000
END:DAYLIGHT
BEGIN:STANDARD
TZOFFSETFROM:-0400
TZOFFSETTO:-0500
TZNAME:EST
DTSTART:20221106T060000
END:STANDARD
BEGIN:DAYLIGHT
TZOFFSETFROM:-0500
TZOFFSETTO:-0400
TZNAME:EDT
DTSTART:20230312T070000
END:DAYLIGHT
BEGIN:STANDARD
TZOFFSETFROM:-0400
TZOFFSETTO:-0500
TZNAME:EST
DTSTART:20231105T060000
END:STANDARD
BEGIN:DAYLIGHT
TZOFFSETFROM:-0500
TZOFFSETTO:-0400
TZNAME:EDT
DTSTART:20240310T070000
END:DAYLIGHT
BEGIN:STANDARD
TZOFFSETFROM:-0400
TZOFFSETTO:-0500
TZNAME:EST
DTSTART:20241103T060000
END:STANDARD
END:VTIMEZONE
BEGIN:VEVENT
DTSTART;VALUE=DATE:20230919
DTEND;VALUE=DATE:20230929
DTSTAMP:20260422T032415
CREATED:20230918T210033Z
LAST-MODIFIED:20230918T210234Z
UID:36375-1695081600-1695945599@www.jsmw.org
SUMMARY:Das Lakshan
DESCRIPTION:Full Program Details: https://www.jsmw.org/daslakshan-2023 \nDuring Daslakshan Mahaparva 2023\, we look forward to all joining in various opportunities of Dharma labh. \n\nWeekday evenings we will have Paath\, Aarti\, and Pravachan with Dr. Kamala Mehta at the Jain Center focusing on the 10 Dharma.\n\nOn Saturday and Sunday\, we will be performing Panch Meru Vidhaan and starting the preparation for the Nagar Pravesh of our new Bhagwans. \n\nSee below for details and available Labhs for the Vidhaan.\n\nGeneral Donations\nPanch Meru Vidhaan Labhs\nLunch RSVP
URL:https://www.jsmw.org/event/daslakshan-2023/
END:VEVENT
END:VCALENDAR