



BEGIN:VCALENDAR
VERSION:2.0
PRODID:-//JSMW - ECPv6.15.20//NONSGML v1.0//EN
CALSCALE:GREGORIAN
METHOD:PUBLISH
X-WR-CALNAME:JSMW
X-ORIGINAL-URL:https://www.jsmw.org
X-WR-CALDESC:Events for JSMW
REFRESH-INTERVAL;VALUE=DURATION:PT1H
X-Robots-Tag:noindex
X-PUBLISHED-TTL:PT1H
BEGIN:VTIMEZONE
TZID:America/New_York
BEGIN:DAYLIGHT
TZOFFSETFROM:-0500
TZOFFSETTO:-0400
TZNAME:EDT
DTSTART:20200308T070000
END:DAYLIGHT
BEGIN:STANDARD
TZOFFSETFROM:-0400
TZOFFSETTO:-0500
TZNAME:EST
DTSTART:20201101T060000
END:STANDARD
BEGIN:DAYLIGHT
TZOFFSETFROM:-0500
TZOFFSETTO:-0400
TZNAME:EDT
DTSTART:20210314T070000
END:DAYLIGHT
BEGIN:STANDARD
TZOFFSETFROM:-0400
TZOFFSETTO:-0500
TZNAME:EST
DTSTART:20211107T060000
END:STANDARD
BEGIN:DAYLIGHT
TZOFFSETFROM:-0500
TZOFFSETTO:-0400
TZNAME:EDT
DTSTART:20220313T070000
END:DAYLIGHT
BEGIN:STANDARD
TZOFFSETFROM:-0400
TZOFFSETTO:-0500
TZNAME:EST
DTSTART:20221106T060000
END:STANDARD
END:VTIMEZONE
BEGIN:VEVENT
DTSTART;TZID=America/New_York:20210807T120000
DTEND;TZID=America/New_York:20210807T140000
DTSTAMP:20260420T131733
CREATED:20210804T204514Z
LAST-MODIFIED:20210804T204514Z
UID:28031-1628337600-1628344800@www.jsmw.org
SUMMARY:College Fair
DESCRIPTION:Following on from the Career Fair in June\, please join us for our next session – a discussion about colleges on August 7th from 12 to 2 PM.  Join several of our JSMW college students as they discuss their college journeys.  We’ll discuss their applications\, the factors in their decision of what colleges to apply and ultimately go to\, what college life was like for them\, and many other topics. \n\nTo register\, fill out this form:\nhttps://forms.gle/pav3zWMJo5ZyTUYo9
URL:https://www.jsmw.org/event/college-fair/
END:VEVENT
END:VCALENDAR