



BEGIN:VCALENDAR
VERSION:2.0
PRODID:-//JSMW - ECPv6.15.20//NONSGML v1.0//EN
CALSCALE:GREGORIAN
METHOD:PUBLISH
X-WR-CALNAME:JSMW
X-ORIGINAL-URL:https://www.jsmw.org
X-WR-CALDESC:Events for JSMW
REFRESH-INTERVAL;VALUE=DURATION:PT1H
X-Robots-Tag:noindex
X-PUBLISHED-TTL:PT1H
BEGIN:VTIMEZONE
TZID:America/New_York
BEGIN:DAYLIGHT
TZOFFSETFROM:-0500
TZOFFSETTO:-0400
TZNAME:EDT
DTSTART:20200308T070000
END:DAYLIGHT
BEGIN:STANDARD
TZOFFSETFROM:-0400
TZOFFSETTO:-0500
TZNAME:EST
DTSTART:20201101T060000
END:STANDARD
BEGIN:DAYLIGHT
TZOFFSETFROM:-0500
TZOFFSETTO:-0400
TZNAME:EDT
DTSTART:20210314T070000
END:DAYLIGHT
BEGIN:STANDARD
TZOFFSETFROM:-0400
TZOFFSETTO:-0500
TZNAME:EST
DTSTART:20211107T060000
END:STANDARD
BEGIN:DAYLIGHT
TZOFFSETFROM:-0500
TZOFFSETTO:-0400
TZNAME:EDT
DTSTART:20220313T070000
END:DAYLIGHT
BEGIN:STANDARD
TZOFFSETFROM:-0400
TZOFFSETTO:-0500
TZNAME:EST
DTSTART:20221106T060000
END:STANDARD
END:VTIMEZONE
BEGIN:VEVENT
DTSTART;TZID=America/New_York:20210220T103000
DTEND;TZID=America/New_York:20210220T120000
DTSTAMP:20260420T185639
CREATED:20210214T214659Z
LAST-MODIFIED:20210214T214659Z
UID:27351-1613817000-1613822400@www.jsmw.org
SUMMARY:Champakbhai Swadhyay on Nav Smaran Stotra
DESCRIPTION:નમો નાણસ્સ.. ‘પરમ પથ’ ઓનલાઇન પાઠશાળા પ્રણામ પૂજ્ય પંડિતવર્ય શ્રી ચંપકભાઇ મહેતા (ગુરુજી) ઘ્વારા શ્રી  નવસ્મરણ સ્તોત્રોની સમજણ આપતી પ્રવચનમાળા. તિજયપહુત્ત સ્તોત્ર\, નમિઉણ સ્તોત્ર\, ભક્તામર સ્તોત્ર\, કલ્યાણમંદિર સ્તોત્ર \nPujya Panditvarya Shri Champakbhai (Guruji) conducts swadhyay on Shri Nav Smaran Stotras. \nસમય || Time::  (February 20 & 21) & ( March 6\,7)  2021 (Sat & sun) \nINDIA 9:00 PM  USA: 10:30 AM Eastern\, 9:30 AM Central\, 7:30 AM Pacific UK: 3:30PM \nMore dates to be announced later. \nZoom : https://us02web.zoom.us/j/85373487640?pwd=NytyYndxMGE3QWhNZzZ5M1NTWFVqZz09 \nYouTube: Details to come… \nSponsored by Jain society of Metropolitan Washington on the eve of new temple construction of Shankeswar Parshwanath
URL:https://www.jsmw.org/event/champakbhai-swadhyay-on-nav-smaran-stotra/
END:VEVENT
END:VCALENDAR