



BEGIN:VCALENDAR
VERSION:2.0
PRODID:-//JSMW - ECPv6.15.20//NONSGML v1.0//EN
CALSCALE:GREGORIAN
METHOD:PUBLISH
X-WR-CALNAME:JSMW
X-ORIGINAL-URL:https://www.jsmw.org
X-WR-CALDESC:Events for JSMW
REFRESH-INTERVAL;VALUE=DURATION:PT1H
X-Robots-Tag:noindex
X-PUBLISHED-TTL:PT1H
BEGIN:VTIMEZONE
TZID:America/New_York
BEGIN:DAYLIGHT
TZOFFSETFROM:-0500
TZOFFSETTO:-0400
TZNAME:EDT
DTSTART:20200308T070000
END:DAYLIGHT
BEGIN:STANDARD
TZOFFSETFROM:-0400
TZOFFSETTO:-0500
TZNAME:EST
DTSTART:20201101T060000
END:STANDARD
BEGIN:DAYLIGHT
TZOFFSETFROM:-0500
TZOFFSETTO:-0400
TZNAME:EDT
DTSTART:20210314T070000
END:DAYLIGHT
BEGIN:STANDARD
TZOFFSETFROM:-0400
TZOFFSETTO:-0500
TZNAME:EST
DTSTART:20211107T060000
END:STANDARD
BEGIN:DAYLIGHT
TZOFFSETFROM:-0500
TZOFFSETTO:-0400
TZNAME:EDT
DTSTART:20220313T070000
END:DAYLIGHT
BEGIN:STANDARD
TZOFFSETFROM:-0400
TZOFFSETTO:-0500
TZNAME:EST
DTSTART:20221106T060000
END:STANDARD
END:VTIMEZONE
BEGIN:VEVENT
DTSTART;VALUE=DATE:20211002
DTEND;VALUE=DATE:20211003
DTSTAMP:20260420T123220
CREATED:20210909T191509Z
LAST-MODIFIED:20230909T054815Z
UID:28649-1633132800-1633219199@www.jsmw.org
SUMMARY:Chalo for Chai & Charcha
DESCRIPTION:
URL:https://www.jsmw.org/event/chalo-for-chai-charcha/
LOCATION:Black Hill Regional Park\, 20930 Lake Ridge Dr\, Boyds\, MD\, 20841\, United States
CATEGORIES:Wellness
ORGANIZER;CN="JSMW Executive Committee":MAILTO:ec@jainsocietydc.org
GEO:39.2038177;-77.285865
X-APPLE-STRUCTURED-LOCATION;VALUE=URI;X-ADDRESS=Black Hill Regional Park 20930 Lake Ridge Dr Boyds MD 20841 United States;X-APPLE-RADIUS=500;X-TITLE=20930 Lake Ridge Dr:geo:-77.285865,39.2038177
END:VEVENT
END:VCALENDAR