



BEGIN:VCALENDAR
VERSION:2.0
PRODID:-//JSMW - ECPv6.15.20//NONSGML v1.0//EN
CALSCALE:GREGORIAN
METHOD:PUBLISH
X-WR-CALNAME:JSMW
X-ORIGINAL-URL:https://www.jsmw.org
X-WR-CALDESC:Events for JSMW
REFRESH-INTERVAL;VALUE=DURATION:PT1H
X-Robots-Tag:noindex
X-PUBLISHED-TTL:PT1H
BEGIN:VTIMEZONE
TZID:America/New_York
BEGIN:DAYLIGHT
TZOFFSETFROM:-0500
TZOFFSETTO:-0400
TZNAME:EDT
DTSTART:20220313T070000
END:DAYLIGHT
BEGIN:STANDARD
TZOFFSETFROM:-0400
TZOFFSETTO:-0500
TZNAME:EST
DTSTART:20221106T060000
END:STANDARD
BEGIN:DAYLIGHT
TZOFFSETFROM:-0500
TZOFFSETTO:-0400
TZNAME:EDT
DTSTART:20230312T070000
END:DAYLIGHT
BEGIN:STANDARD
TZOFFSETFROM:-0400
TZOFFSETTO:-0500
TZNAME:EST
DTSTART:20231105T060000
END:STANDARD
BEGIN:DAYLIGHT
TZOFFSETFROM:-0500
TZOFFSETTO:-0400
TZNAME:EDT
DTSTART:20240310T070000
END:DAYLIGHT
BEGIN:STANDARD
TZOFFSETFROM:-0400
TZOFFSETTO:-0500
TZNAME:EST
DTSTART:20241103T060000
END:STANDARD
END:VTIMEZONE
BEGIN:VEVENT
DTSTART;TZID=America/New_York:20231007T060000
DTEND;TZID=America/New_York:20231008T220000
DTSTAMP:20260422T010905
CREATED:20230512T220209Z
LAST-MODIFIED:20251212T211506Z
UID:35207-1696658400-1696802400@www.jsmw.org
SUMMARY:Chaitya Paripati 2023
DESCRIPTION:Chaitya Paripati is one of the essentials of Paryushan\, where Shravak or Shravika makes a pilgrim (jatra) to a Chaitya (Temple). This pilgrimage is done after Paryushan for worship\, prayer and meditation by visiting 5 different Chaityas (temples). \nWith this in mind\, we have planned a Chaitya Paripati – visit to 5 Jain temples during the weekend of Oct 7-8\, 2023. \n\nCherry Hill (NJ)\nFranklin Town (NJ)\nSiddhachalam (NJ)\nJain Center of Allentown (PA)\nJain Center of Central Pennsylvania (PA)\n\nWe will leave at 6.30 AM on Saturday\, Oct 7 from our Jain Center\, and return at 9:30 PM on Sunday\, Oct 8th with overnight stay at Siddhachalam. There might be some changes to the list of temples we are visiting though we are not expecting any changes at this time. We will provide the final itinerary with the arrival/departure times at each of this locations to all participants few days before the Oct 7\, 2023. \nPlease reach out to Mehul Doshi (Cell: 240-703-6930) for any questions regarding Registration. \nCharges for this 2-day trip are only $150 per adult and $125 per child (12 years and below). The charges include transportation\, food and overnight stay at Siddhachalam. \nMembers are welcome to become sponsors by selecting below options. \nSponsorship Opportunity \n1. Bus Yatra / Trip Sponsor – $1001 (2 Seats Free)\n2. Sanghpati Labh per Temple – $201 (Maximum 2 Sanghpatis for each temple to be visited)\n3. Navkarshi Sponsors – $101 per day (Multiple)\n4. General Donation (Any amount) \nFor Sponsorship and any other donations towards Tirth Yatra\, please reach out to Nimesh Chheda (Cell: 410-717-8503) OR Allap Shah (Cell: 562-587-5524) \nIf you (members and their immediate family members) are interested in this fun-filled religious trip\, please submit the online form https://forms.gle/eESpTa2bbqm5a4qy9 \nSeats will be reserved on a first come first served basis on the receipt of the online payment and the form. Please note that children below 18 will not be allowed unless accompanied by an adult.
URL:https://www.jsmw.org/event/chaitya-paripati-2023/
END:VEVENT
END:VCALENDAR