



BEGIN:VCALENDAR
VERSION:2.0
PRODID:-//JSMW - ECPv6.15.20//NONSGML v1.0//EN
CALSCALE:GREGORIAN
METHOD:PUBLISH
X-WR-CALNAME:JSMW
X-ORIGINAL-URL:https://www.jsmw.org
X-WR-CALDESC:Events for JSMW
REFRESH-INTERVAL;VALUE=DURATION:PT1H
X-Robots-Tag:noindex
X-PUBLISHED-TTL:PT1H
BEGIN:VTIMEZONE
TZID:America/New_York
BEGIN:DAYLIGHT
TZOFFSETFROM:-0500
TZOFFSETTO:-0400
TZNAME:EDT
DTSTART:20180311T070000
END:DAYLIGHT
BEGIN:STANDARD
TZOFFSETFROM:-0400
TZOFFSETTO:-0500
TZNAME:EST
DTSTART:20181104T060000
END:STANDARD
BEGIN:DAYLIGHT
TZOFFSETFROM:-0500
TZOFFSETTO:-0400
TZNAME:EDT
DTSTART:20190310T070000
END:DAYLIGHT
BEGIN:STANDARD
TZOFFSETFROM:-0400
TZOFFSETTO:-0500
TZNAME:EST
DTSTART:20191103T060000
END:STANDARD
BEGIN:DAYLIGHT
TZOFFSETFROM:-0500
TZOFFSETTO:-0400
TZNAME:EDT
DTSTART:20200308T070000
END:DAYLIGHT
BEGIN:STANDARD
TZOFFSETFROM:-0400
TZOFFSETTO:-0500
TZNAME:EST
DTSTART:20201101T060000
END:STANDARD
END:VTIMEZONE
BEGIN:VEVENT
DTSTART;TZID=America/New_York:20190413T090000
DTEND;TZID=America/New_York:20190413T110000
DTSTAMP:20260422T213820
CREATED:20190402T132712Z
LAST-MODIFIED:20190402T132712Z
UID:3847-1555146000-1555153200@www.jsmw.org
SUMMARY:Bhaktamar Stotra Pooja
DESCRIPTION:JSMW will have Bhakatmar Pooja on April 13 from 9.00am to 12.00 pm. To participate for this auspicious pooja is only 21.00 donation to dearasar.  \nPlease provide your name to participate to Vaishali Chheda at vaishali.chheda@gmail.com \nBhaktamara Stotra is a famous Jain Sanskrit prayer. It was composed by Acharya Manatunga (seventh century CE).[1] The name Bhaktamara comes from a combination of two Sanskrit names\, “Bhakta” (Devotee) and “Amar” (Immortal). It is said that when he was shackled by the king\, he composed the Stotra\, and as he recited every verse of the Stotra\, each chain broke open.  These verses describe the fine qualities of Jineshwar Bhagwan. When recited with commitment\, sincerity and devotion\, this magnificent composition has the latent power to lighten our karmic load and connect us with the Jineshwar Bhagwan or the divinity within. \n \n 
URL:https://www.jsmw.org/event/bhaktamar-stotra-pooja/
LOCATION:Jain Center\, 4241 Ammendale Road\, Beltsville\, MD\, 20705\, United States
GEO:39.1049945;-76.9916225
X-APPLE-STRUCTURED-LOCATION;VALUE=URI;X-ADDRESS=Jain Center 4241 Ammendale Road Beltsville MD 20705 United States;X-APPLE-RADIUS=500;X-TITLE=4241 Ammendale Road:geo:-76.9916225,39.1049945
END:VEVENT
END:VCALENDAR