



BEGIN:VCALENDAR
VERSION:2.0
PRODID:-//JSMW - ECPv6.15.20//NONSGML v1.0//EN
CALSCALE:GREGORIAN
METHOD:PUBLISH
X-WR-CALNAME:JSMW
X-ORIGINAL-URL:https://www.jsmw.org
X-WR-CALDESC:Events for JSMW
REFRESH-INTERVAL;VALUE=DURATION:PT1H
X-Robots-Tag:noindex
X-PUBLISHED-TTL:PT1H
BEGIN:VTIMEZONE
TZID:America/New_York
BEGIN:DAYLIGHT
TZOFFSETFROM:-0500
TZOFFSETTO:-0400
TZNAME:EDT
DTSTART:20180311T070000
END:DAYLIGHT
BEGIN:STANDARD
TZOFFSETFROM:-0400
TZOFFSETTO:-0500
TZNAME:EST
DTSTART:20181104T060000
END:STANDARD
BEGIN:DAYLIGHT
TZOFFSETFROM:-0500
TZOFFSETTO:-0400
TZNAME:EDT
DTSTART:20190310T070000
END:DAYLIGHT
BEGIN:STANDARD
TZOFFSETFROM:-0400
TZOFFSETTO:-0500
TZNAME:EST
DTSTART:20191103T060000
END:STANDARD
BEGIN:DAYLIGHT
TZOFFSETFROM:-0500
TZOFFSETTO:-0400
TZNAME:EDT
DTSTART:20200308T070000
END:DAYLIGHT
BEGIN:STANDARD
TZOFFSETFROM:-0400
TZOFFSETTO:-0500
TZNAME:EST
DTSTART:20201101T060000
END:STANDARD
END:VTIMEZONE
BEGIN:VEVENT
DTSTART;TZID=America/New_York:20190411T120000
DTEND;TZID=America/New_York:20190419T130000
DTSTAMP:20260422T163409
CREATED:20190402T125433Z
LAST-MODIFIED:20190402T125433Z
UID:3837-1554984000-1555678800@www.jsmw.org
SUMMARY:Ayambil Oli
DESCRIPTION:Chaitramas Ayambil Oli – 4/11/2019-4/19/2019 (Noon to 1.00pm)\nWe will have Ayambil on all 9 days at our temple between 12 and 1 pm. Please come to Derasar if you are doing Ayambil\, we have many volunteers making Ayambil food for tapaisvis. Please bring your own boil water.  \nAyambil Sponsorship for all 9 days is only $101.00 each\, we need Volunteers for all 9 days\, greatly appreciate your RSVP.  \nPlease contact Vaishali Chheda at vaishali.chheda@gmail.com for sponsorship or any questions.  \nAyambil Oli is a festival of 9 days celebrating and paying homage to the Navpad (The Navpad are also found in the Navkar Mantra). Nava means nine in Sanskrit and Prakrit languages and Pada means post. Hence the word Navapada means nine supreme posts of the universe. These nine are Arihant\, Siddha\, Acharya\, Upadhyaya\, Sadhu\, Samyak Darshan\, Samyak Gnan\, Samyak Charitra and Samyak Tapa. Jain literature (Kalpasutra) indicates that Navpad Oli is Shaswati\, meaning permenant. Navpad Olifestival exists in all time cycles (past\, present\, and future). This provides significant important to the Navpad Oli. The story of Shripal and Mayanasundari are connected with this observance. 
URL:https://www.jsmw.org/event/ayambil-oli/
LOCATION:Jain Center\, 4241 Ammendale Road\, Beltsville\, MD\, 20705\, United States
GEO:39.1049945;-76.9916225
X-APPLE-STRUCTURED-LOCATION;VALUE=URI;X-ADDRESS=Jain Center 4241 Ammendale Road Beltsville MD 20705 United States;X-APPLE-RADIUS=500;X-TITLE=4241 Ammendale Road:geo:-76.9916225,39.1049945
END:VEVENT
END:VCALENDAR