



BEGIN:VCALENDAR
VERSION:2.0
PRODID:-//JSMW - ECPv6.15.20//NONSGML v1.0//EN
CALSCALE:GREGORIAN
METHOD:PUBLISH
X-WR-CALNAME:JSMW
X-ORIGINAL-URL:https://www.jsmw.org
X-WR-CALDESC:Events for JSMW
REFRESH-INTERVAL;VALUE=DURATION:PT1H
X-Robots-Tag:noindex
X-PUBLISHED-TTL:PT1H
BEGIN:VTIMEZONE
TZID:America/New_York
BEGIN:DAYLIGHT
TZOFFSETFROM:-0500
TZOFFSETTO:-0400
TZNAME:EDT
DTSTART:20230312T070000
END:DAYLIGHT
BEGIN:STANDARD
TZOFFSETFROM:-0400
TZOFFSETTO:-0500
TZNAME:EST
DTSTART:20231105T060000
END:STANDARD
BEGIN:DAYLIGHT
TZOFFSETFROM:-0500
TZOFFSETTO:-0400
TZNAME:EDT
DTSTART:20240310T070000
END:DAYLIGHT
BEGIN:STANDARD
TZOFFSETFROM:-0400
TZOFFSETTO:-0500
TZNAME:EST
DTSTART:20241103T060000
END:STANDARD
BEGIN:DAYLIGHT
TZOFFSETFROM:-0500
TZOFFSETTO:-0400
TZNAME:EDT
DTSTART:20250309T070000
END:DAYLIGHT
BEGIN:STANDARD
TZOFFSETFROM:-0400
TZOFFSETTO:-0500
TZNAME:EST
DTSTART:20251102T060000
END:STANDARD
END:VTIMEZONE
BEGIN:VEVENT
DTSTART;VALUE=DATE:20241010
DTEND;VALUE=DATE:20241011
DTSTAMP:20260421T005434
CREATED:20240131T063356Z
LAST-MODIFIED:20240410T005040Z
UID:10000994-1728561600-1728568800@www.jsmw.org
SUMMARY:Ayambil Oli
DESCRIPTION:Ayambil Oli\n\n\nOctober 9\, 2024  to October 17\, 2024\n\nLocation: – Jain Center \, Briggs Chaney\n\n\n\n\n\nThis year\, we will be having Ayambil on all 9 days at our temple between 12 and 1 PM. (Please note that Oct 21st time may slightly change. Stay tuned.) If you are planning to do Ayambil\, then please come and do it at temple with Sangh.\n\nSeveral members are volunteering to facilitate cooking ayambil food for tapasvis.\n\nPlease send your names for ayambil participation / volunteering to cook Ayambil food / Sponsorship to\nVaishali Chedda at (410) 564-4758 or   vaishali.chheda@gmail.com\n\nSponsorship for Ayambil is $101 per day.\n\nPlease do bring your own boiled water. \n\nMeaning & Importance of Navpad Oli\nIt is one of the most important Parva / religious festival of the Jain community. Navpad Oli comes twice in a year. The first one falls in the bright fortnight of Ashwina month (September/October) and the second during the bright fortnight of Chaitra month (March/April). The devotees observe Ayambil tapa during nine days of Navpad Oli along with a special kind of worship\, holy recitation and meditation in honor of the Navpad. The word ‘Navpad’ means nine supreme posts of the universe – Arihant\, Siddha\, Acharya\, Upadhyay\, Sadhu\, Darshan (right belief)\, Jnan (right knowledge)\, Charitra (right action) and Tapa (right austerity)\n\nJain literature (Kalpasutra) indicates that Navpad Oli is Shaswati\, meaning permanant. Navpad Oli festival exists in all time cycles (past\, present\, and future). This provides significant importance to the Navpad Oli. The story of Shripal and Mayanasundari are connected with this observance.\n\nWe should try to do Ayambil during these auspicious days.
URL:https://www.jsmw.org/event/ayambil-oli-3/2024-10-10/
END:VEVENT
END:VCALENDAR